Workbook

Sheet 变更记录
A1: 版本号 | B1: 变更内容 | C1: 变更日期 | D1: 变更人
B2: 增加变更记录页 | C2: 2023.1.31 | D2: zhu wenqiang
B3: OEM:增加新设备1256 PM计划 | C3: 2023.1.31 | D3: zhu wenqiang
B4: OEM:增加新设备1258 PM计划 | C4: 2023.1.31 | D4: zhu wenqiang
B5: OEM:增加新设备1259 PM计划 | C5: 2023.1.31 | D5: zhu wenqiang
B6: OEM:增加新设备1260 PM计划 | C6: 2023.1.31 | D6: zhu wenqiang
B7: OEM:增加新设备1261 PM计划 | C7: 2023.1.31 | D7: zhu wenqiang
B8: OEM:增加新设备1262 PM计划 | C8: 2023.1.31 | D8: zhu wenqiang
B9: OEM:取消报废设备678 PM计划(删除线) | C9: 2023.1.31 | D9: zhu wenqiang
B10: OEM:取消报废设备329 PM计划(删除线) | C10: 2023.1.31 | D10: zhu wenqiang
B11: KH:取消报废设备556 PM计划(删除线) | C11: 2023.1.31 | D11: zhu wenqiang
B12: KH:取消报废设备561 PM计划(删除线) | C12: 2023.1.31 | D12: zhu wenqiang
B13: KH:取消报废设备634 PM计划(删除线) | C13: 2023.1.31 | D13: zhu wenqiang
... B26: OEM增加新设备1303-1321 PM计划(1316除外) | C26: 2023.6.30 | D26: zhu wenqiang

Sheet KH设备PM计划
A1: KH设备 23/8 月PM计划 | Q1: SUM:h | R1: =SUBTOTAL(9,R3:R994) -> 18 | S1: SUM:h | T1: =SUBTOTAL(9,T3:T994) -> 47.27 | U1: SUM:h | V1: =SUBTOTAL(9,V3:V994) -> 18 | W1: SUM:h | X1: =SUBTOTAL(9,X3:X994) -> 18 | Y1: SUM:h | Z1: =SUBTOTAL(9,Z3:Z994) -> 58.27 | AA1: SUM:h | AB1: =SUBTOTAL(9,AB3:AB994) -> 18 | AC1: SUM:h | AD1: =SUBTOTAL(9,AD3:AD994) -> 18 | AE1: SUM:h | AF1: =SUBTOTAL(9,AF3:AF994) -> 63.68 | AG1: SUM:h | AH1: =SUBTOTAL(9,AH3:AH994) -> 18 | AI1: SUM:h | AJ1: =SUBTOTAL(9,AJ3:AJ994) -> 18 | AK1: SUM:h | AL1: =SUBTOTAL(9,AL3:AL994) -> 80.14 | AM1: SUM:h | AN1: =SUBTOTAL(9,AN3:AN994) -> 18
A2: No. 序号 | B2: 本月编号 | C2: PM人员 | D2: 设备编号 | E2: Equipment Name 设备名称 | F2: Model & Specification 型号规格 | G2: Manufacturer 制造厂家 | H2: Serial Number 出厂编号 | I2: Using Date 投产年月 | J2: 设备类别 | K2: Equipment Status 设备状态 | L2: Installation Location 安装地点 | M2: 出厂日期 | N2: 所属单元 | O2: PM文件号 | P2: PM频次 | Q2: 23/1月 | R2: PM:h | S2: 23/2月 | T2: PM:h | U2: 23/3月 | V2: PM:h | W2: 23/4月 | X2: PM:h | Y2: 23/5月 | Z2: PM:h | AA2: 23/6月 | AB2: PM:h | AC2: 23/7月 | AD2: PM:h | AE2: 23/8月 | AF2: PM:h | AG2: 22/9月 | AH2: PM:h | AI2: 22/10月 | AJ2: PM:h | AK2: 22/11月 | AL2: PM:h | AM2: 22/12月 | AN2: PM:h | AO2: 新PM起始月份 | AP2: 备注
A3: 1 | B3: =SUBTOTAL(3,G$3:G3)+0 -> 0 | D3: 50 | E3: 台式钻床 | F3: Z4116B | G3: 常州台钻厂 | H3: 35759 | I3: 1998 | J3: B类 | K3: 运行中 | L3: KH一楼北 | M3: N/A | N3: KH创伤单元 | O3: #N/A | R3: {=_xlfn.IFS(Q3="Monthly",VLOOKUP($O3,PM执行时间!$A:$E,2,0),Q3="Quarterly",VLOOKUP($O3,PM执行时间!$A:$E,3,0),Q3="Semi-an",VLOOKUP($O3,PM执行时间!$A:$E,4,0),Q3="Annual",VLOOKUP($O3,PM执行时间!$A:$E,5,0),Q3="","")} | T3: {=_xlfn.IFS(S3="Monthly",VLOOKUP($O3,PM执行时间!$A:$E,2,0),S3="Quarterly",VLOOKUP($O3,PM执行时间!$A:$E,3,0),S3="Semi-an",VLOOKUP($O3,PM执行时间!$A:$E,4,0),S3="Annual",VLOOKUP($O3,PM执行时间!$A:$E,5,0),S3="","")} | V3: {=_xlfn.IFS(U3="Monthly",VLOOKUP($O3,PM执行时间!$A:$E,2,0),U3="Quarterly",VLOOKUP($O3,PM执行时间!$A:$E,3,0),U3="Semi-an",VLOOKUP($O3,PM执行时间!$A:$E,4,0),U3="Annual",VLOOKUP($O3,PM执行时间!$A:$E,5,0),U3="","")} | X3: {=_xlfn.IFS(W3="Monthly",VLOOKUP($O3,PM执行时间!$A:$E,2,0),W3="Quarterly",VLOOKUP($O3,PM执行时间!$A:$E,3,0),W3="Semi-an",VLOOKUP($O3,PM执行时间!$A:$E,4,0),W3="Annual",VLOOKUP($O3,PM执行时间!$A:$E,5,0),W3="","")} | Z3: {=_xlfn.IFS(Y3="Monthly",VLOOKUP($O3,PM执行时间!$A:$E,2,0),Y3="Quarterly",VLOOKUP($O3,PM执行时间!$A:$E,3,0),Y3="Semi-an",VLOOKUP($O3,PM执行时间!$A:$E,4,0),Y3="Annual",VLOOKUP($O3,PM执行时间!$A:$E,5,0),Y3="","")} | AB3: {=_xlfn.IFS(AA3="Monthly",VLOOKUP($O3,PM执行时间!$A:$E,2,0),AA3="Quarterly",VLOOKUP($O3,PM执行时间!$A:$E,3,0),AA3="Semi-an",VLOOKUP($O3,PM执行时间!$A:$E,4,0),AA3="Annual",VLOOKUP($O3,PM执行时间!$A:$E,5,0),AA3="","")} | AD3: {=_xlfn.IFS(AC3="Monthly",VLOOKUP($O3,PM执行时间!$A:$E,2,0),AC3="Quarterly",VLOOKUP($O3,PM执行时间!$A:$E,3,0),AC3="Semi-an",VLOOKUP($O3,PM执行时间!$A:$E,4,0),AC3="Annual",VLOOKUP($O3,PM执行时间!$A:$E,5,0),AC3="","")} | AF3: {=_xlfn.IFS(AE3="Monthly",VLOOKUP($O3,PM执行时间!$A:$E,2,0),AE3="Quarterly",VLOOKUP($O3,PM执行时间!$A:$E,3,0),AE3="Semi-an",VLOOKUP($O3,PM执行时间!$A:$E,4,0),AE3="Annual",VLOOKUP($O3,PM执行时间!$A:$E,5,0),AE3="","")} | AH3: {=_xlfn.IFS(AG3="Monthly",VLOOKUP($O3,PM执行时间!$A:$E,2,0),AG3="Quarterly",VLOOKUP($O3,PM执行时间!$A:$E,3,0),AG3="Semi-an",VLOOKUP($O3,PM执行时间!$A:$E,4,0),AG3="Annual",VLOOKUP($O3,PM执行时间!$A:$E,5,0),AG3="","")} | AJ3: {=_xlfn.IFS(AI3="Monthly",VLOOKUP($O3,PM执行时间!$A:$E,2,0),AI3="Quarterly",VLOOKUP($O3,PM执行时间!$A:$E,3,0),AI3="Semi-an",VLOOKUP($O3,PM执行时间!$A:$E,4,0),AI3="Annual",VLOOKUP($O3,PM执行时间!$A:$E,5,0),AI3="","")} | AL3: {=_xlfn.IFS(AK3="Monthly",VLOOKUP($O3,PM执行时间!$A:$E,2,0),AK3="Quarterly",VLOOKUP($O3,PM执行时间!$A:$E,3,0),AK3="Semi-an",VLOOKUP($O3,PM执行时间!$A:$E,4,0),AK3="Annual",VLOOKUP($O3,PM执行时间!$A:$E,5,0),AK3="","")} | AN3: {=_xlfn.IFS(AM3="Monthly",VLOOKUP($O3,PM执行时间!$A:$E,2,0),AM3="Quarterly",VLOOKUP($O3,PM执行时间!$A:$E,3,0),AM3="Semi-an",VLOOKUP($O3,PM执行时间!$A:$E,4,0),AM3="Annual",VLOOKUP($O3,PM执行时间!$A:$E,5,0),AM3="","")}
A4: 2 | B4: =SUBTOTAL(3,G$3:G4)+0 -> 0 | D4: 55 | E4: 干燥箱 | F4: SX2-10-12.400*250*160 | G4: 上海实验电炉厂 | H4: 58 | I4: 35400 | J4: B类 | K4: 运行中 | L4: KH一楼北 | M4: 2019 | N4: KH创伤单元 | O4: WI-326-R02 | P4: 年 | R4: {=_xlfn.IFS(Q4="Monthly",VLOOKUP($O4,PM执行时间!$A:$E,2,0),Q4="Quarterly",VLOOKUP($O4,PM执行时间!$A:$E,3,0),Q4="Semi-an",VLOOKUP($O4,PM执行时间!$A:$E,4,0),Q4="Annual",VLOOKUP($O4,PM执行时间!$A:$E,5,0),Q4="","")} | T4: {=_xlfn.IFS(S4="Monthly",VLOOKUP($O4,PM执行时间!$A:$E,2,0),S4="Quarterly",VLOOKUP($O4,PM执行时间!$A:$E,3,0),S4="Semi-an",VLOOKUP($O4,PM执行时间!$A:$E,4,0),S4="Annual",VLOOKUP($O4,PM执行时间!$A:$E,5,0),S4="","")} | V4: {=_xlfn.IFS(U4="Monthly",VLOOKUP($O4,PM执行时间!$A:$E,2,0),U4="Quarterly",VLOOKUP($O4,PM执行时间!$A:$E,3,0),U4="Semi-an",VLOOKUP($O4,PM执行时间!$A:$E,4,0),U4="Annual",VLOOKUP($O4,PM执行时间!$A:$E,5,0),U4="","")} | X4: {=_xlfn.IFS(W4="Monthly",VLOOKUP($O4,PM执行时间!$A:$E,2,0),W4="Quarterly",VLOOKUP($O4,PM执行时间!$A:$E,3,0),W4="Semi-an",VLOOKUP($O4,PM执行时间!$A:$E,4,0),W4="Annual",VLOOKUP($O4,PM执行时间!$A:$E,5,0),W4="","")} | Z4: {=_xlfn.IFS(Y4="Monthly",VLOOKUP($O4,PM执行时间!$A:$E,2,0),Y4="Quarterly",VLOOKUP($O4,PM执行时间!$A:$E,3,0),Y4="Semi-an",VLOOKUP($O4,PM执行时间!$A:$E,4,0),Y4="Annual",VLOOKUP($O4,PM执行时间!$A:$E,5,0),Y4="","")} | AA4: Annual | AB4: {=_xlfn.IFS(AA4="Monthly",VLOOKUP($O4,PM执行时间!$A:$E,2,0),AA4="Quarterly",VLOOKUP($O4,PM执行时间!$A:$E,3,0),AA4="Semi-an",VLOOKUP($O4,PM执行时间!$A:$E,4,0),AA4="Annual",VLOOKUP($O4,PM执行时间!$A:$E,5,0),AA4="","")} -> 1 | AD4: {=_xlfn.IFS(AC4="Monthly",VLOOKUP($O4,PM执行时间!$A:$E,2,0),AC4="Quarterly",VLOOKUP($O4,PM执行时间!$A:$E,3,0),AC4="Semi-an",VLOOKUP($O4,PM执行时间!$A:$E,4,0),AC4="Annual",VLOOKUP($O4,PM执行时间!$A:$E,5,0),AC4="","")} | AF4: {=_xlfn.IFS(AE4="Monthly",VLOOKUP($O4,PM执行时间!$A:$E,2,0),AE4="Quarterly",VLOOKUP($O4,PM执行时间!$A:$E,3,0),AE4="Semi-an",VLOOKUP($O4,PM执行时间!$A:$E,4,0),AE4="Annual",VLOOKUP($O4,PM执行时间!$A:$E,5,0),AE4="","")} | AH4: {=_xlfn.IFS(AG4="Monthly",VLOOKUP($O4,PM执行时间!$A:$E,2,0),AG4="Quarterly",VLOOKUP($O4,PM执行时间!$A:$E,3,0),AG4="Semi-an",VLOOKUP($O4,PM执行时间!$A:$E,4,0),AG4="Annual",VLOOKUP($O4,PM执行时间!$A:$E,5,0),AG4="","")} | AJ4: {=_xlfn.IFS(AI4="Monthly",VLOOKUP($O4,PM执行时间!$A:$E,2,0),AI4="Quarterly",VLOOKUP($O4,PM执行时间!$A:$E,3,0),AI4="Semi-an",VLOOKUP($O4,PM执行时间!$A:$E,4,0),AI4="Annual",VLOOKUP($O4,PM执行时间!$A:$E,5,0),AI4="","")} | AL4: {=_xlfn.IFS(AK4="Monthly",VLOOKUP($O4,PM执行时间!$A:$E,2,0),AK4="Quarterly",VLOOKUP($O4,PM执行时间!$A:$E,3,0),AK4="Semi-an",VLOOKUP($O4,PM执行时间!$A:$E,4,0),AK4="Annual",VLOOKUP($O4,PM执行时间!$A:$E,5,0),AK4="","")} | AN4: {=_xlfn.IFS(AM4="Monthly",VLOOKUP($O4,PM执行时间!$A:$E,2,0),AM4="Quarterly",VLOOKUP($O4,PM执行时间!$A:$E,3,0),AM4="Semi-an",VLOOKUP($O4,PM执行时间!$A:$E,4,0),AM4="Annual",VLOOKUP($O4,PM执行时间!$A:$E,5,0),AM4="","")} | AO4: 44713
A5: 3 | B5: =SUBTOTAL(3,G$3:G5)+0 -> 0 | D5: 86 | E5: 抛光机 | F5: 2M4150-500 | G5: 江苏如东机床厂 | H5: 无 | I5: 36861 | J5: B类 | K5: 运行中 | L5: KH一楼北 | M5: N/A | N5: KH创伤单元 | O5: WI-012-R02 | P5: 年 | R5: {=_xlfn.IFS(Q5="Monthly",VLOOKUP($O5,PM执行时间!$A:$E,2,0),Q5="Quarterly",VLOOKUP($O5,PM执行时间!$A:$E,3,0),Q5="Semi-an",VLOOKUP($O5,PM执行时间!$A:$E,4,0),Q5="Annual",VLOOKUP($O5,PM执行时间!$A:$E,5,0),Q5="","")} | T5: {=_xlfn.IFS(S5="Monthly",VLOOKUP($O5,PM执行时间!$A:$E,2,0),S5="Quarterly",VLOOKUP($O5,PM执行时间!$A:$E,3,0),S5="Semi-an",VLOOKUP($O5,PM执行时间!$A:$E,4,0),S5="Annual",VLOOKUP($O5,PM执行时间!$A:$E,5,0),S5="","")} | V5: {=_xlfn.IFS(U5="Monthly",VLOOKUP($O5,PM执行时间!$A:$E,2,0),U5="Quarterly",VLOOKUP($O5,PM执行时间!$A:$E,3,0),U5="Semi-an",VLOOKUP($O5,PM执行时间!$A:$E,4,0),U5="Annual",VLOOKUP($O5,PM执行时间!$A:$E,5,0),U5="","")} | X5: {=_xlfn.IFS(W5="Monthly",VLOOKUP($O5,PM执行时间!$A:$E,2,0),W5="Quarterly",VLOOKUP($O5,PM执行时间!$A:$E,3,0),W5="Semi-an",VLOOKUP($O5,PM执行时间!$A:$E,4,0),W5="Annual",VLOOKUP($O5,PM执行时间!$A:$E,5,0),W5="","")} | Z5: {=_xlfn.IFS(Y5="Monthly",VLOOKUP($O5,PM执行时间!$A:$E,2,0),Y5="Quarterly",VLOOKUP($O5,PM执行时间!$A:$E,3,0),Y5="Semi-an",VLOOKUP($O5,PM执行时间!$A:$E,4,0),Y5="Annual",VLOOKUP($O5,PM执行时间!$A:$E,5,0),Y5="","")} | AB5: {=_xlfn.IFS(AA5="Monthly",VLOOKUP($O5,PM执行时间!$A:$E,2,0),AA5="Quarterly",VLOOKUP($O5,PM执行时间!$A:$E,3,0),AA5="Semi-an",VLOOKUP($O5,PM执行时间!$A:$E,4,0),AA5="Annual",VLOOKUP($O5,PM执行时间!$A:$E,5,0),AA5="","")} | AC5: Annual | AD5: {=_xlfn.IFS(AC5="Monthly",VLOOKUP($O5,PM执行时间!$A:$E,2,0),AC5="Quarterly",VLOOKUP($O5,PM执行时间!$A:$E,3,0),AC5="Semi-an",VLOOKUP($O5,PM执行时间!$A:$E,4,0),AC5="Annual",VLOOKUP($O5,PM执行时间!$A:$E,5,0),AC5="","")} -> 1 | AF5: {=_xlfn.IFS(AE5="Monthly",VLOOKUP($O5,PM执行时间!$A:$E,2,0),AE5="Quarterly",VLOOKUP($O5,PM执行时间!$A:$E,3,0),AE5="Semi-an",VLOOKUP($O5,PM执行时间!$A:$E,4,0),AE5="Annual",VLOOKUP($O5,PM执行时间!$A:$E,5,0),AE5="","")} | AH5: {=_xlfn.IFS(AG5="Monthly",VLOOKUP($O5,PM执行时间!$A:$E,2,0),AG5="Quarterly",VLOOKUP($O5,PM执行时间!$A:$E,3,0),AG5="Semi-an",VLOOKUP($O5,PM执行时间!$A:$E,4,0),AG5="Annual",VLOOKUP($O5,PM执行时间!$A:$E,5,0),AG5="","")} | AJ5: {=_xlfn.IFS(AI5="Monthly",VLOOKUP($O5,PM执行时间!$A:$E,2,0),AI5="Quarterly",VLOOKUP($O5,PM执行时间!$A:$E,3,0),AI5="Semi-an",VLOOKUP($O5,PM执行时间!$A:$E,4,0),AI5="Annual",VLOOKUP($O5,PM执行时间!$A:$E,5,0),AI5="","")} | AL5: {=_xlfn.IFS(AK5="Monthly",VLOOKUP($O5,PM执行时间!$A:$E,2,0),AK5="Quarterly",VLOOKUP($O5,PM执行时间!$A:$E,3,0),AK5="Semi-an",VLOOKUP($O5,PM执行时间!$A:$E,4,0),AK5="Annual",VLOOKUP($O5,PM执行时间!$A:$E,5,0),AK5="","")} | AN5: {=_xlfn.IFS(AM5="Monthly",VLOOKUP($O5,PM执行时间!$A:$E,2,0),AM5="Quarterly",VLOOKUP($O5,PM执行时间!$A:$E,3,0),AM5="Semi-an",VLOOKUP($O5,PM执行时间!$A:$E,4,0),AM5="Annual",VLOOKUP($O5,PM执行时间!$A:$E,5,0),AM5="","")} | AO5: 44743
A6: 4 | B6: =SUBTOTAL(3,G$3:G6)+0 -> 0 | D6: 99 | E6: 方柱立式钻床 | F6: Z5125A-25 | G6: 常州机床厂 | H6: 1023 | I6: 37073 | J6: B类 | K6: 运行中 | L6: KH二楼器械单元 | M6: N/A | N6: KH器械单元 | O6: #N/A | R6: {=_xlfn.IFS(Q6="Monthly",VLOOKUP($O6,PM执行时间!$A:$E,2,0),Q6="Quarterly",VLOOKUP($O6,PM执行时间!$A:$E,3,0),Q6="Semi-an",VLOOKUP($O6,PM执行时间!$A:$E,4,0),Q6="Annual",VLOOKUP($O6,PM执行时间!$A:$E,5,0),Q6="","")} | T6: {=_xlfn.IFS(S6="Monthly",VLOOKUP($O6,PM执行时间!$A:$E,2,0),S6="Quarterly",VLOOKUP($O6,PM执行时间!$A:$E,3,0),S6="Semi-an",VLOOKUP($O6,PM执行时间!$A:$E,4,0),S6="Annual",VLOOKUP($O6,PM执行时间!$A:$E,5,0),S6="","")} | V6: {=_xlfn.IFS(U6="Monthly",VLOOKUP($O6,PM执行时间!$A:$E,2,0),U6="Quarterly",VLOOKUP($O6,PM执行时间!$A:$E,3,0),U6="Semi-an",VLOOKUP($O6,PM执行时间!$A:$E,4,0),U6="Annual",VLOOKUP($O6,PM执行时间!$A:$E,5,0),U6="","")} | X6: {=_xlfn.IFS(W6="Monthly",VLOOKUP($O6,PM执行时间!$A:$E,2,0),W6="Quarterly",VLOOKUP($O6,PM执行时间!$A:$E,3,0),W6="Semi-an",VLOOKUP($O6,PM执行时间!$A:$E,4,0),W6="Annual",VLOOKUP($O6,PM执行时间!$A:$E,5,0),W6="","")} | Z6: {=_xlfn.IFS(Y6="Monthly",VLOOKUP($O6,PM执行时间!$A:$E,2,0),Y6="Quarterly",VLOOKUP($O6,PM执行时间!$A:$E,3,0),Y6="Semi-an",VLOOKUP($O6,PM执行时间!$A:$E,4,0),Y6="Annual",VLOOKUP($O6,PM执行时间!$A:$E,5,0),Y6="","")} | AB6: {=_xlfn.IFS(AA6="Monthly",VLOOKUP($O6,PM执行时间!$A:$E,2,0),AA6="Quarterly",VLOOKUP($O6,PM执行时间!$A:$E,3,0),AA6="Semi-an",VLOOKUP($O6,PM执行时间!$A:$E,4,0),AA6="Annual",VLOOKUP($O6,PM执行时间!$A:$E,5,0),AA6="","")} | AD6: {=_xlfn.IFS(AC6="Monthly",VLOOKUP($O6,PM执行时间!$A:$E,2,0),AC6="Quarterly",VLOOKUP($O6,PM执行时间!$A:$E,3,0),AC6="Semi-an",VLOOKUP($O6,PM执行时间!$A:$E,4,0),AC6="Annual",VLOOKUP($O6,PM执行时间!$A:$E,5,0),AC6="","")} | AF6: {=_xlfn.IFS(AE6="Monthly",VLOOKUP($O6,PM执行时间!$A:$E,2,0),AE6="Quarterly",VLOOKUP($O6,PM执行时间!$A:$E,3,0),AE6="Semi-an",VLOOKUP($O6,PM执行时间!$A:$E,4,0),AE6="Annual",VLOOKUP($O6,PM执行时间!$A:$E,5,0),AE6="","")} | AH6: {=_xlfn.IFS(AG6="Monthly",VLOOKUP($O6,PM执行时间!$A:$E,2,0),AG6="Quarterly",VLOOKUP($O6,PM执行时间!$A:$E,3,0),AG6="Semi-an",VLOOKUP($O6,PM执行时间!$A:$E,4,0),AG6="Annual",VLOOKUP($O6,PM执行时间!$A:$E,5,0),AG6="","")} | AJ6: {=_xlfn.IFS(AI6="Monthly",VLOOKUP($O6,PM执行时间!$A:$E,2,0),AI6="Quarterly",VLOOKUP($O6,PM执行时间!$A:$E,3,0),AI6="Semi-an",VLOOKUP($O6,PM执行时间!$A:$E,4,0),AI6="Annual",VLOOKUP($O6,PM执行时间!$A:$E,5,0),AI6="","")} | AL6: {=_xlfn.IFS(AK6="Monthly",VLOOKUP($O6,PM执行时间!$A:$E,2,0),AK6="Quarterly",VLOOKUP($O6,PM执行时间!$A:$E,3,0),AK6="Semi-an",VLOOKUP($O6,PM执行时间!$A:$E,4,0),AK6="Annual",VLOOKUP($O6,PM执行时间!$A:$E,5,0),AK6="","")} | AN6: {=_xlfn.IFS(AM6="Monthly",VLOOKUP($O6,PM执行时间!$A:$E,2,0),AM6="Quarterly",VLOOKUP($O6,PM执行时间!$A:$E,3,0),AM6="Semi-an",VLOOKUP($O6,PM执行时间!$A:$E,4,0),AM6="Annual",VLOOKUP($O6,PM执行时间!$A:$E,5,0),AM6="","")}
A7: 5 | B7: =SUBTOTAL(3,G$3:G7)+0 -> 0 | D7: 119 | E7: 台式钻床 | F7: Z4116B | G7: 常州台钻厂 | H7: 33181 | I7: 37257 | J7: B类 | K7: 运行中 | L7: KH二楼器械单元 | M7: N/A | N7: KH器械单元 | O7: #N/A | R7: {=_xlfn.IFS(Q7="Monthly",VLOOKUP($O7,PM执行时间!$A:$E,2,0),Q7="Quarterly",VLOOKUP($O7,PM执行时间!$A:$E,3,0),Q7="Semi-an",VLOOKUP($O7,PM执行时间!$A:$E,4,0),Q7="Annual",VLOOKUP($O7,PM执行时间!$A:$E,5,0),Q7="","")} | T7: {=_xlfn.IFS(S7="Monthly",VLOOKUP($O7,PM执行时间!$A:$E,2,0),S7="Quarterly",VLOOKUP($O7,PM执行时间!$A:$E,3,0),S7="Semi-an",VLOOKUP($O7,PM执行时间!$A:$E,4,0),S7="Annual",VLOOKUP($O7,PM执行时间!$A:$E,5,0),S7="","")} | V7: {=_xlfn.IFS(U7="Monthly",VLOOKUP($O7,PM执行时间!$A:$E,2,0),U7="Quarterly",VLOOKUP($O7,PM执行时间!$A:$E,3,0),U7="Semi-an",VLOOKUP($O7,PM执行时间!$A:$E,4,0),U7="Annual",VLOOKUP($O7,PM执行时间!$A:$E,5,0),U7="","")} | X7: {=_xlfn.IFS(W7="Monthly",VLOOKUP($O7,PM执行时间!$A:$E,2,0),W7="Quarterly",VLOOKUP($O7,PM执行时间!$A:$E,3,0),W7="Semi-an",VLOOKUP($O7,PM执行时间!$A:$E,4,0),W7="Annual",VLOOKUP($O7,PM执行时间!$A:$E,5,0),W7="","")} | Z7: {=_xlfn.IFS(Y7="Monthly",VLOOKUP($O7,PM执行时间!$A:$E,2,0),Y7="Quarterly",VLOOKUP($O7,PM执行时间!$A:$E,3,0),Y7="Semi-an",VLOOKUP($O7,PM执行时间!$A:$E,4,0),Y7="Annual",VLOOKUP($O7,PM执行时间!$A:$E,5,0),Y7="","")} | AB7: {=_xlfn.IFS(AA7="Monthly",VLOOKUP($O7,PM执行时间!$A:$E,2,0),AA7="Quarterly",VLOOKUP($O7,PM执行时间!$A:$E,3,0),AA7="Semi-an",VLOOKUP($O7,PM执行时间!$A:$E,4,0),AA7="Annual",VLOOKUP($O7,PM执行时间!$A:$E,5,0),AA7="","")} | AD7: {=_xlfn.IFS(AC7="Monthly",VLOOKUP($O7,PM执行时间!$A:$E,2,0),AC7="Quarterly",VLOOKUP($O7,PM执行时间!$A:$E,3,0),AC7="Semi-an",VLOOKUP($O7,PM执行时间!$A:$E,4,0),AC7="Annual",VLOOKUP($O7,PM执行时间!$A:$E,5,0),AC7="","")} | AF7: {=_xlfn.IFS(AE7="Monthly",VLOOKUP($O7,PM执行时间!$A:$E,2,0),AE7="Quarterly",VLOOKUP($O7,PM执行时间!$A:$E,3,0),AE7="Semi-an",VLOOKUP($O7,PM执行时间!$A:$E,4,0),AE7="Annual",VLOOKUP($O7,PM执行时间!$A:$E,5,0),AE7="","")} | AH7: {=_xlfn.IFS(AG7="Monthly",VLOOKUP($O7,PM执行时间!$A:$E,2,0),AG7="Quarterly",VLOOKUP($O7,PM执行时间!$A:$E,3,0),AG7="Semi-an",VLOOKUP($O7,PM执行时间!$A:$E,4,0),AG7="Annual",VLOOKUP($O7,PM执行时间!$A:$E,5,0),AG7="","")} | AJ7: {=_xlfn.IFS(AI7="Monthly",VLOOKUP($O7,PM执行时间!$A:$E,2,0),AI7="Quarterly",VLOOKUP($O7,PM执行时间!$A:$E,3,0),AI7="Semi-an",VLOOKUP($O7,PM执行时间!$A:$E,4,0),AI7="Annual",VLOOKUP($O7,PM执行时间!$A:$E,5,0),AI7="","")} | AL7: {=_xlfn.IFS(AK7="Monthly",VLOOKUP($O7,PM执行时间!$A:$E,2,0),AK7="Quarterly",VLOOKUP($O7,PM执行时间!$A:$E,3,0),AK7="Semi-an",VLOOKUP($O7,PM执行时间!$A:$E,4,0),AK7="Annual",VLOOKUP($O7,PM执行时间!$A:$E,5,0),AK7="","")} | AN7: {=_xlfn.IFS(AM7="Monthly",VLOOKUP($O7,PM执行时间!$A:$E,2,0),AM7="Quarterly",VLOOKUP($O7,PM执行时间!$A:$E,3,0),AM7="Semi-an",VLOOKUP($O7,PM执行时间!$A:$E,4,0),AM7="Annual",VLOOKUP($O7,PM执行时间!$A:$E,5,0),AM7="","")}
A8: 6 | B8: =SUBTOTAL(3,G$3:G8)+0 -> 0 | D8: 121 | E8: 研磨机 | F8: XMW36 | G8: 无锡精工光饰材料厂 | H8: 415 | I8: 37438 | J8: B类 | K8: 运行中 | L8: KH一楼北 | M8: 37653 | N8: KH脊柱单元 | O8: WI-012-R02 | P8: 年 | R8: {=_xlfn.IFS(Q8="Monthly",VLOOKUP($O8,PM执行时间!$A:$E,2,0),Q8="Quarterly",VLOOKUP($O8,PM执行时间!$A:$E,3,0),Q8="Semi-an",VLOOKUP($O8,PM执行时间!$A:$E,4,0),Q8="Annual",VLOOKUP($O8,PM执行时间!$A:$E,5,0),Q8="","")} | T8: {=_xlfn.IFS(S8="Monthly",VLOOKUP($O8,PM执行时间!$A:$E,2,0),S8="Quarterly",VLOOKUP($O8,PM执行时间!$A:$E,3,0),S8="Semi-an",VLOOKUP($O8,PM执行时间!$A:$E,4,0),S8="Annual",VLOOKUP($O8,PM执行时间!$A:$E,5,0),S8="","")} | V8: {=_xlfn.IFS(U8="Monthly",VLOOKUP($O8,PM执行时间!$A:$E,2,0),U8="Quarterly",VLOOKUP($O8,PM执行时间!$A:$E,3,0),U8="Semi-an",VLOOKUP($O8,PM执行时间!$A:$E,4,0),U8="Annual",VLOOKUP($O8,PM执行时间!$A:$E,5,0),U8="","")} | X8: {=_xlfn.IFS(W8="Monthly",VLOOKUP($O8,PM执行时间!$A:$E,2,0),W8="Quarterly",VLOOKUP($O8,PM执行时间!$A:$E,3,0),W8="Semi-an",VLOOKUP($O8,PM执行时间!$A:$E,4,0),W8="Annual",VLOOKUP($O8,PM执行时间!$A:$E,5,0),W8="","")} | Z8: {=_xlfn.IFS(Y8="Monthly",VLOOKUP($O8,PM执行时间!$A:$E,2,0),Y8="Quarterly",VLOOKUP($O8,PM执行时间!$A:$E,3,0),Y8="Semi-an",VLOOKUP($O8,PM执行时间!$A:$E,4,0),Y8="Annual",VLOOKUP($O8,PM执行时间!$A:$E,5,0),Y8="","")} | AB8: {=_xlfn.IFS(AA8="Monthly",VLOOKUP($O8,PM执行时间!$A:$E,2,0),AA8="Quarterly",VLOOKUP($O8,PM执行时间!$A:$E,3,0),AA8="Semi-an",VLOOKUP($O8,PM执行时间!$A:$E,4,0),AA8="Annual",VLOOKUP($O8,PM执行时间!$A:$E,5,0),AA8="","")} | AD8: {=_xlfn.IFS(AC8="Monthly",VLOOKUP($O8,PM执行时间!$A:$E,2,0),AC8="Quarterly",VLOOKUP($O8,PM执行时间!$A:$E,3,0),AC8="Semi-an",VLOOKUP($O8,PM执行时间!$A:$E,4,0),AC8="Annual",VLOOKUP($O8,PM执行时间!$A:$E,5,0),AC8="","")} | AF8: {=_xlfn.IFS(AE8="Monthly",VLOOKUP($O8,PM执行时间!$A:$E,2,0),AE8="Quarterly",VLOOKUP($O8,PM执行时间!$A:$E,3,0),AE8="Semi-an",VLOOKUP($O8,PM执行时间!$A:$E,4,0),AE8="Annual",VLOOKUP($O8,PM执行时间!$A:$E,5,0),AE8="","")} | AH8: {=_xlfn.IFS(AG8="Monthly",VLOOKUP($O8,PM执行时间!$A:$E,2,0),AG8="Quarterly",VLOOKUP($O8,PM执行时间!$A:$E,3,0),AG8="Semi-an",VLOOKUP($O8,PM执行时间!$A:$E,4,0),AG8="Annual",VLOOKUP($O8,PM执行时间!$A:$E,5,0),AG8="","")} | AI8: Annual | AJ8: {=_xlfn.IFS(AI8="Monthly",VLOOKUP($O8,PM执行时间!$A:$E,2,0),AI8="Quarterly",VLOOKUP($O8,PM执行时间!$A:$E,3,0),AI8="Semi-an",VLOOKUP($O8,PM执行时间!$A:$E,4,0),AI8="Annual",VLOOKUP($O8,PM执行时间!$A:$E,5,0),AI8="","")} -> 1 | AL8: {=_xlfn.IFS(AK8="Monthly",VLOOKUP($O8,PM执行时间!$A:$E,2,0),AK8="Quarterly",VLOOKUP($O8,PM执行时间!$A:$E,3,0),AK8="Semi-an",VLOOKUP($O8,PM执行时间!$A:$E,4,0),AK8="Annual",VLOOKUP($O8,PM执行时间!$A:$E,5,0),AK8="","")} | AN8: {=_xlfn.IFS(AM8="Monthly",VLOOKUP($O8,PM执行时间!$A:$E,2,0),AM8="Quarterly",VLOOKUP($O8,PM执行时间!$A:$E,3,0),AM8="Semi-an",VLOOKUP($O8,PM执行时间!$A:$E,4,0),AM8="Annual",VLOOKUP($O8,PM执行时间!$A:$E,5,0),AM8="","")} | AO8: 44835
A9: 7 | B9: =SUBTOTAL(3,G$3:G9)+0 -> 0 | D9: 129 | E9: 普铣 | F9: X6325 | G9: 南通机床厂 | H9: 28551 | J9: B类 | K9: 运行中 | L9: 5206 | M9: N/A | N9: 5206 | O9: WI-019-R02 | R9: {=_xlfn.IFS(Q9="Monthly",VLOOKUP($O9,PM执行时间!$A:$E,2,0),Q9="Quarterly",VLOOKUP($O9,PM执行时间!$A:$E,3,0),Q9="Semi-an",VLOOKUP($O9,PM执行时间!$A:$E,4,0),Q9="Annual",VLOOKUP($O9,PM执行时间!$A:$E,5,0),Q9="","")} | T9: {=_xlfn.IFS(S9="Monthly",VLOOKUP($O9,PM执行时间!$A:$E,2,0),S9="Quarterly",VLOOKUP($O9,PM执行时间!$A:$E,3,0),S9="Semi-an",VLOOKUP($O9,PM执行时间!$A:$E,4,0),S9="Annual",VLOOKUP($O9,PM执行时间!$A:$E,5,0),S9="","")} | V9: {=_xlfn.IFS(U9="Monthly",VLOOKUP($O9,PM执行时间!$A:$E,2,0),U9="Quarterly",VLOOKUP($O9,PM执行时间!$A:$E,3,0),U9="Semi-an",VLOOKUP($O9,PM执行时间!$A:$E,4,0),U9="Annual",VLOOKUP($O9,PM执行时间!$A:$E,5,0),U9="","")} | X9: {=_xlfn.IFS(W9="Monthly",VLOOKUP($O9,PM执行时间!$A:$E,2,0),W9="Quarterly",VLOOKUP($O9,PM执行时间!$A:$E,3,0),W9="Semi-an",VLOOKUP($O9,PM执行时间!$A:$E,4,0),W9="Annual",VLOOKUP($O9,PM执行时间!$A:$E,5,0),W9="","")} | Z9: {=_xlfn.IFS(Y9="Monthly",VLOOKUP($O9,PM执行时间!$A:$E,2,0),Y9="Quarterly",VLOOKUP($O9,PM执行时间!$A:$E,3,0),Y9="Semi-an",VLOOKUP($O9,PM执行时间!$A:$E,4,0),Y9="Annual",VLOOKUP($O9,PM执行时间!$A:$E,5,0),Y9="","")} | AB9: {=_xlfn.IFS(AA9="Monthly",VLOOKUP($O9,PM执行时间!$A:$E,2,0),AA9="Quarterly",VLOOKUP($O9,PM执行时间!$A:$E,3,0),AA9="Semi-an",VLOOKUP($O9,PM执行时间!$A:$E,4,0),AA9="Annual",VLOOKUP($O9,PM执行时间!$A:$E,5,0),AA9="","")} | AD9: {=_xlfn.IFS(AC9="Monthly",VLOOKUP($O9,PM执行时间!$A:$E,2,0),AC9="Quarterly",VLOOKUP($O9,PM执行时间!$A:$E,3,0),AC9="Semi-an",VLOOKUP($O9,PM执行时间!$A:$E,4,0),AC9="Annual",VLOOKUP($O9,PM执行时间!$A:$E,5,0),AC9="","")} | AF9: {=_xlfn.IFS(AE9="Monthly",VLOOKUP($O9,PM执行时间!$A:$E,2,0),AE9="Quarterly",VLOOKUP($O9,PM执行时间!$A:$E,3,0),AE9="Semi-an",VLOOKUP($O9,PM执行时间!$A:$E,4,0),AE9="Annual",VLOOKUP($O9,PM执行时间!$A:$E,5,0),AE9="","")} | AH9: {=_xlfn.IFS(AG9="Monthly",VLOOKUP($O9,PM执行时间!$A:$E,2,0),AG9="Quarterly",VLOOKUP($O9,PM执行时间!$A:$E,3,0),AG9="Semi-an",VLOOKUP($O9,PM执行时间!$A:$E,4,0),AG9="Annual",VLOOKUP($O9,PM执行时间!$A:$E,5,0),AG9="","")} | AJ9: {=_xlfn.IFS(AI9="Monthly",VLOOKUP($O9,PM执行时间!$A:$E,2,0),AI9="Quarterly",VLOOKUP($O9,PM执行时间!$A:$E,3,0),AI9="Semi-an",VLOOKUP($O9,PM执行时间!$A:$E,4,0),AI9="Annual",VLOOKUP($O9,PM执行时间!$A:$E,5,0),AI9="","")} | AL9: {=_xlfn.IFS(AK9="Monthly",VLOOKUP($O9,PM执行时间!$A:$E,2,0),AK9="Quarterly",VLOOKUP($O9,PM执行时间!$A:$E,3,0),AK9="Semi-an",VLOOKUP($O9,PM执行时间!$A:$E,4,0),AK9="Annual",VLOOKUP($O9,PM执行时间!$A:$E,5,0),AK9="","")} | AN9: {=_xlfn.IFS(AM9="Monthly",VLOOKUP($O9,PM执行时间!$A:$E,2,0),AM9="Quarterly",VLOOKUP($O9,PM执行时间!$A:$E,3,0),AM9="Semi-an",VLOOKUP($O9,PM执行时间!$A:$E,4,0),AM9="Annual",VLOOKUP($O9,PM执行时间!$A:$E,5,0),AM9="","")}
A10: 8 | B10: =SUBTOTAL(3,G$3:G10)+0 -> 0 | D10: 171 | E10: 普车 | G10: /// | I10: 42736 | J10: B类 | K10: 运行中 | L10: 5206 | M10: N/A | N10: 5206 | O10: WI-011-R02 | R10: {=_xlfn.IFS(Q10="Monthly",VLOOKUP($O10,PM执行时间!$A:$E,2,0),Q10="Quarterly",VLOOKUP($O10,PM执行时间!$A:$E,3,0),Q10="Semi-an",VLOOKUP($O10,PM执行时间!$A:$E,4,0),Q10="Annual",VLOOKUP($O10,PM执行时间!$A:$E,5,0),Q10="","")} | T10: {=_xlfn.IFS(S10="Monthly",VLOOKUP($O10,PM执行时间!$A:$E,2,0),S10="Quarterly",VLOOKUP($O10,PM执行时间!$A:$E,3,0),S10="Semi-an",VLOOKUP($O10,PM执行时间!$A:$E,4,0),S10="Annual",VLOOKUP($O10,PM执行时间!$A:$E,5,0),S10="","")} | V10: {=_xlfn.IFS(U10="Monthly",VLOOKUP($O10,PM执行时间!$A:$E,2,0),U10="Quarterly",VLOOKUP($O10,PM执行时间!$A:$E,3,0),U10="Semi-an",VLOOKUP($O10,PM执行时间!$A:$E,4,0),U10="Annual",VLOOKUP($O10,PM执行时间!$A:$E,5,0),U10="","")} | X10: {=_xlfn.IFS(W10="Monthly",VLOOKUP($O10,PM执行时间!$A:$E,2,0),W10="Quarterly",VLOOKUP($O10,PM执行时间!$A:$E,3,0),W10="Semi-an",VLOOKUP($O10,PM执行时间!$A:$E,4,0),W10="Annual",VLOOKUP($O10,PM执行时间!$A:$E,5,0),W10="","")} | Z10: {=_xlfn.IFS(Y10="Monthly",VLOOKUP($O10,PM执行时间!$A:$E,2,0),Y10="Quarterly",VLOOKUP($O10,PM执行时间!$A:$E,3,0),Y10="Semi-an",VLOOKUP($O10,PM执行时间!$A:$E,4,0),Y10="Annual",VLOOKUP($O10,PM执行时间!$A:$E,5,0),Y10="","")} | AB10: {=_xlfn.IFS(AA10="Monthly",VLOOKUP($O10,PM执行时间!$A:$E,2,0),AA10="Quarterly",VLOOKUP($O10,PM执行时间!$A:$E,3,0),AA10="Semi-an",VLOOKUP($O10,PM执行时间!$A:$E,4,0),AA10="Annual",VLOOKUP($O10,PM执行时间!$A:$E,5,0),AA10="","")} | AD10: {=_xlfn.IFS(AC10="Monthly",VLOOKUP($O10,PM执行时间!$A:$E,2,0),AC10="Quarterly",VLOOKUP($O10,PM执行时间!$A:$E,3,0),AC10="Semi-an",VLOOKUP($O10,PM执行时间!$A:$E,4,0),AC10="Annual",VLOOKUP($O10,PM执行时间!$A:$E,5,0),AC10="","")} | AF10: {=_xlfn.IFS(AE10="Monthly",VLOOKUP($O10,PM执行时间!$A:$E,2,0),AE10="Quarterly",VLOOKUP($O10,PM执行时间!$A:$E,3,0),AE10="Semi-an",VLOOKUP($O10,PM执行时间!$A:$E,4,0),AE10="Annual",VLOOKUP($O10,PM执行时间!$A:$E,5,0),AE10="","")} | AH10: {=_xlfn.IFS(AG10="Monthly",VLOOKUP($O10,PM执行时间!$A:$E,2,0),AG10="Quarterly",VLOOKUP($O10,PM执行时间!$A:$E,3,0),AG10="Semi-an",VLOOKUP($O10,PM执行时间!$A:$E,4,0),AG10="Annual",VLOOKUP($O10,PM执行时间!$A:$E,5,0),AG10="","")} | AJ10: {=_xlfn.IFS(AI10="Monthly",VLOOKUP($O10,PM执行时间!$A:$E,2,0),AI10="Quarterly",VLOOKUP($O10,PM执行时间!$A:$E,3,0),AI10="Semi-an",VLOOKUP($O10,PM执行时间!$A:$E,4,0),AI10="Annual",VLOOKUP($O10,PM执行时间!$A:$E,5,0),AI10="","")} | AL10: {=_xlfn.IFS(AK10="Monthly",VLOOKUP($O10,PM执行时间!$A:$E,2,0),AK10="Quarterly",VLOOKUP($O10,PM执行时间!$A:$E,3,0),AK10="Semi-an",VLOOKUP($O10,PM执行时间!$A:$E,4,0),AK10="Annual",VLOOKUP($O10,PM执行时间!$A:$E,5,0),AK10="","")} | AN10: {=_xlfn.IFS(AM10="Monthly",VLOOKUP($O10,PM执行时间!$A:$E,2,0),AM10="Quarterly",VLOOKUP($O10,PM执行时间!$A:$E,3,0),AM10="Semi-an",VLOOKUP($O10,PM执行时间!$A:$E,4,0),AM10="Annual",VLOOKUP($O10,PM执行时间!$A:$E,5,0),AM10="","")}
A11: 9 | B11: =SUBTOTAL(3,G$3:G11)+0 -> 0 | D11: 173 | E11: 抛光机 | G11: 富伟 | I11: 44228 | J11: B类 | K11: 运行中 | L11: KH一楼北 | M11: N/A | N11: KH创伤单元 | O11: WI-012-R02 | P11: 年 | R11: {=_xlfn.IFS(Q11="Monthly",VLOOKUP($O11,PM执行时间!$A:$E,2,0),Q11="Quarterly",VLOOKUP($O11,PM执行时间!$A:$E,3,0),Q11="Semi-an",VLOOKUP($O11,PM执行时间!$A:$E,4,0),Q11="Annual",VLOOKUP($O11,PM执行时间!$A:$E,5,0),Q11="","")} | T11: {=_xlfn.IFS(S11="Monthly",VLOOKUP($O11,PM执行时间!$A:$E,2,0),S11="Quarterly",VLOOKUP($O11,PM执行时间!$A:$E,3,0),S11="Semi-an",VLOOKUP($O11,PM执行时间!$A:$E,4,0),S11="Annual",VLOOKUP($O11,PM执行时间!$A:$E,5,0),S11="","")} | V11: {=_xlfn.IFS(U11="Monthly",VLOOKUP($O11,PM执行时间!$A:$E,2,0),U11="Quarterly",VLOOKUP($O11,PM执行时间!$A:$E,3,0),U11="Semi-an",VLOOKUP($O11,PM执行时间!$A:$E,4,0),U11="Annual",VLOOKUP($O11,PM执行时间!$A:$E,5,0),U11="","")} | X11: {=_xlfn.IFS(W11="Monthly",VLOOKUP($O11,PM执行时间!$A:$E,2,0),W11="Quarterly",VLOOKUP($O11,PM执行时间!$A:$E,3,0),W11="Semi-an",VLOOKUP($O11,PM执行时间!$A:$E,4,0),W11="Annual",VLOOKUP($O11,PM执行时间!$A:$E,5,0),W11="","")} | Z11: {=_xlfn.IFS(Y11="Monthly",VLOOKUP($O11,PM执行时间!$A:$E,2,0),Y11="Quarterly",VLOOKUP($O11,PM执行时间!$A:$E,3,0),Y11="Semi-an",VLOOKUP($O11,PM执行时间!$A:$E,4,0),Y11="Annual",VLOOKUP($O11,PM执行时间!$A:$E,5,0),Y11="","")} | AB11: {=_xlfn.IFS(AA11="Monthly",VLOOKUP($O11,PM执行时间!$A:$E,2,0),AA11="Quarterly",VLOOKUP($O11,PM执行时间!$A:$E,3,0),AA11="Semi-an",VLOOKUP($O11,PM执行时间!$A:$E,4,0),AA11="Annual",VLOOKUP($O11,PM执行时间!$A:$E,5,0),AA11="","")} | AC11: Annual | AD11: {=_xlfn.IFS(AC11="Monthly",VLOOKUP($O11,PM执行时间!$A:$E,2,0),AC11="Quarterly",VLOOKUP($O11,PM执行时间!$A:$E,3,0),AC11="Semi-an",VLOOKUP($O11,PM执行时间!$A:$E,4,0),AC11="Annual",VLOOKUP($O11,PM执行时间!$A:$E,5,0),AC11="","")} -> 1 | AF11: {=_xlfn.IFS(AE11="Monthly",VLOOKUP($O11,PM执行时间!$A:$E,2,0),AE11="Quarterly",VLOOKUP($O11,PM执行时间!$A:$E,3,0),AE11="Semi-an",VLOOKUP($O11,PM执行时间!$A:$E,4,0),AE11="Annual",VLOOKUP($O11,PM执行时间!$A:$E,5,0),AE11="","")} | AH11: {=_xlfn.IFS(AG11="Monthly",VLOOKUP($O11,PM执行时间!$A:$E,2,0),AG11="Quarterly",VLOOKUP($O11,PM执行时间!$A:$E,3,0),AG11="Semi-an",VLOOKUP($O11,PM执行时间!$A:$E,4,0),AG11="Annual",VLOOKUP($O11,PM执行时间!$A:$E,5,0),AG11="","")} | AJ11: {=_xlfn.IFS(AI11="Monthly",VLOOKUP($O11,PM执行时间!$A:$E,2,0),AI11="Quarterly",VLOOKUP($O11,PM执行时间!$A:$E,3,0),AI11="Semi-an",VLOOKUP($O11,PM执行时间!$A:$E,4,0),AI11="Annual",VLOOKUP($O11,PM执行时间!$A:$E,5,0),AI11="","")} | AL11: {=_xlfn.IFS(AK11="Monthly",VLOOKUP($O11,PM执行时间!$A:$E,2,0),AK11="Quarterly",VLOOKUP($O11,PM执行时间!$A:$E,3,0),AK11="Semi-an",VLOOKUP($O11,PM执行时间!$A:$E,4,0),AK11="Annual",VLOOKUP($O11,PM执行时间!$A:$E,5,0),AK11="","")} | AN11: {=_xlfn.IFS(AM11="Monthly",VLOOKUP($O11,PM执行时间!$A:$E,2,0),AM11="Quarterly",VLOOKUP($O11,PM执行时间!$A:$E,3,0),AM11="Semi-an",VLOOKUP($O11,PM执行时间!$A:$E,4,0),AM11="Annual",VLOOKUP($O11,PM执行时间!$A:$E,5,0),AM11="","")}
A12: 10 | B12: =SUBTOTAL(3,G$3:G12)+0 -> 0 | D12: 174 | E12: 抛光机 | F12: 2MX4150-500 | G12: 江苏如东富康机床厂 | H12: 04--'065 | I12: 38231 | J12: B类 | K12: 运行中 | L12: KH一楼北 | M12: N/A | N12: KH脊柱单元 | O12: WI-012-R02 | P12: 年 | R12: {=_xlfn.IFS(Q12="Monthly",VLOOKUP($O12,PM执行时间!$A:$E,2,0),Q12="Quarterly",VLOOKUP($O12,PM执行时间!$A:$E,3,0),Q12="Semi-an",VLOOKUP($O12,PM执行时间!$A:$E,4,0),Q12="Annual",VLOOKUP($O12,PM执行时间!$A:$E,5,0),Q12="","")} | T12: {=_xlfn.IFS(S12="Monthly",VLOOKUP($O12,PM执行时间!$A:$E,2,0),S12="Quarterly",VLOOKUP($O12,PM执行时间!$A:$E,3,0),S12="Semi-an",VLOOKUP($O12,PM执行时间!$A:$E,4,0),S12="Annual",VLOOKUP($O12,PM执行时间!$A:$E,5,0),S12="","")} | V12: {=_xlfn.IFS(U12="Monthly",VLOOKUP($O12,PM执行时间!$A:$E,2,0),U12="Quarterly",VLOOKUP($O12,PM执行时间!$A:$E,3,0),U12="Semi-an",VLOOKUP($O12,PM执行时间!$A:$E,4,0),U12="Annual",VLOOKUP($O12,PM执行时间!$A:$E,5,0),U12="","")} | X12: {=_xlfn.IFS(W12="Monthly",VLOOKUP($O12,PM执行时间!$A:$E,2,0),W12="Quarterly",VLOOKUP($O12,PM执行时间!$A:$E,3,0),W12="Semi-an",VLOOKUP($O12,PM执行时间!$A:$E,4,0),W12="Annual",VLOOKUP($O12,PM执行时间!$A:$E,5,0),W12="","")} | Z12: {=_xlfn.IFS(Y12="Monthly",VLOOKUP($O12,PM执行时间!$A:$E,2,0),Y12="Quarterly",VLOOKUP($O12,PM执行时间!$A:$E,3,0),Y12="Semi-an",VLOOKUP($O12,PM执行时间!$A:$E,4,0),Y12="Annual",VLOOKUP($O12,PM执行时间!$A:$E,5,0),Y12="","")} | AB12: {=_xlfn.IFS(AA12="Monthly",VLOOKUP($O12,PM执行时间!$A:$E,2,0),AA12="Quarterly",VLOOKUP($O12,PM执行时间!$A:$E,3,0),AA12="Semi-an",VLOOKUP($O12,PM执行时间!$A:$E,4,0),AA12="Annual",VLOOKUP($O12,PM执行时间!$A:$E,5,0),AA12="","")} | AC12: Annual | AD12: {=_xlfn.IFS(AC12="Monthly",VLOOKUP($O12,PM执行时间!$A:$E,2,0),AC12="Quarterly",VLOOKUP($O12,PM执行时间!$A:$E,3,0),AC12="Semi-an",VLOOKUP($O12,PM执行时间!$A:$E,4,0),AC12="Annual",VLOOKUP($O12,PM执行时间!$A:$E,5,0),AC12="","")} -> 1 | AF12: {=_xlfn.IFS(AE12="Monthly",VLOOKUP($O12,PM执行时间!$A:$E,2,0),AE12="Quarterly",VLOOKUP($O12,PM执行时间!$A:$E,3,0),AE12="Semi-an",VLOOKUP($O12,PM执行时间!$A:$E,4,0),AE12="Annual",VLOOKUP($O12,PM执行时间!$A:$E,5,0),AE12="","")} | AH12: {=_xlfn.IFS(AG12="Monthly",VLOOKUP($O12,PM执行时间!$A:$E,2,0),AG12="Quarterly",VLOOKUP($O12,PM执行时间!$A:$E,3,0),AG12="Semi-an",VLOOKUP($O12,PM执行时间!$A:$E,4,0),AG12="Annual",VLOOKUP($O12,PM执行时间!$A:$E,5,0),AG12="","")} | AJ12: {=_xlfn.IFS(AI12="Monthly",VLOOKUP($O12,PM执行时间!$A:$E,2,0),AI12="Quarterly",VLOOKUP($O12,PM执行时间!$A:$E,3,0),AI12="Semi-an",VLOOKUP($O12,PM执行时间!$A:$E,4,0),AI12="Annual",VLOOKUP($O12,PM执行时间!$A:$E,5,0),AI12="","")} | AL12: {=_xlfn.IFS(AK12="Monthly",VLOOKUP($O12,PM执行时间!$A:$E,2,0),AK12="Quarterly",VLOOKUP($O12,PM执行时间!$A:$E,3,0),AK12="Semi-an",VLOOKUP($O12,PM执行时间!$A:$E,4,0),AK12="Annual",VLOOKUP($O12,PM执行时间!$A:$E,5,0),AK12="","")} | AN12: {=_xlfn.IFS(AM12="Monthly",VLOOKUP($O12,PM执行时间!$A:$E,2,0),AM12="Quarterly",VLOOKUP($O12,PM执行时间!$A:$E,3,0),AM12="Semi-an",VLOOKUP($O12,PM执行时间!$A:$E,4,0),AM12="Annual",VLOOKUP($O12,PM执行时间!$A:$E,5,0),AM12="","")} | AO12: 44743
A13: 11 | B13: =SUBTOTAL(3,G$3:G13)+0 -> 0 | D13: 182 | E13: 压力机 | F13: J23-10B | G13: 徐州锻压设备厂 | H13: 740059 | I13: 38292 | J13: B类 | K13: 运行中 | L13: KH一楼东南 | M13: 38231 | N13: KH器械单元 | O13: WI-328-R02 | P13: 年 | R13: {=_xlfn.IFS(Q13="Monthly",VLOOKUP($O13,PM执行时间!$A:$E,2,0),Q13="Quarterly",VLOOKUP($O13,PM执行时间!$A:$E,3,0),Q13="Semi-an",VLOOKUP($O13,PM执行时间!$A:$E,4,0),Q13="Annual",VLOOKUP($O13,PM执行时间!$A:$E,5,0),Q13="","")} | T13: {=_xlfn.IFS(S13="Monthly",VLOOKUP($O13,PM执行时间!$A:$E,2,0),S13="Quarterly",VLOOKUP($O13,PM执行时间!$A:$E,3,0),S13="Semi-an",VLOOKUP($O13,PM执行时间!$A:$E,4,0),S13="Annual",VLOOKUP($O13,PM执行时间!$A:$E,5,0),S13="","")} | V13: {=_xlfn.IFS(U13="Monthly",VLOOKUP($O13,PM执行时间!$A:$E,2,0),U13="Quarterly",VLOOKUP($O13,PM执行时间!$A:$E,3,0),U13="Semi-an",VLOOKUP($O13,PM执行时间!$A:$E,4,0),U13="Annual",VLOOKUP($O13,PM执行时间!$A:$E,5,0),U13="","")} | X13: {=_xlfn.IFS(W13="Monthly",VLOOKUP($O13,PM执行时间!$A:$E,2,0),W13="Quarterly",VLOOKUP($O13,PM执行时间!$A:$E,3,0),W13="Semi-an",VLOOKUP($O13,PM执行时间!$A:$E,4,0),W13="Annual",VLOOKUP($O13,PM执行时间!$A:$E,5,0),W13="","")} | Y13: Annual | Z13: {=_xlfn.IFS(Y13="Monthly",VLOOKUP($O13,PM执行时间!$A:$E,2,0),Y13="Quarterly",VLOOKUP($O13,PM执行时间!$A:$E,3,0),Y13="Semi-an",VLOOKUP($O13,PM执行时间!$A:$E,4,0),Y13="Annual",VLOOKUP($O13,PM执行时间!$A:$E,5,0),Y13="","")} -> 1 | AB13: {=_xlfn.IFS(AA13="Monthly",VLOOKUP($O13,PM执行时间!$A:$E,2,0),AA13="Quarterly",VLOOKUP($O13,PM执行时间!$A:$E,3,0),AA13="Semi-an",VLOOKUP($O13,PM执行时间!$A:$E,4,0),AA13="Annual",VLOOKUP($O13,PM执行时间!$A:$E,5,0),AA13="","")} | AD13: {=_xlfn.IFS(AC13="Monthly",VLOOKUP($O13,PM执行时间!$A:$E,2,0),AC13="Quarterly",VLOOKUP($O13,PM执行时间!$A:$E,3,0),AC13="Semi-an",VLOOKUP($O13,PM执行时间!$A:$E,4,0),AC13="Annual",VLOOKUP($O13,PM执行时间!$A:$E,5,0),AC13="","")} | AF13: {=_xlfn.IFS(AE13="Monthly",VLOOKUP($O13,PM执行时间!$A:$E,2,0),AE13="Quarterly",VLOOKUP($O13,PM执行时间!$A:$E,3,0),AE13="Semi-an",VLOOKUP($O13,PM执行时间!$A:$E,4,0),AE13="Annual",VLOOKUP($O13,PM执行时间!$A:$E,5,0),AE13="","")} | AH13: {=_xlfn.IFS(AG13="Monthly",VLOOKUP($O13,PM执行时间!$A:$E,2,0),AG13="Quarterly",VLOOKUP($O13,PM执行时间!$A:$E,3,0),AG13="Semi-an",VLOOKUP($O13,PM执行时间!$A:$E,4,0),AG13="Annual",VLOOKUP($O13,PM执行时间!$A:$E,5,0),AG13="","")} | AJ13: {=_xlfn.IFS(AI13="Monthly",VLOOKUP($O13,PM执行时间!$A:$E,2,0),AI13="Quarterly",VLOOKUP($O13,PM执行时间!$A:$E,3,0),AI13="Semi-an",VLOOKUP($O13,PM执行时间!$A:$E,4,0),AI13="Annual",VLOOKUP($O13,PM执行时间!$A:$E,5,0),AI13="","")} | AL13: {=_xlfn.IFS(AK13="Monthly",VLOOKUP($O13,PM执行时间!$A:$E,2,0),AK13="Quarterly",VLOOKUP($O13,PM执行时间!$A:$E,3,0),AK13="Semi-an",VLOOKUP($O13,PM执行时间!$A:$E,4,0),AK13="Annual",VLOOKUP($O13,PM执行时间!$A:$E,5,0),AK13="","")} | AN13: {=_xlfn.IFS(AM13="Monthly",VLOOKUP($O13,PM执行时间!$A:$E,2,0),AM13="Quarterly",VLOOKUP($O13,PM执行时间!$A:$E,3,0),AM13="Semi-an",VLOOKUP($O13,PM执行时间!$A:$E,4,0),AM13="Annual",VLOOKUP($O13,PM执行时间!$A:$E,5,0),AM13="","")} | AO13: 44682
A14: 12 | B14: =SUBTOTAL(3,G$3:G14)+0 -> 0 | D14: 189 | E14: 干燥箱 | F14: HN1013As-750*600*500 | G14: 南通沪南科学仪器公司 | H14: 4888 | I14: 38443 | J14: B类 | K14: 运行中 | L14: KH一楼北 | M14: N/A | N14: KH创伤单元 | O14: WI-326-R02 | P14: 年 | R14: {=_xlfn.IFS(Q14="Monthly",VLOOKUP($O14,PM执行时间!$A:$E,2,0),Q14="Quarterly",VLOOKUP($O14,PM执行时间!$A:$E,3,0),Q14="Semi-an",VLOOKUP($O14,PM执行时间!$A:$E,4,0),Q14="Annual",VLOOKUP($O14,PM执行时间!$A:$E,5,0),Q14="","")} | T14: {=_xlfn.IFS(S14="Monthly",VLOOKUP($O14,PM执行时间!$A:$E,2,0),S14="Quarterly",VLOOKUP($O14,PM执行时间!$A:$E,3,0),S14="Semi-an",VLOOKUP($O14,PM执行时间!$A:$E,4,0),S14="Annual",VLOOKUP($O14,PM执行时间!$A:$E,5,0),S14="","")} | V14: {=_xlfn.IFS(U14="Monthly",VLOOKUP($O14,PM执行时间!$A:$E,2,0),U14="Quarterly",VLOOKUP($O14,PM执行时间!$A:$E,3,0),U14="Semi-an",VLOOKUP($O14,PM执行时间!$A:$E,4,0),U14="Annual",VLOOKUP($O14,PM执行时间!$A:$E,5,0),U14="","")} | X14: {=_xlfn.IFS(W14="Monthly",VLOOKUP($O14,PM执行时间!$A:$E,2,0),W14="Quarterly",VLOOKUP($O14,PM执行时间!$A:$E,3,0),W14="Semi-an",VLOOKUP($O14,PM执行时间!$A:$E,4,0),W14="Annual",VLOOKUP($O14,PM执行时间!$A:$E,5,0),W14="","")} | Z14: {=_xlfn.IFS(Y14="Monthly",VLOOKUP($O14,PM执行时间!$A:$E,2,0),Y14="Quarterly",VLOOKUP($O14,PM执行时间!$A:$E,3,0),Y14="Semi-an",VLOOKUP($O14,PM执行时间!$A:$E,4,0),Y14="Annual",VLOOKUP($O14,PM执行时间!$A:$E,5,0),Y14="","")} | AA14: Annual | AB14: {=_xlfn.IFS(AA14="Monthly",VLOOKUP($O14,PM执行时间!$A:$E,2,0),AA14="Quarterly",VLOOKUP($O14,PM执行时间!$A:$E,3,0),AA14="Semi-an",VLOOKUP($O14,PM执行时间!$A:$E,4,0),AA14="Annual",VLOOKUP($O14,PM执行时间!$A:$E,5,0),AA14="","")} -> 1 | AD14: {=_xlfn.IFS(AC14="Monthly",VLOOKUP($O14,PM执行时间!$A:$E,2,0),AC14="Quarterly",VLOOKUP($O14,PM执行时间!$A:$E,3,0),AC14="Semi-an",VLOOKUP($O14,PM执行时间!$A:$E,4,0),AC14="Annual",VLOOKUP($O14,PM执行时间!$A:$E,5,0),AC14="","")} | AF14: {=_xlfn.IFS(AE14="Monthly",VLOOKUP($O14,PM执行时间!$A:$E,2,0),AE14="Quarterly",VLOOKUP($O14,PM执行时间!$A:$E,3,0),AE14="Semi-an",VLOOKUP($O14,PM执行时间!$A:$E,4,0),AE14="Annual",VLOOKUP($O14,PM执行时间!$A:$E,5,0),AE14="","")} | AH14: {=_xlfn.IFS(AG14="Monthly",VLOOKUP($O14,PM执行时间!$A:$E,2,0),AG14="Quarterly",VLOOKUP($O14,PM执行时间!$A:$E,3,0),AG14="Semi-an",VLOOKUP($O14,PM执行时间!$A:$E,4,0),AG14="Annual",VLOOKUP($O14,PM执行时间!$A:$E,5,0),AG14="","")} | AJ14: {=_xlfn.IFS(AI14="Monthly",VLOOKUP($O14,PM执行时间!$A:$E,2,0),AI14="Quarterly",VLOOKUP($O14,PM执行时间!$A:$E,3,0),AI14="Semi-an",VLOOKUP($O14,PM执行时间!$A:$E,4,0),AI14="Annual",VLOOKUP($O14,PM执行时间!$A:$E,5,0),AI14="","")} | AL14: {=_xlfn.IFS(AK14="Monthly",VLOOKUP($O14,PM执行时间!$A:$E,2,0),AK14="Quarterly",VLOOKUP($O14,PM执行时间!$A:$E,3,0),AK14="Semi-an",VLOOKUP($O14,PM执行时间!$A:$E,4,0),AK14="Annual",VLOOKUP($O14,PM执行时间!$A:$E,5,0),AK14="","")} | AN14: {=_xlfn.IFS(AM14="Monthly",VLOOKUP($O14,PM执行时间!$A:$E,2,0),AM14="Quarterly",VLOOKUP($O14,PM执行时间!$A:$E,3,0),AM14="Semi-an",VLOOKUP($O14,PM执行时间!$A:$E,4,0),AM14="Annual",VLOOKUP($O14,PM执行时间!$A:$E,5,0),AM14="","")} | AO14: 44713
A15: 13 | B15: =SUBTOTAL(3,G$3:G15)+0 -> 0 | D15: 198 | E15: 数控铣床 | F15: JSK--30-300*1370 | G15: 南通精晟机床厂 | H15: 25026 | I15: 38534 | J15: B类 | K15: 运行中 | L15: KH一楼北 | M15: N/A | N15: KH创伤单元 | O15: WI-332-R02 | P15: 年 | R15: {=_xlfn.IFS(Q15="Monthly",VLOOKUP($O15,PM执行时间!$A:$E,2,0),Q15="Quarterly",VLOOKUP($O15,PM执行时间!$A:$E,3,0),Q15="Semi-an",VLOOKUP($O15,PM执行时间!$A:$E,4,0),Q15="Annual",VLOOKUP($O15,PM执行时间!$A:$E,5,0),Q15="","")} | T15: {=_xlfn.IFS(S15="Monthly",VLOOKUP($O15,PM执行时间!$A:$E,2,0),S15="Quarterly",VLOOKUP($O15,PM执行时间!$A:$E,3,0),S15="Semi-an",VLOOKUP($O15,PM执行时间!$A:$E,4,0),S15="Annual",VLOOKUP($O15,PM执行时间!$A:$E,5,0),S15="","")} | V15: {=_xlfn.IFS(U15="Monthly",VLOOKUP($O15,PM执行时间!$A:$E,2,0),U15="Quarterly",VLOOKUP($O15,PM执行时间!$A:$E,3,0),U15="Semi-an",VLOOKUP($O15,PM执行时间!$A:$E,4,0),U15="Annual",VLOOKUP($O15,PM执行时间!$A:$E,5,0),U15="","")} | X15: {=_xlfn.IFS(W15="Monthly",VLOOKUP($O15,PM执行时间!$A:$E,2,0),W15="Quarterly",VLOOKUP($O15,PM执行时间!$A:$E,3,0),W15="Semi-an",VLOOKUP($O15,PM执行时间!$A:$E,4,0),W15="Annual",VLOOKUP($O15,PM执行时间!$A:$E,5,0),W15="","")} | Z15: {=_xlfn.IFS(Y15="Monthly",VLOOKUP($O15,PM执行时间!$A:$E,2,0),Y15="Quarterly",VLOOKUP($O15,PM执行时间!$A:$E,3,0),Y15="Semi-an",VLOOKUP($O15,PM执行时间!$A:$E,4,0),Y15="Annual",VLOOKUP($O15,PM执行时间!$A:$E,5,0),Y15="","")} | AB15: {=_xlfn.IFS(AA15="Monthly",VLOOKUP($O15,PM执行时间!$A:$E,2,0),AA15="Quarterly",VLOOKUP($O15,PM执行时间!$A:$E,3,0),AA15="Semi-an",VLOOKUP($O15,PM执行时间!$A:$E,4,0),AA15="Annual",VLOOKUP($O15,PM执行时间!$A:$E,5,0),AA15="","")} | AD15: {=_xlfn.IFS(AC15="Monthly",VLOOKUP($O15,PM执行时间!$A:$E,2,0),AC15="Quarterly",VLOOKUP($O15,PM执行时间!$A:$E,3,0),AC15="Semi-an",VLOOKUP($O15,PM执行时间!$A:$E,4,0),AC15="Annual",VLOOKUP($O15,PM执行时间!$A:$E,5,0),AC15="","")} | AF15: {=_xlfn.IFS(AE15="Monthly",VLOOKUP($O15,PM执行时间!$A:$E,2,0),AE15="Quarterly",VLOOKUP($O15,PM执行时间!$A:$E,3,0),AE15="Semi-an",VLOOKUP($O15,PM执行时间!$A:$E,4,0),AE15="Annual",VLOOKUP($O15,PM执行时间!$A:$E,5,0),AE15="","")} | AG15: Annual | AH15: {=_xlfn.IFS(AG15="Monthly",VLOOKUP($O15,PM执行时间!$A:$E,2,0),AG15="Quarterly",VLOOKUP($O15,PM执行时间!$A:$E,3,0),AG15="Semi-an",VLOOKUP($O15,PM执行时间!$A:$E,4,0),AG15="Annual",VLOOKUP($O15,PM执行时间!$A:$E,5,0),AG15="","")} -> 1 | AJ15: {=_xlfn.IFS(AI15="Monthly",VLOOKUP($O15,PM执行时间!$A:$E,2,0),AI15="Quarterly",VLOOKUP($O15,PM执行时间!$A:$E,3,0),AI15="Semi-an",VLOOKUP($O15,PM执行时间!$A:$E,4,0),AI15="Annual",VLOOKUP($O15,PM执行时间!$A:$E,5,0),AI15="","")} | AL15: {=_xlfn.IFS(AK15="Monthly",VLOOKUP($O15,PM执行时间!$A:$E,2,0),AK15="Quarterly",VLOOKUP($O15,PM执行时间!$A:$E,3,0),AK15="Semi-an",VLOOKUP($O15,PM执行时间!$A:$E,4,0),AK15="Annual",VLOOKUP($O15,PM执行时间!$A:$E,5,0),AK15="","")} | AN15: {=_xlfn.IFS(AM15="Monthly",VLOOKUP($O15,PM执行时间!$A:$E,2,0),AM15="Quarterly",VLOOKUP($O15,PM执行时间!$A:$E,3,0),AM15="Semi-an",VLOOKUP($O15,PM执行时间!$A:$E,4,0),AM15="Annual",VLOOKUP($O15,PM执行时间!$A:$E,5,0),AM15="","")} | AO15: 44805
A16: 14 | B16: =SUBTOTAL(3,G$3:G16)+0 -> 0 | D16: 199 | E16: 数控铣床 | F16: JSK--30-300*1370 | G16: 南通精晟机床厂 | H16: 35008 | I16: 38534 | J16: B类 | K16: 运行中 | L16: KH一楼北 | M16: N/A | N16: KH创伤单元 | O16: WI-332-R02 | P16: 年 | R16: {=_xlfn.IFS(Q16="Monthly",VLOOKUP($O16,PM执行时间!$A:$E,2,0),Q16="Quarterly",VLOOKUP($O16,PM执行时间!$A:$E,3,0),Q16="Semi-an",VLOOKUP($O16,PM执行时间!$A:$E,4,0),Q16="Annual",VLOOKUP($O16,PM执行时间!$A:$E,5,0),Q16="","")} | T16: {=_xlfn.IFS(S16="Monthly",VLOOKUP($O16,PM执行时间!$A:$E,2,0),S16="Quarterly",VLOOKUP($O16,PM执行时间!$A:$E,3,0),S16="Semi-an",VLOOKUP($O16,PM执行时间!$A:$E,4,0),S16="Annual",VLOOKUP($O16,PM执行时间!$A:$E,5,0),S16="","")} | V16: {=_xlfn.IFS(U16="Monthly",VLOOKUP($O16,PM执行时间!$A:$E,2,0),U16="Quarterly",VLOOKUP($O16,PM执行时间!$A:$E,3,0),U16="Semi-an",VLOOKUP($O16,PM执行时间!$A:$E,4,0),U16="Annual",VLOOKUP($O16,PM执行时间!$A:$E,5,0),U16="","")} | X16: {=_xlfn.IFS(W16="Monthly",VLOOKUP($O16,PM执行时间!$A:$E,2,0),W16="Quarterly",VLOOKUP($O16,PM执行时间!$A:$E,3,0),W16="Semi-an",VLOOKUP($O16,PM执行时间!$A:$E,4,0),W16="Annual",VLOOKUP($O16,PM执行时间!$A:$E,5,0),W16="","")} | Z16: {=_xlfn.IFS(Y16="Monthly",VLOOKUP($O16,PM执行时间!$A:$E,2,0),Y16="Quarterly",VLOOKUP($O16,PM执行时间!$A:$E,3,0),Y16="Semi-an",VLOOKUP($O16,PM执行时间!$A:$E,4,0),Y16="Annual",VLOOKUP($O16,PM执行时间!$A:$E,5,0),Y16="","")} | AB16: {=_xlfn.IFS(AA16="Monthly",VLOOKUP($O16,PM执行时间!$A:$E,2,0),AA16="Quarterly",VLOOKUP($O16,PM执行时间!$A:$E,3,0),AA16="Semi-an",VLOOKUP($O16,PM执行时间!$A:$E,4,0),AA16="Annual",VLOOKUP($O16,PM执行时间!$A:$E,5,0),AA16="","")} | AD16: {=_xlfn.IFS(AC16="Monthly",VLOOKUP($O16,PM执行时间!$A:$E,2,0),AC16="Quarterly",VLOOKUP($O16,PM执行时间!$A:$E,3,0),AC16="Semi-an",VLOOKUP($O16,PM执行时间!$A:$E,4,0),AC16="Annual",VLOOKUP($O16,PM执行时间!$A:$E,5,0),AC16="","")} | AF16: {=_xlfn.IFS(AE16="Monthly",VLOOKUP($O16,PM执行时间!$A:$E,2,0),AE16="Quarterly",VLOOKUP($O16,PM执行时间!$A:$E,3,0),AE16="Semi-an",VLOOKUP($O16,PM执行时间!$A:$E,4,0),AE16="Annual",VLOOKUP($O16,PM执行时间!$A:$E,5,0),AE16="","")} | AG16: Annual | AH16: {=_xlfn.IFS(AG16="Monthly",VLOOKUP($O16,PM执行时间!$A:$E,2,0),AG16="Quarterly",VLOOKUP($O16,PM执行时间!$A:$E,3,0),AG16="Semi-an",VLOOKUP($O16,PM执行时间!$A:$E,4,0),AG16="Annual",VLOOKUP($O16,PM执行时间!$A:$E,5,0),AG16="","")} -> 1 | AJ16: {=_xlfn.IFS(AI16="Monthly",VLOOKUP($O16,PM执行时间!$A:$E,2,0),AI16="Quarterly",VLOOKUP($O16,PM执行时间!$A:$E,3,0),AI16="Semi-an",VLOOKUP($O16,PM执行时间!$A:$E,4,0),AI16="Annual",VLOOKUP($O16,PM执行时间!$A:$E,5,0),AI16="","")} | AL16: {=_xlfn.IFS(AK16="Monthly",VLOOKUP($O16,PM执行时间!$A:$E,2,0),AK16="Quarterly",VLOOKUP($O16,PM执行时间!$A:$E,3,0),AK16="Semi-an",VLOOKUP($O16,PM执行时间!$A:$E,4,0),AK16="Annual",VLOOKUP($O16,PM执行时间!$A:$E,5,0),AK16="","")} | AN16: {=_xlfn.IFS(AM16="Monthly",VLOOKUP($O16,PM执行时间!$A:$E,2,0),AM16="Quarterly",VLOOKUP($O16,PM执行时间!$A:$E,3,0),AM16="Semi-an",VLOOKUP($O16,PM执行时间!$A:$E,4,0),AM16="Annual",VLOOKUP($O16,PM执行时间!$A:$E,5,0),AM16="","")} | AO16: 44805
A17: 15 | B17: =SUBTOTAL(3,G$3:G17)+0 -> 0 | D17: 200 | E17: 台式铣钻床 | F17: ZX7045 | G17: 杭州西湖台钻 | H17: 505003 | I17: 38534 | J17: B类 | K17: 运行中 | L17: KH二楼器械单元 | M17: N/A | N17: KH器械单元 | O17: #N/A | R17: {=_xlfn.IFS(Q17="Monthly",VLOOKUP($O17,PM执行时间!$A:$E,2,0),Q17="Quarterly",VLOOKUP($O17,PM执行时间!$A:$E,3,0),Q17="Semi-an",VLOOKUP($O17,PM执行时间!$A:$E,4,0),Q17="Annual",VLOOKUP($O17,PM执行时间!$A:$E,5,0),Q17="","")} | T17: {=_xlfn.IFS(S17="Monthly",VLOOKUP($O17,PM执行时间!$A:$E,2,0),S17="Quarterly",VLOOKUP($O17,PM执行时间!$A:$E,3,0),S17="Semi-an",VLOOKUP($O17,PM执行时间!$A:$E,4,0),S17="Annual",VLOOKUP($O17,PM执行时间!$A:$E,5,0),S17="","")} | V17: {=_xlfn.IFS(U17="Monthly",VLOOKUP($O17,PM执行时间!$A:$E,2,0),U17="Quarterly",VLOOKUP($O17,PM执行时间!$A:$E,3,0),U17="Semi-an",VLOOKUP($O17,PM执行时间!$A:$E,4,0),U17="Annual",VLOOKUP($O17,PM执行时间!$A:$E,5,0),U17="","")} | X17: {=_xlfn.IFS(W17="Monthly",VLOOKUP($O17,PM执行时间!$A:$E,2,0),W17="Quarterly",VLOOKUP($O17,PM执行时间!$A:$E,3,0),W17="Semi-an",VLOOKUP($O17,PM执行时间!$A:$E,4,0),W17="Annual",VLOOKUP($O17,PM执行时间!$A:$E,5,0),W17="","")} | Z17: {=_xlfn.IFS(Y17="Monthly",VLOOKUP($O17,PM执行时间!$A:$E,2,0),Y17="Quarterly",VLOOKUP($O17,PM执行时间!$A:$E,3,0),Y17="Semi-an",VLOOKUP($O17,PM执行时间!$A:$E,4,0),Y17="Annual",VLOOKUP($O17,PM执行时间!$A:$E,5,0),Y17="","")} | AB17: {=_xlfn.IFS(AA17="Monthly",VLOOKUP($O17,PM执行时间!$A:$E,2,0),AA17="Quarterly",VLOOKUP($O17,PM执行时间!$A:$E,3,0),AA17="Semi-an",VLOOKUP($O17,PM执行时间!$A:$E,4,0),AA17="Annual",VLOOKUP($O17,PM执行时间!$A:$E,5,0),AA17="","")} | AD17: {=_xlfn.IFS(AC17="Monthly",VLOOKUP($O17,PM执行时间!$A:$E,2,0),AC17="Quarterly",VLOOKUP($O17,PM执行时间!$A:$E,3,0),AC17="Semi-an",VLOOKUP($O17,PM执行时间!$A:$E,4,0),AC17="Annual",VLOOKUP($O17,PM执行时间!$A:$E,5,0),AC17="","")} | AF17: {=_xlfn.IFS(AE17="Monthly",VLOOKUP($O17,PM执行时间!$A:$E,2,0),AE17="Quarterly",VLOOKUP($O17,PM执行时间!$A:$E,3,0),AE17="Semi-an",VLOOKUP($O17,PM执行时间!$A:$E,4,0),AE17="Annual",VLOOKUP($O17,PM执行时间!$A:$E,5,0),AE17="","")} | AH17: {=_xlfn.IFS(AG17="Monthly",VLOOKUP($O17,PM执行时间!$A:$E,2,0),AG17="Quarterly",VLOOKUP($O17,PM执行时间!$A:$E,3,0),AG17="Semi-an",VLOOKUP($O17,PM执行时间!$A:$E,4,0),AG17="Annual",VLOOKUP($O17,PM执行时间!$A:$E,5,0),AG17="","")} | AJ17: {=_xlfn.IFS(AI17="Monthly",VLOOKUP($O17,PM执行时间!$A:$E,2,0),AI17="Quarterly",VLOOKUP($O17,PM执行时间!$A:$E,3,0),AI17="Semi-an",VLOOKUP($O17,PM执行时间!$A:$E,4,0),AI17="Annual",VLOOKUP($O17,PM执行时间!$A:$E,5,0),AI17="","")} | AL17: {=_xlfn.IFS(AK17="Monthly",VLOOKUP($O17,PM执行时间!$A:$E,2,0),AK17="Quarterly",VLOOKUP($O17,PM执行时间!$A:$E,3,0),AK17="Semi-an",VLOOKUP($O17,PM执行时间!$A:$E,4,0),AK17="Annual",VLOOKUP($O17,PM执行时间!$A:$E,5,0),AK17="","")} | AN17: {=_xlfn.IFS(AM17="Monthly",VLOOKUP($O17,PM执行时间!$A:$E,2,0),AM17="Quarterly",VLOOKUP($O17,PM执行时间!$A:$E,3,0),AM17="Semi-an",VLOOKUP($O17,PM执行时间!$A:$E,4,0),AM17="Annual",VLOOKUP($O17,PM执行时间!$A:$E,5,0),AM17="","")}
A18: 16 | B18: =SUBTOTAL(3,G$3:G18)+0 -> 0 | D18: 205 | E18: 研磨机 | F18: FAW120T | G18: 无锡富岛精工 | H18: 55 | I18: 38534 | J18: B类 | K18: 报废 | L18: KH一楼北 | M18: 38534 | N18: KH创伤单元 | O18: WI-012-R02 | P18: 年 | R18: {=_xlfn.IFS(Q18="Monthly",VLOOKUP($O18,PM执行时间!$A:$E,2,0),Q18="Quarterly",VLOOKUP($O18,PM执行时间!$A:$E,3,0),Q18="Semi-an",VLOOKUP($O18,PM执行时间!$A:$E,4,0),Q18="Annual",VLOOKUP($O18,PM执行时间!$A:$E,5,0),Q18="","")} | T18: {=_xlfn.IFS(S18="Monthly",VLOOKUP($O18,PM执行时间!$A:$E,2,0),S18="Quarterly",VLOOKUP($O18,PM执行时间!$A:$E,3,0),S18="Semi-an",VLOOKUP($O18,PM执行时间!$A:$E,4,0),S18="Annual",VLOOKUP($O18,PM执行时间!$A:$E,5,0),S18="","")} | V18: {=_xlfn.IFS(U18="Monthly",VLOOKUP($O18,PM执行时间!$A:$E,2,0),U18="Quarterly",VLOOKUP($O18,PM执行时间!$A:$E,3,0),U18="Semi-an",VLOOKUP($O18,PM执行时间!$A:$E,4,0),U18="Annual",VLOOKUP($O18,PM执行时间!$A:$E,5,0),U18="","")} | X18: {=_xlfn.IFS(W18="Monthly",VLOOKUP($O18,PM执行时间!$A:$E,2,0),W18="Quarterly",VLOOKUP($O18,PM执行时间!$A:$E,3,0),W18="Semi-an",VLOOKUP($O18,PM执行时间!$A:$E,4,0),W18="Annual",VLOOKUP($O18,PM执行时间!$A:$E,5,0),W18="","")} | Z18: {=_xlfn.IFS(Y18="Monthly",VLOOKUP($O18,PM执行时间!$A:$E,2,0),Y18="Quarterly",VLOOKUP($O18,PM执行时间!$A:$E,3,0),Y18="Semi-an",VLOOKUP($O18,PM执行时间!$A:$E,4,0),Y18="Annual",VLOOKUP($O18,PM执行时间!$A:$E,5,0),Y18="","")} | AB18: {=_xlfn.IFS(AA18="Monthly",VLOOKUP($O18,PM执行时间!$A:$E,2,0),AA18="Quarterly",VLOOKUP($O18,PM执行时间!$A:$E,3,0),AA18="Semi-an",VLOOKUP($O18,PM执行时间!$A:$E,4,0),AA18="Annual",VLOOKUP($O18,PM执行时间!$A:$E,5,0),AA18="","")} | AD18: {=_xlfn.IFS(AC18="Monthly",VLOOKUP($O18,PM执行时间!$A:$E,2,0),AC18="Quarterly",VLOOKUP($O18,PM执行时间!$A:$E,3,0),AC18="Semi-an",VLOOKUP($O18,PM执行时间!$A:$E,4,0),AC18="Annual",VLOOKUP($O18,PM执行时间!$A:$E,5,0),AC18="","")} | AF18: {=_xlfn.IFS(AE18="Monthly",VLOOKUP($O18,PM执行时间!$A:$E,2,0),AE18="Quarterly",VLOOKUP($O18,PM执行时间!$A:$E,3,0),AE18="Semi-an",VLOOKUP($O18,PM执行时间!$A:$E,4,0),AE18="Annual",VLOOKUP($O18,PM执行时间!$A:$E,5,0),AE18="","")} | AH18: {=_xlfn.IFS(AG18="Monthly",VLOOKUP($O18,PM执行时间!$A:$E,2,0),AG18="Quarterly",VLOOKUP($O18,PM执行时间!$A:$E,3,0),AG18="Semi-an",VLOOKUP($O18,PM执行时间!$A:$E,4,0),AG18="Annual",VLOOKUP($O18,PM执行时间!$A:$E,5,0),AG18="","")} | AI18: Annual | AJ18: {=_xlfn.IFS(AI18="Monthly",VLOOKUP($O18,PM执行时间!$A:$E,2,0),AI18="Quarterly",VLOOKUP($O18,PM执行时间!$A:$E,3,0),AI18="Semi-an",VLOOKUP($O18,PM执行时间!$A:$E,4,0),AI18="Annual",VLOOKUP($O18,PM执行时间!$A:$E,5,0),AI18="","")} -> 1 | AL18: {=_xlfn.IFS(AK18="Monthly",VLOOKUP($O18,PM执行时间!$A:$E,2,0),AK18="Quarterly",VLOOKUP($O18,PM执行时间!$A:$E,3,0),AK18="Semi-an",VLOOKUP($O18,PM执行时间!$A:$E,4,0),AK18="Annual",VLOOKUP($O18,PM执行时间!$A:$E,5,0),AK18="","")} | AN18: {=_xlfn.IFS(AM18="Monthly",VLOOKUP($O18,PM执行时间!$A:$E,2,0),AM18="Quarterly",VLOOKUP($O18,PM执行时间!$A:$E,3,0),AM18="Semi-an",VLOOKUP($O18,PM执行时间!$A:$E,4,0),AM18="Annual",VLOOKUP($O18,PM执行时间!$A:$E,5,0),AM18="","")} | AO18: 44835
A19: 17 | B19: =SUBTOTAL(3,G$3:G19)+0 -> 0 | D19: 218 | E19: 焊机 | F19: YE-300WP | G19: 唐山松下产业机器公司 | H19: 无 | I19: 38596 | J19: B类 | K19: 运行中 | L19: KH二楼器械单元 | M19: N/A | N19: KH器械单元 | O19: WI-106-R02 | P19: 年 | R19: {=_xlfn.IFS(Q19="Monthly",VLOOKUP($O19,PM执行时间!$A:$E,2,0),Q19="Quarterly",VLOOKUP($O19,PM执行时间!$A:$E,3,0),Q19="Semi-an",VLOOKUP($O19,PM执行时间!$A:$E,4,0),Q19="Annual",VLOOKUP($O19,PM执行时间!$A:$E,5,0),Q19="","")} | T19: {=_xlfn.IFS(S19="Monthly",VLOOKUP($O19,PM执行时间!$A:$E,2,0),S19="Quarterly",VLOOKUP($O19,PM执行时间!$A:$E,3,0),S19="Semi-an",VLOOKUP($O19,PM执行时间!$A:$E,4,0),S19="Annual",VLOOKUP($O19,PM执行时间!$A:$E,5,0),S19="","")} | V19: {=_xlfn.IFS(U19="Monthly",VLOOKUP($O19,PM执行时间!$A:$E,2,0),U19="Quarterly",VLOOKUP($O19,PM执行时间!$A:$E,3,0),U19="Semi-an",VLOOKUP($O19,PM执行时间!$A:$E,4,0),U19="Annual",VLOOKUP($O19,PM执行时间!$A:$E,5,0),U19="","")} | X19: {=_xlfn.IFS(W19="Monthly",VLOOKUP($O19,PM执行时间!$A:$E,2,0),W19="Quarterly",VLOOKUP($O19,PM执行时间!$A:$E,3,0),W19="Semi-an",VLOOKUP($O19,PM执行时间!$A:$E,4,0),W19="Annual",VLOOKUP($O19,PM执行时间!$A:$E,5,0),W19="","")} | Z19: {=_xlfn.IFS(Y19="Monthly",VLOOKUP($O19,PM执行时间!$A:$E,2,0),Y19="Quarterly",VLOOKUP($O19,PM执行时间!$A:$E,3,0),Y19="Semi-an",VLOOKUP($O19,PM执行时间!$A:$E,4,0),Y19="Annual",VLOOKUP($O19,PM执行时间!$A:$E,5,0),Y19="","")} | AA19: Annual | AB19: {=_xlfn.IFS(AA19="Monthly",VLOOKUP($O19,PM执行时间!$A:$E,2,0),AA19="Quarterly",VLOOKUP($O19,PM执行时间!$A:$E,3,0),AA19="Semi-an",VLOOKUP($O19,PM执行时间!$A:$E,4,0),AA19="Annual",VLOOKUP($O19,PM执行时间!$A:$E,5,0),AA19="","")} -> 1 | AD19: {=_xlfn.IFS(AC19="Monthly",VLOOKUP($O19,PM执行时间!$A:$E,2,0),AC19="Quarterly",VLOOKUP($O19,PM执行时间!$A:$E,3,0),AC19="Semi-an",VLOOKUP($O19,PM执行时间!$A:$E,4,0),AC19="Annual",VLOOKUP($O19,PM执行时间!$A:$E,5,0),AC19="","")} | AF19: {=_xlfn.IFS(AE19="Monthly",VLOOKUP($O19,PM执行时间!$A:$E,2,0),AE19="Quarterly",VLOOKUP($O19,PM执行时间!$A:$E,3,0),AE19="Semi-an",VLOOKUP($O19,PM执行时间!$A:$E,4,0),AE19="Annual",VLOOKUP($O19,PM执行时间!$A:$E,5,0),AE19="","")} | AH19: {=_xlfn.IFS(AG19="Monthly",VLOOKUP($O19,PM执行时间!$A:$E,2,0),AG19="Quarterly",VLOOKUP($O19,PM执行时间!$A:$E,3,0),AG19="Semi-an",VLOOKUP($O19,PM执行时间!$A:$E,4,0),AG19="Annual",VLOOKUP($O19,PM执行时间!$A:$E,5,0),AG19="","")} | AJ19: {=_xlfn.IFS(AI19="Monthly",VLOOKUP($O19,PM执行时间!$A:$E,2,0),AI19="Quarterly",VLOOKUP($O19,PM执行时间!$A:$E,3,0),AI19="Semi-an",VLOOKUP($O19,PM执行时间!$A:$E,4,0),AI19="Annual",VLOOKUP($O19,PM执行时间!$A:$E,5,0),AI19="","")} | AL19: {=_xlfn.IFS(AK19="Monthly",VLOOKUP($O19,PM执行时间!$A:$E,2,0),AK19="Quarterly",VLOOKUP($O19,PM执行时间!$A:$E,3,0),AK19="Semi-an",VLOOKUP($O19,PM执行时间!$A:$E,4,0),AK19="Annual",VLOOKUP($O19,PM执行时间!$A:$E,5,0),AK19="","")} | AN19: {=_xlfn.IFS(AM19="Monthly",VLOOKUP($O19,PM执行时间!$A:$E,2,0),AM19="Quarterly",VLOOKUP($O19,PM执行时间!$A:$E,3,0),AM19="Semi-an",VLOOKUP($O19,PM执行时间!$A:$E,4,0),AM19="Annual",VLOOKUP($O19,PM执行时间!$A:$E,5,0),AM19="","")} | AO19: 44713
A20: 39 | B20: =SUBTOTAL(3,G$3:G20)+0 -> 1 | D20: 311 | E20: 清洗线 | F20: QZ-5048-25B/02 | G20: 众强超声科技 | H20: 70301 | I20: 39203 | J20: B类 | K20: 运行中 | L20: KH一楼北 | M20: 39142 | N20: KH创伤单元 | O20: FM-P0024.02 | P20: 月 | Q20: Monthly | R20: {=_xlfn.IFS(Q20="Monthly",VLOOKUP($O20,PM执行时间!$A:$E,2,0),Q20="Quarterly",VLOOKUP($O20,PM执行时间!$A:$E,3,0),Q20="Semi-an",VLOOKUP($O20,PM执行时间!$A:$E,4,0),Q20="Annual",VLOOKUP($O20,PM执行时间!$A:$E,5,0),Q20="","")} -> 1 | S20: Monthly | T20: {=_xlfn.IFS(S20="Monthly",VLOOKUP($O20,PM执行时间!$A:$E,2,0),S20="Quarterly",VLOOKUP($O20,PM执行时间!$A:$E,3,0),S20="Semi-an",VLOOKUP($O20,PM执行时间!$A:$E,4,0),S20="Annual",VLOOKUP($O20,PM执行时间!$A:$E,5,0),S20="","")} -> 1 | U20: Monthly | V20: {=_xlfn.IFS(U20="Monthly",VLOOKUP($O20,PM执行时间!$A:$E,2,0),U20="Quarterly",VLOOKUP($O20,PM执行时间!$A:$E,3,0),U20="Semi-an",VLOOKUP($O20,PM执行时间!$A:$E,4,0),U20="Annual",VLOOKUP($O20,PM执行时间!$A:$E,5,0),U20="","")} -> 1 | W20: Monthly | X20: {=_xlfn.IFS(W20="Monthly",VLOOKUP($O20,PM执行时间!$A:$E,2,0),W20="Quarterly",VLOOKUP($O20,PM执行时间!$A:$E,3,0),W20="Semi-an",VLOOKUP($O20,PM执行时间!$A:$E,4,0),W20="Annual",VLOOKUP($O20,PM执行时间!$A:$E,5,0),W20="","")} -> 1 | Y20: Monthly | Z20: {=_xlfn.IFS(Y20="Monthly",VLOOKUP($O20,PM执行时间!$A:$E,2,0),Y20="Quarterly",VLOOKUP($O20,PM执行时间!$A:$E,3,0),Y20="Semi-an",VLOOKUP($O20,PM执行时间!$A:$E,4,0),Y20="Annual",VLOOKUP($O20,PM执行时间!$A:$E,5,0),Y20="","")} -> 1 | AA20: Monthly | AB20: {=_xlfn.IFS(AA20="Monthly",VLOOKUP($O20,PM执行时间!$A:$E,2,0),AA20="Quarterly",VLOOKUP($O20,PM执行时间!$A:$E,3,0),AA20="Semi-an",VLOOKUP($O20,PM执行时间!$A:$E,4,0),AA20="Annual",VLOOKUP($O20,PM执行时间!$A:$E,5,0),AA20="","")} -> 1 | AC20: Monthly | AD20: {=_xlfn.IFS(AC20="Monthly",VLOOKUP($O20,PM执行时间!$A:$E,2,0),AC20="Quarterly",VLOOKUP($O20,PM执行时间!$A:$E,3,0),AC20="Semi-an",VLOOKUP($O20,PM执行时间!$A:$E,4,0),AC20="Annual",VLOOKUP($O20,PM执行时间!$A:$E,5,0),AC20="","")} -> 1 | AE20: Monthly | AF20: {=_xlfn.IFS(AE20="Monthly",VLOOKUP($O20,PM执行时间!$A:$E,2,0),AE20="Quarterly",VLOOKUP($O20,PM执行时间!$A:$E,3,0),AE20="Semi-an",VLOOKUP($O20,PM执行时间!$A:$E,4,0),AE20="Annual",VLOOKUP($O20,PM执行时间!$A:$E,5,0),AE20="","")} -> 1 | AG20: Monthly | AH20: {=_xlfn.IFS(AG20="Monthly",VLOOKUP($O20,PM执行时间!$A:$E,2,0),AG20="Quarterly",VLOOKUP($O20,PM执行时间!$A:$E,3,0),AG20="Semi-an",VLOOKUP($O20,PM执行时间!$A:$E,4,0),AG20="Annual",VLOOKUP($O20,PM执行时间!$A:$E,5,0),AG20="","")} -> 1 | AI20: Monthly | AJ20: {=_xlfn.IFS(AI20="Monthly",VLOOKUP($O20,PM执行时间!$A:$E,2,0),AI20="Quarterly",VLOOKUP($O20,PM执行时间!$A:$E,3,0),AI20="Semi-an",VLOOKUP($O20,PM执行时间!$A:$E,4,0),AI20="Annual",VLOOKUP($O20,PM执行时间!$A:$E,5,0),AI20="","")} -> 1 | AK20: Monthly | AL20: {=_xlfn.IFS(AK20="Monthly",VLOOKUP($O20,PM执行时间!$A:$E,2,0),AK20="Quarterly",VLOOKUP($O20,PM执行时间!$A:$E,3,0),AK20="Semi-an",VLOOKUP($O20,PM执行时间!$A:$E,4,0),AK20="Annual",VLOOKUP($O20,PM执行时间!$A:$E,5,0),AK20="","")} -> 1 | AM20: Monthly | AN20: {=_xlfn.IFS(AM20="Monthly",VLOOKUP($O20,PM执行时间!$A:$E,2,0),AM20="Quarterly",VLOOKUP($O20,PM执行时间!$A:$E,3,0),AM20="Semi-an",VLOOKUP($O20,PM执行时间!$A:$E,4,0),AM20="Annual",VLOOKUP($O20,PM执行时间!$A:$E,5,0),AM20="","")} -> 1 | AO20: 44805 | AP20: 3/16-3/20
A21: 19 | B21: =SUBTOTAL(3,G$3:G21)+0 -> 1 | D21: 234 | E21: 线切割机床 | F21: FW2 | G21: 北京阿奇夏米尔 | H21: 035-005 | I21: 38657 | J21: B类 | K21: 运行中 | L21: KH一楼东南 | M21: 2005 | N21: KH脊柱单元 | O21: FM-P0028.02 | P21: 年 | Q21: Annual | R21: {=_xlfn.IFS(Q21="Monthly",VLOOKUP($O21,PM执行时间!$A:$E,2,0),Q21="Quarterly",VLOOKUP($O21,PM执行时间!$A:$E,3,0),Q21="Semi-an",VLOOKUP($O21,PM执行时间!$A:$E,4,0),Q21="Annual",VLOOKUP($O21,PM执行时间!$A:$E,5,0),Q21="","")} -> 1 | T21: {=_xlfn.IFS(S21="Monthly",VLOOKUP($O21,PM执行时间!$A:$E,2,0),S21="Quarterly",VLOOKUP($O21,PM执行时间!$A:$E,3,0),S21="Semi-an",VLOOKUP($O21,PM执行时间!$A:$E,4,0),S21="Annual",VLOOKUP($O21,PM执行时间!$A:$E,5,0),S21="","")} | V21: {=_xlfn.IFS(U21="Monthly",VLOOKUP($O21,PM执行时间!$A:$E,2,0),U21="Quarterly",VLOOKUP($O21,PM执行时间!$A:$E,3,0),U21="Semi-an",VLOOKUP($O21,PM执行时间!$A:$E,4,0),U21="Annual",VLOOKUP($O21,PM执行时间!$A:$E,5,0),U21="","")} | X21: {=_xlfn.IFS(W21="Monthly",VLOOKUP($O21,PM执行时间!$A:$E,2,0),W21="Quarterly",VLOOKUP($O21,PM执行时间!$A:$E,3,0),W21="Semi-an",VLOOKUP($O21,PM执行时间!$A:$E,4,0),W21="Annual",VLOOKUP($O21,PM执行时间!$A:$E,5,0),W21="","")} | Z21: {=_xlfn.IFS(Y21="Monthly",VLOOKUP($O21,PM执行时间!$A:$E,2,0),Y21="Quarterly",VLOOKUP($O21,PM执行时间!$A:$E,3,0),Y21="Semi-an",VLOOKUP($O21,PM执行时间!$A:$E,4,0),Y21="Annual",VLOOKUP($O21,PM执行时间!$A:$E,5,0),Y21="","")} | AB21: {=_xlfn.IFS(AA21="Monthly",VLOOKUP($O21,PM执行时间!$A:$E,2,0),AA21="Quarterly",VLOOKUP($O21,PM执行时间!$A:$E,3,0),AA21="Semi-an",VLOOKUP($O21,PM执行时间!$A:$E,4,0),AA21="Annual",VLOOKUP($O21,PM执行时间!$A:$E,5,0),AA21="","")} | AD21: {=_xlfn.IFS(AC21="Monthly",VLOOKUP($O21,PM执行时间!$A:$E,2,0),AC21="Quarterly",VLOOKUP($O21,PM执行时间!$A:$E,3,0),AC21="Semi-an",VLOOKUP($O21,PM执行时间!$A:$E,4,0),AC21="Annual",VLOOKUP($O21,PM执行时间!$A:$E,5,0),AC21="","")} | AF21: {=_xlfn.IFS(AE21="Monthly",VLOOKUP($O21,PM执行时间!$A:$E,2,0),AE21="Quarterly",VLOOKUP($O21,PM执行时间!$A:$E,3,0),AE21="Semi-an",VLOOKUP($O21,PM执行时间!$A:$E,4,0),AE21="Annual",VLOOKUP($O21,PM执行时间!$A:$E,5,0),AE21="","")} | AH21: {=_xlfn.IFS(AG21="Monthly",VLOOKUP($O21,PM执行时间!$A:$E,2,0),AG21="Quarterly",VLOOKUP($O21,PM执行时间!$A:$E,3,0),AG21="Semi-an",VLOOKUP($O21,PM执行时间!$A:$E,4,0),AG21="Annual",VLOOKUP($O21,PM执行时间!$A:$E,5,0),AG21="","")} | AJ21: {=_xlfn.IFS(AI21="Monthly",VLOOKUP($O21,PM执行时间!$A:$E,2,0),AI21="Quarterly",VLOOKUP($O21,PM执行时间!$A:$E,3,0),AI21="Semi-an",VLOOKUP($O21,PM执行时间!$A:$E,4,0),AI21="Annual",VLOOKUP($O21,PM执行时间!$A:$E,5,0),AI21="","")} | AL21: {=_xlfn.IFS(AK21="Monthly",VLOOKUP($O21,PM执行时间!$A:$E,2,0),AK21="Quarterly",VLOOKUP($O21,PM执行时间!$A:$E,3,0),AK21="Semi-an",VLOOKUP($O21,PM执行时间!$A:$E,4,0),AK21="Annual",VLOOKUP($O21,PM执行时间!$A:$E,5,0),AK21="","")} | AN21: {=_xlfn.IFS(AM21="Monthly",VLOOKUP($O21,PM执行时间!$A:$E,2,0),AM21="Quarterly",VLOOKUP($O21,PM执行时间!$A:$E,3,0),AM21="Semi-an",VLOOKUP($O21,PM执行时间!$A:$E,4,0),AM21="Annual",VLOOKUP($O21,PM执行时间!$A:$E,5,0),AM21="","")} | AO21: 44562
A22: 20 | B22: =SUBTOTAL(3,G$3:G22)+0 -> 1 | D22: 235 | E22: 纵切机床 | F22: SR-20RII | G22: STAR精密株式会社 | H22: 1075 | I22: 38687 | J22: A类 | K22: 运行中 | L22: KH一楼正西 | M22: 38626 | N22: KH脊柱单元 | O22: WI-021-R03 | P22: 季度/半年/年 | Q22: Semi-an | R22: {=_xlfn.IFS(Q22="Monthly",VLOOKUP($O22,PM执行时间!$A:$E,2,0),Q22="Quarterly",VLOOKUP($O22,PM执行时间!$A:$E,3,0),Q22="Semi-an",VLOOKUP($O22,PM执行时间!$A:$E,4,0),Q22="Annual",VLOOKUP($O22,PM执行时间!$A:$E,5,0),Q22="","")} -> 1.42 | T22: {=_xlfn.IFS(S22="Monthly",VLOOKUP($O22,PM执行时间!$A:$E,2,0),S22="Quarterly",VLOOKUP($O22,PM执行时间!$A:$E,3,0),S22="Semi-an",VLOOKUP($O22,PM执行时间!$A:$E,4,0),S22="Annual",VLOOKUP($O22,PM执行时间!$A:$E,5,0),S22="","")} | V22: {=_xlfn.IFS(U22="Monthly",VLOOKUP($O22,PM执行时间!$A:$E,2,0),U22="Quarterly",VLOOKUP($O22,PM执行时间!$A:$E,3,0),U22="Semi-an",VLOOKUP($O22,PM执行时间!$A:$E,4,0),U22="Annual",VLOOKUP($O22,PM执行时间!$A:$E,5,0),U22="","")} | W22: Quarterly | X22: {=_xlfn.IFS(W22="Monthly",VLOOKUP($O22,PM执行时间!$A:$E,2,0),W22="Quarterly",VLOOKUP($O22,PM执行时间!$A:$E,3,0),W22="Semi-an",VLOOKUP($O22,PM执行时间!$A:$E,4,0),W22="Annual",VLOOKUP($O22,PM执行时间!$A:$E,5,0),W22="","")} -> 1 | Z22: {=_xlfn.IFS(Y22="Monthly",VLOOKUP($O22,PM执行时间!$A:$E,2,0),Y22="Quarterly",VLOOKUP($O22,PM执行时间!$A:$E,3,0),Y22="Semi-an",VLOOKUP($O22,PM执行时间!$A:$E,4,0),Y22="Annual",VLOOKUP($O22,PM执行时间!$A:$E,5,0),Y22="","")} | AB22: {=_xlfn.IFS(AA22="Monthly",VLOOKUP($O22,PM执行时间!$A:$E,2,0),AA22="Quarterly",VLOOKUP($O22,PM执行时间!$A:$E,3,0),AA22="Semi-an",VLOOKUP($O22,PM执行时间!$A:$E,4,0),AA22="Annual",VLOOKUP($O22,PM执行时间!$A:$E,5,0),AA22="","")} | AC22: Annual | AD22: {=_xlfn.IFS(AC22="Monthly",VLOOKUP($O22,PM执行时间!$A:$E,2,0),AC22="Quarterly",VLOOKUP($O22,PM执行时间!$A:$E,3,0),AC22="Semi-an",VLOOKUP($O22,PM执行时间!$A:$E,4,0),AC22="Annual",VLOOKUP($O22,PM执行时间!$A:$E,5,0),AC22="","")} -> 1.67 | AF22: {=_xlfn.IFS(AE22="Monthly",VLOOKUP($O22,PM执行时间!$A:$E,2,0),AE22="Quarterly",VLOOKUP($O22,PM执行时间!$A:$E,3,0),AE22="Semi-an",VLOOKUP($O22,PM执行时间!$A:$E,4,0),AE22="Annual",VLOOKUP($O22,PM执行时间!$A:$E,5,0),AE22="","")} | AH22: {=_xlfn.IFS(AG22="Monthly",VLOOKUP($O22,PM执行时间!$A:$E,2,0),AG22="Quarterly",VLOOKUP($O22,PM执行时间!$A:$E,3,0),AG22="Semi-an",VLOOKUP($O22,PM执行时间!$A:$E,4,0),AG22="Annual",VLOOKUP($O22,PM执行时间!$A:$E,5,0),AG22="","")} | AI22: Quarterly | AJ22: {=_xlfn.IFS(AI22="Monthly",VLOOKUP($O22,PM执行时间!$A:$E,2,0),AI22="Quarterly",VLOOKUP($O22,PM执行时间!$A:$E,3,0),AI22="Semi-an",VLOOKUP($O22,PM执行时间!$A:$E,4,0),AI22="Annual",VLOOKUP($O22,PM执行时间!$A:$E,5,0),AI22="","")} -> 1 | AL22: {=_xlfn.IFS(AK22="Monthly",VLOOKUP($O22,PM执行时间!$A:$E,2,0),AK22="Quarterly",VLOOKUP($O22,PM执行时间!$A:$E,3,0),AK22="Semi-an",VLOOKUP($O22,PM执行时间!$A:$E,4,0),AK22="Annual",VLOOKUP($O22,PM执行时间!$A:$E,5,0),AK22="","")} | AN22: {=_xlfn.IFS(AM22="Monthly",VLOOKUP($O22,PM执行时间!$A:$E,2,0),AM22="Quarterly",VLOOKUP($O22,PM执行时间!$A:$E,3,0),AM22="Semi-an",VLOOKUP($O22,PM执行时间!$A:$E,4,0),AM22="Annual",VLOOKUP($O22,PM执行时间!$A:$E,5,0),AM22="","")} | AO22: 44743
A23: 21 | B23: =SUBTOTAL(3,G$3:G23)+0 -> 1 | D23: 242 | E23: 普通车床 | F23: C6132A1 | G23: 广州机床厂 | H23: JE0966 | I23: 38657 | J23: B类 | K23: 运行中 | L23: KH二楼器械单元 | M23: N/A | N23: KH器械单元 | O23: WI-011-R02 | P23: 年 | R23: {=_xlfn.IFS(Q23="Monthly",VLOOKUP($O23,PM执行时间!$A:$E,2,0),Q23="Quarterly",VLOOKUP($O23,PM执行时间!$A:$E,3,0),Q23="Semi-an",VLOOKUP($O23,PM执行时间!$A:$E,4,0),Q23="Annual",VLOOKUP($O23,PM执行时间!$A:$E,5,0),Q23="","")} | T23: {=_xlfn.IFS(S23="Monthly",VLOOKUP($O23,PM执行时间!$A:$E,2,0),S23="Quarterly",VLOOKUP($O23,PM执行时间!$A:$E,3,0),S23="Semi-an",VLOOKUP($O23,PM执行时间!$A:$E,4,0),S23="Annual",VLOOKUP($O23,PM执行时间!$A:$E,5,0),S23="","")} | V23: {=_xlfn.IFS(U23="Monthly",VLOOKUP($O23,PM执行时间!$A:$E,2,0),U23="Quarterly",VLOOKUP($O23,PM执行时间!$A:$E,3,0),U23="Semi-an",VLOOKUP($O23,PM执行时间!$A:$E,4,0),U23="Annual",VLOOKUP($O23,PM执行时间!$A:$E,5,0),U23="","")} | W23: Annual | X23: {=_xlfn.IFS(W23="Monthly",VLOOKUP($O23,PM执行时间!$A:$E,2,0),W23="Quarterly",VLOOKUP($O23,PM执行时间!$A:$E,3,0),W23="Semi-an",VLOOKUP($O23,PM执行时间!$A:$E,4,0),W23="Annual",VLOOKUP($O23,PM执行时间!$A:$E,5,0),W23="","")} -> 1 | Z23: {=_xlfn.IFS(Y23="Monthly",VLOOKUP($O23,PM执行时间!$A:$E,2,0),Y23="Quarterly",VLOOKUP($O23,PM执行时间!$A:$E,3,0),Y23="Semi-an",VLOOKUP($O23,PM执行时间!$A:$E,4,0),Y23="Annual",VLOOKUP($O23,PM执行时间!$A:$E,5,0),Y23="","")} | AB23: {=_xlfn.IFS(AA23="Monthly",VLOOKUP($O23,PM执行时间!$A:$E,2,0),AA23="Quarterly",VLOOKUP($O23,PM执行时间!$A:$E,3,0),AA23="Semi-an",VLOOKUP($O23,PM执行时间!$A:$E,4,0),AA23="Annual",VLOOKUP($O23,PM执行时间!$A:$E,5,0),AA23="","")} | AD23: {=_xlfn.IFS(AC23="Monthly",VLOOKUP($O23,PM执行时间!$A:$E,2,0),AC23="Quarterly",VLOOKUP($O23,PM执行时间!$A:$E,3,0),AC23="Semi-an",VLOOKUP($O23,PM执行时间!$A:$E,4,0),AC23="Annual",VLOOKUP($O23,PM执行时间!$A:$E,5,0),AC23="","")} | AF23: {=_xlfn.IFS(AE23="Monthly",VLOOKUP($O23,PM执行时间!$A:$E,2,0),AE23="Quarterly",VLOOKUP($O23,PM执行时间!$A:$E,3,0),AE23="Semi-an",VLOOKUP($O23,PM执行时间!$A:$E,4,0),AE23="Annual",VLOOKUP($O23,PM执行时间!$A:$E,5,0),AE23="","")} | AH23: {=_xlfn.IFS(AG23="Monthly",VLOOKUP($O23,PM执行时间!$A:$E,2,0),AG23="Quarterly",VLOOKUP($O23,PM执行时间!$A:$E,3,0),AG23="Semi-an",VLOOKUP($O23,PM执行时间!$A:$E,4,0),AG23="Annual",VLOOKUP($O23,PM执行时间!$A:$E,5,0),AG23="","")} | AJ23: {=_xlfn.IFS(AI23="Monthly",VLOOKUP($O23,PM执行时间!$A:$E,2,0),AI23="Quarterly",VLOOKUP($O23,PM执行时间!$A:$E,3,0),AI23="Semi-an",VLOOKUP($O23,PM执行时间!$A:$E,4,0),AI23="Annual",VLOOKUP($O23,PM执行时间!$A:$E,5,0),AI23="","")} | AL23: {=_xlfn.IFS(AK23="Monthly",VLOOKUP($O23,PM执行时间!$A:$E,2,0),AK23="Quarterly",VLOOKUP($O23,PM执行时间!$A:$E,3,0),AK23="Semi-an",VLOOKUP($O23,PM执行时间!$A:$E,4,0),AK23="Annual",VLOOKUP($O23,PM执行时间!$A:$E,5,0),AK23="","")} | AN23: {=_xlfn.IFS(AM23="Monthly",VLOOKUP($O23,PM执行时间!$A:$E,2,0),AM23="Quarterly",VLOOKUP($O23,PM执行时间!$A:$E,3,0),AM23="Semi-an",VLOOKUP($O23,PM执行时间!$A:$E,4,0),AM23="Annual",VLOOKUP($O23,PM执行时间!$A:$E,5,0),AM23="","")} | AO23: 44652
A24: 22 | B24: =SUBTOTAL(3,G$3:G24)+0 -> 1 | D24: 243 | E24: 普通铣床 | F24: 243 | G24: 南通纵横国际 | H24: 451627 | I24: 38657 | J24: B类 | K24: 运行中 | L24: KH二楼器械单元 | M24: N/A | N24: KH器械单元 | O24: WI-019-R02 | P24: 年 | R24: {=_xlfn.IFS(Q24="Monthly",VLOOKUP($O24,PM执行时间!$A:$E,2,0),Q24="Quarterly",VLOOKUP($O24,PM执行时间!$A:$E,3,0),Q24="Semi-an",VLOOKUP($O24,PM执行时间!$A:$E,4,0),Q24="Annual",VLOOKUP($O24,PM执行时间!$A:$E,5,0),Q24="","")} | T24: {=_xlfn.IFS(S24="Monthly",VLOOKUP($O24,PM执行时间!$A:$E,2,0),S24="Quarterly",VLOOKUP($O24,PM执行时间!$A:$E,3,0),S24="Semi-an",VLOOKUP($O24,PM执行时间!$A:$E,4,0),S24="Annual",VLOOKUP($O24,PM执行时间!$A:$E,5,0),S24="","")} | V24: {=_xlfn.IFS(U24="Monthly",VLOOKUP($O24,PM执行时间!$A:$E,2,0),U24="Quarterly",VLOOKUP($O24,PM执行时间!$A:$E,3,0),U24="Semi-an",VLOOKUP($O24,PM执行时间!$A:$E,4,0),U24="Annual",VLOOKUP($O24,PM执行时间!$A:$E,5,0),U24="","")} | X24: {=_xlfn.IFS(W24="Monthly",VLOOKUP($O24,PM执行时间!$A:$E,2,0),W24="Quarterly",VLOOKUP($O24,PM执行时间!$A:$E,3,0),W24="Semi-an",VLOOKUP($O24,PM执行时间!$A:$E,4,0),W24="Annual",VLOOKUP($O24,PM执行时间!$A:$E,5,0),W24="","")} | Z24: {=_xlfn.IFS(Y24="Monthly",VLOOKUP($O24,PM执行时间!$A:$E,2,0),Y24="Quarterly",VLOOKUP($O24,PM执行时间!$A:$E,3,0),Y24="Semi-an",VLOOKUP($O24,PM执行时间!$A:$E,4,0),Y24="Annual",VLOOKUP($O24,PM执行时间!$A:$E,5,0),Y24="","")} | AB24: {=_xlfn.IFS(AA24="Monthly",VLOOKUP($O24,PM执行时间!$A:$E,2,0),AA24="Quarterly",VLOOKUP($O24,PM执行时间!$A:$E,3,0),AA24="Semi-an",VLOOKUP($O24,PM执行时间!$A:$E,4,0),AA24="Annual",VLOOKUP($O24,PM执行时间!$A:$E,5,0),AA24="","")} | AD24: {=_xlfn.IFS(AC24="Monthly",VLOOKUP($O24,PM执行时间!$A:$E,2,0),AC24="Quarterly",VLOOKUP($O24,PM执行时间!$A:$E,3,0),AC24="Semi-an",VLOOKUP($O24,PM执行时间!$A:$E,4,0),AC24="Annual",VLOOKUP($O24,PM执行时间!$A:$E,5,0),AC24="","")} | AF24: {=_xlfn.IFS(AE24="Monthly",VLOOKUP($O24,PM执行时间!$A:$E,2,0),AE24="Quarterly",VLOOKUP($O24,PM执行时间!$A:$E,3,0),AE24="Semi-an",VLOOKUP($O24,PM执行时间!$A:$E,4,0),AE24="Annual",VLOOKUP($O24,PM执行时间!$A:$E,5,0),AE24="","")} | AG24: Annual | AH24: {=_xlfn.IFS(AG24="Monthly",VLOOKUP($O24,PM执行时间!$A:$E,2,0),AG24="Quarterly",VLOOKUP($O24,PM执行时间!$A:$E,3,0),AG24="Semi-an",VLOOKUP($O24,PM执行时间!$A:$E,4,0),AG24="Annual",VLOOKUP($O24,PM执行时间!$A:$E,5,0),AG24="","")} -> 1 | AJ24: {=_xlfn.IFS(AI24="Monthly",VLOOKUP($O24,PM执行时间!$A:$E,2,0),AI24="Quarterly",VLOOKUP($O24,PM执行时间!$A:$E,3,0),AI24="Semi-an",VLOOKUP($O24,PM执行时间!$A:$E,4,0),AI24="Annual",VLOOKUP($O24,PM执行时间!$A:$E,5,0),AI24="","")} | AL24: {=_xlfn.IFS(AK24="Monthly",VLOOKUP($O24,PM执行时间!$A:$E,2,0),AK24="Quarterly",VLOOKUP($O24,PM执行时间!$A:$E,3,0),AK24="Semi-an",VLOOKUP($O24,PM执行时间!$A:$E,4,0),AK24="Annual",VLOOKUP($O24,PM执行时间!$A:$E,5,0),AK24="","")} | AN24: {=_xlfn.IFS(AM24="Monthly",VLOOKUP($O24,PM执行时间!$A:$E,2,0),AM24="Quarterly",VLOOKUP($O24,PM执行时间!$A:$E,3,0),AM24="Semi-an",VLOOKUP($O24,PM执行时间!$A:$E,4,0),AM24="Annual",VLOOKUP($O24,PM执行时间!$A:$E,5,0),AM24="","")} | AO24: 44805
A25: 23 | B25: =SUBTOTAL(3,G$3:G25)+0 -> 1 | D25: 258 | E25: 纵切机床 | F25: SR-20RII | G25: STAR精密株式会社 | H25: 1152 | I25: 38718 | J25: A类 | K25: 运行中 | L25: KH一楼正西 | M25: 38657 | N25: KH脊柱单元 | O25: WI-021-R03 | P25: 季度/半年/年 | Q25: Semi-an | R25: {=_xlfn.IFS(Q25="Monthly",VLOOKUP($O25,PM执行时间!$A:$E,2,0),Q25="Quarterly",VLOOKUP($O25,PM执行时间!$A:$E,3,0),Q25="Semi-an",VLOOKUP($O25,PM执行时间!$A:$E,4,0),Q25="Annual",VLOOKUP($O25,PM执行时间!$A:$E,5,0),Q25="","")} -> 1.42 | T25: {=_xlfn.IFS(S25="Monthly",VLOOKUP($O25,PM执行时间!$A:$E,2,0),S25="Quarterly",VLOOKUP($O25,PM执行时间!$A:$E,3,0),S25="Semi-an",VLOOKUP($O25,PM执行时间!$A:$E,4,0),S25="Annual",VLOOKUP($O25,PM执行时间!$A:$E,5,0),S25="","")} | V25: {=_xlfn.IFS(U25="Monthly",VLOOKUP($O25,PM执行时间!$A:$E,2,0),U25="Quarterly",VLOOKUP($O25,PM执行时间!$A:$E,3,0),U25="Semi-an",VLOOKUP($O25,PM执行时间!$A:$E,4,0),U25="Annual",VLOOKUP($O25,PM执行时间!$A:$E,5,0),U25="","")} | W25: Quarterly | X25: {=_xlfn.IFS(W25="Monthly",VLOOKUP($O25,PM执行时间!$A:$E,2,0),W25="Quarterly",VLOOKUP($O25,PM执行时间!$A:$E,3,0),W25="Semi-an",VLOOKUP($O25,PM执行时间!$A:$E,4,0),W25="Annual",VLOOKUP($O25,PM执行时间!$A:$E,5,0),W25="","")} -> 1 | Z25: {=_xlfn.IFS(Y25="Monthly",VLOOKUP($O25,PM执行时间!$A:$E,2,0),Y25="Quarterly",VLOOKUP($O25,PM执行时间!$A:$E,3,0),Y25="Semi-an",VLOOKUP($O25,PM执行时间!$A:$E,4,0),Y25="Annual",VLOOKUP($O25,PM执行时间!$A:$E,5,0),Y25="","")} | AB25: {=_xlfn.IFS(AA25="Monthly",VLOOKUP($O25,PM执行时间!$A:$E,2,0),AA25="Quarterly",VLOOKUP($O25,PM执行时间!$A:$E,3,0),AA25="Semi-an",VLOOKUP($O25,PM执行时间!$A:$E,4,0),AA25="Annual",VLOOKUP($O25,PM执行时间!$A:$E,5,0),AA25="","")} | AC25: Annual | AD25: {=_xlfn.IFS(AC25="Monthly",VLOOKUP($O25,PM执行时间!$A:$E,2,0),AC25="Quarterly",VLOOKUP($O25,PM执行时间!$A:$E,3,0),AC25="Semi-an",VLOOKUP($O25,PM执行时间!$A:$E,4,0),AC25="Annual",VLOOKUP($O25,PM执行时间!$A:$E,5,0),AC25="","")} -> 1.67 | AF25: {=_xlfn.IFS(AE25="Monthly",VLOOKUP($O25,PM执行时间!$A:$E,2,0),AE25="Quarterly",VLOOKUP($O25,PM执行时间!$A:$E,3,0),AE25="Semi-an",VLOOKUP($O25,PM执行时间!$A:$E,4,0),AE25="Annual",VLOOKUP($O25,PM执行时间!$A:$E,5,0),AE25="","")} | AH25: {=_xlfn.IFS(AG25="Monthly",VLOOKUP($O25,PM执行时间!$A:$E,2,0),AG25="Quarterly",VLOOKUP($O25,PM执行时间!$A:$E,3,0),AG25="Semi-an",VLOOKUP($O25,PM执行时间!$A:$E,4,0),AG25="Annual",VLOOKUP($O25,PM执行时间!$A:$E,5,0),AG25="","")} | AI25: Quarterly | AJ25: {=_xlfn.IFS(AI25="Monthly",VLOOKUP($O25,PM执行时间!$A:$E,2,0),AI25="Quarterly",VLOOKUP($O25,PM执行时间!$A:$E,3,0),AI25="Semi-an",VLOOKUP($O25,PM执行时间!$A:$E,4,0),AI25="Annual",VLOOKUP($O25,PM执行时间!$A:$E,5,0),AI25="","")} -> 1 | AL25: {=_xlfn.IFS(AK25="Monthly",VLOOKUP($O25,PM执行时间!$A:$E,2,0),AK25="Quarterly",VLOOKUP($O25,PM执行时间!$A:$E,3,0),AK25="Semi-an",VLOOKUP($O25,PM执行时间!$A:$E,4,0),AK25="Annual",VLOOKUP($O25,PM执行时间!$A:$E,5,0),AK25="","")} | AN25: {=_xlfn.IFS(AM25="Monthly",VLOOKUP($O25,PM执行时间!$A:$E,2,0),AM25="Quarterly",VLOOKUP($O25,PM执行时间!$A:$E,3,0),AM25="Semi-an",VLOOKUP($O25,PM执行时间!$A:$E,4,0),AM25="Annual",VLOOKUP($O25,PM执行时间!$A:$E,5,0),AM25="","")} | AO25: 44743
A26: 24 | B26: =SUBTOTAL(3,G$3:G26)+0 -> 1 | D26: 259 | E26: 纵切机床 | F26: SR-20RII | G26: STAR精密株式会社 | H26: 1151 | I26: 38718 | J26: A类 | K26: 运行中 | L26: KH一楼正西 | M26: 38657 | N26: KH脊柱单元 | O26: WI-021-R03 | P26: 季度/半年/年 | Q26: Semi-an | R26: {=_xlfn.IFS(Q26="Monthly",VLOOKUP($O26,PM执行时间!$A:$E,2,0),Q26="Quarterly",VLOOKUP($O26,PM执行时间!$A:$E,3,0),Q26="Semi-an",VLOOKUP($O26,PM执行时间!$A:$E,4,0),Q26="Annual",VLOOKUP($O26,PM执行时间!$A:$E,5,0),Q26="","")} -> 1.42 | T26: {=_xlfn.IFS(S26="Monthly",VLOOKUP($O26,PM执行时间!$A:$E,2,0),S26="Quarterly",VLOOKUP($O26,PM执行时间!$A:$E,3,0),S26="Semi-an",VLOOKUP($O26,PM执行时间!$A:$E,4,0),S26="Annual",VLOOKUP($O26,PM执行时间!$A:$E,5,0),S26="","")} | V26: {=_xlfn.IFS(U26="Monthly",VLOOKUP($O26,PM执行时间!$A:$E,2,0),U26="Quarterly",VLOOKUP($O26,PM执行时间!$A:$E,3,0),U26="Semi-an",VLOOKUP($O26,PM执行时间!$A:$E,4,0),U26="Annual",VLOOKUP($O26,PM执行时间!$A:$E,5,0),U26="","")} | W26: Quarterly | X26: {=_xlfn.IFS(W26="Monthly",VLOOKUP($O26,PM执行时间!$A:$E,2,0),W26="Quarterly",VLOOKUP($O26,PM执行时间!$A:$E,3,0),W26="Semi-an",VLOOKUP($O26,PM执行时间!$A:$E,4,0),W26="Annual",VLOOKUP($O26,PM执行时间!$A:$E,5,0),W26="","")} -> 1 | Z26: {=_xlfn.IFS(Y26="Monthly",VLOOKUP($O26,PM执行时间!$A:$E,2,0),Y26="Quarterly",VLOOKUP($O26,PM执行时间!$A:$E,3,0),Y26="Semi-an",VLOOKUP($O26,PM执行时间!$A:$E,4,0),Y26="Annual",VLOOKUP($O26,PM执行时间!$A:$E,5,0),Y26="","")} | AB26: {=_xlfn.IFS(AA26="Monthly",VLOOKUP($O26,PM执行时间!$A:$E,2,0),AA26="Quarterly",VLOOKUP($O26,PM执行时间!$A:$E,3,0),AA26="Semi-an",VLOOKUP($O26,PM执行时间!$A:$E,4,0),AA26="Annual",VLOOKUP($O26,PM执行时间!$A:$E,5,0),AA26="","")} | AC26: Annual | AD26: {=_xlfn.IFS(AC26="Monthly",VLOOKUP($O26,PM执行时间!$A:$E,2,0),AC26="Quarterly",VLOOKUP($O26,PM执行时间!$A:$E,3,0),AC26="Semi-an",VLOOKUP($O26,PM执行时间!$A:$E,4,0),AC26="Annual",VLOOKUP($O26,PM执行时间!$A:$E,5,0),AC26="","")} -> 1.67 | AF26: {=_xlfn.IFS(AE26="Monthly",VLOOKUP($O26,PM执行时间!$A:$E,2,0),AE26="Quarterly",VLOOKUP($O26,PM执行时间!$A:$E,3,0),AE26="Semi-an",VLOOKUP($O26,PM执行时间!$A:$E,4,0),AE26="Annual",VLOOKUP($O26,PM执行时间!$A:$E,5,0),AE26="","")} | AH26: {=_xlfn.IFS(AG26="Monthly",VLOOKUP($O26,PM执行时间!$A:$E,2,0),AG26="Quarterly",VLOOKUP($O26,PM执行时间!$A:$E,3,0),AG26="Semi-an",VLOOKUP($O26,PM执行时间!$A:$E,4,0),AG26="Annual",VLOOKUP($O26,PM执行时间!$A:$E,5,0),AG26="","")} | AI26: Quarterly | AJ26: {=_xlfn.IFS(AI26="Monthly",VLOOKUP($O26,PM执行时间!$A:$E,2,0),AI26="Quarterly",VLOOKUP($O26,PM执行时间!$A:$E,3,0),AI26="Semi-an",VLOOKUP($O26,PM执行时间!$A:$E,4,0),AI26="Annual",VLOOKUP($O26,PM执行时间!$A:$E,5,0),AI26="","")} -> 1 | AL26: {=_xlfn.IFS(AK26="Monthly",VLOOKUP($O26,PM执行时间!$A:$E,2,0),AK26="Quarterly",VLOOKUP($O26,PM执行时间!$A:$E,3,0),AK26="Semi-an",VLOOKUP($O26,PM执行时间!$A:$E,4,0),AK26="Annual",VLOOKUP($O26,PM执行时间!$A:$E,5,0),AK26="","")} | AN26: {=_xlfn.IFS(AM26="Monthly",VLOOKUP($O26,PM执行时间!$A:$E,2,0),AM26="Quarterly",VLOOKUP($O26,PM执行时间!$A:$E,3,0),AM26="Semi-an",VLOOKUP($O26,PM执行时间!$A:$E,4,0),AM26="Annual",VLOOKUP($O26,PM执行时间!$A:$E,5,0),AM26="","")} | AO26: 44743
A27: 25 | B27: =SUBTOTAL(3,G$3:G27)+0 -> 1 | D27: 261 | E27: 喷砂机 | F27: 9070D | G27: 无锡富岛精工 | H27: 187 | I27: 38718 | J27: B类 | K27: 报废 | L27: KH一楼北 | M27: 38687 | N27: KH创伤单元 | O27: WI-012-R02 | P27: 年 | R27: {=_xlfn.IFS(Q27="Monthly",VLOOKUP($O27,PM执行时间!$A:$E,2,0),Q27="Quarterly",VLOOKUP($O27,PM执行时间!$A:$E,3,0),Q27="Semi-an",VLOOKUP($O27,PM执行时间!$A:$E,4,0),Q27="Annual",VLOOKUP($O27,PM执行时间!$A:$E,5,0),Q27="","")} | T27: {=_xlfn.IFS(S27="Monthly",VLOOKUP($O27,PM执行时间!$A:$E,2,0),S27="Quarterly",VLOOKUP($O27,PM执行时间!$A:$E,3,0),S27="Semi-an",VLOOKUP($O27,PM执行时间!$A:$E,4,0),S27="Annual",VLOOKUP($O27,PM执行时间!$A:$E,5,0),S27="","")} | V27: {=_xlfn.IFS(U27="Monthly",VLOOKUP($O27,PM执行时间!$A:$E,2,0),U27="Quarterly",VLOOKUP($O27,PM执行时间!$A:$E,3,0),U27="Semi-an",VLOOKUP($O27,PM执行时间!$A:$E,4,0),U27="Annual",VLOOKUP($O27,PM执行时间!$A:$E,5,0),U27="","")} | X27: {=_xlfn.IFS(W27="Monthly",VLOOKUP($O27,PM执行时间!$A:$E,2,0),W27="Quarterly",VLOOKUP($O27,PM执行时间!$A:$E,3,0),W27="Semi-an",VLOOKUP($O27,PM执行时间!$A:$E,4,0),W27="Annual",VLOOKUP($O27,PM执行时间!$A:$E,5,0),W27="","")} | Y27: Annual | Z27: {=_xlfn.IFS(Y27="Monthly",VLOOKUP($O27,PM执行时间!$A:$E,2,0),Y27="Quarterly",VLOOKUP($O27,PM执行时间!$A:$E,3,0),Y27="Semi-an",VLOOKUP($O27,PM执行时间!$A:$E,4,0),Y27="Annual",VLOOKUP($O27,PM执行时间!$A:$E,5,0),Y27="","")} -> 1 | AB27: {=_xlfn.IFS(AA27="Monthly",VLOOKUP($O27,PM执行时间!$A:$E,2,0),AA27="Quarterly",VLOOKUP($O27,PM执行时间!$A:$E,3,0),AA27="Semi-an",VLOOKUP($O27,PM执行时间!$A:$E,4,0),AA27="Annual",VLOOKUP($O27,PM执行时间!$A:$E,5,0),AA27="","")} | AD27: {=_xlfn.IFS(AC27="Monthly",VLOOKUP($O27,PM执行时间!$A:$E,2,0),AC27="Quarterly",VLOOKUP($O27,PM执行时间!$A:$E,3,0),AC27="Semi-an",VLOOKUP($O27,PM执行时间!$A:$E,4,0),AC27="Annual",VLOOKUP($O27,PM执行时间!$A:$E,5,0),AC27="","")} | AF27: {=_xlfn.IFS(AE27="Monthly",VLOOKUP($O27,PM执行时间!$A:$E,2,0),AE27="Quarterly",VLOOKUP($O27,PM执行时间!$A:$E,3,0),AE27="Semi-an",VLOOKUP($O27,PM执行时间!$A:$E,4,0),AE27="Annual",VLOOKUP($O27,PM执行时间!$A:$E,5,0),AE27="","")} | AH27: {=_xlfn.IFS(AG27="Monthly",VLOOKUP($O27,PM执行时间!$A:$E,2,0),AG27="Quarterly",VLOOKUP($O27,PM执行时间!$A:$E,3,0),AG27="Semi-an",VLOOKUP($O27,PM执行时间!$A:$E,4,0),AG27="Annual",VLOOKUP($O27,PM执行时间!$A:$E,5,0),AG27="","")} | AJ27: {=_xlfn.IFS(AI27="Monthly",VLOOKUP($O27,PM执行时间!$A:$E,2,0),AI27="Quarterly",VLOOKUP($O27,PM执行时间!$A:$E,3,0),AI27="Semi-an",VLOOKUP($O27,PM执行时间!$A:$E,4,0),AI27="Annual",VLOOKUP($O27,PM执行时间!$A:$E,5,0),AI27="","")} | AL27: {=_xlfn.IFS(AK27="Monthly",VLOOKUP($O27,PM执行时间!$A:$E,2,0),AK27="Quarterly",VLOOKUP($O27,PM执行时间!$A:$E,3,0),AK27="Semi-an",VLOOKUP($O27,PM执行时间!$A:$E,4,0),AK27="Annual",VLOOKUP($O27,PM执行时间!$A:$E,5,0),AK27="","")} | AN27: {=_xlfn.IFS(AM27="Monthly",VLOOKUP($O27,PM执行时间!$A:$E,2,0),AM27="Quarterly",VLOOKUP($O27,PM执行时间!$A:$E,3,0),AM27="Semi-an",VLOOKUP($O27,PM执行时间!$A:$E,4,0),AM27="Annual",VLOOKUP($O27,PM执行时间!$A:$E,5,0),AM27="","")} | AO27: 44682
A28: 26 | B28: =SUBTOTAL(3,G$3:G28)+0 -> 1 | D28: 268 | E28: 纵切机床 | F28: SR-20RII | G28: STAR精密株式会社 | H28: 1179 | I28: 38718 | J28: A类 | K28: 运行中 | L28: KH一楼正西 | M28: 38687 | N28: KH脊柱单元 | O28: WI-021-R03 | P28: 季度/半年/年 | Q28: Semi-an | R28: {=_xlfn.IFS(Q28="Monthly",VLOOKUP($O28,PM执行时间!$A:$E,2,0),Q28="Quarterly",VLOOKUP($O28,PM执行时间!$A:$E,3,0),Q28="Semi-an",VLOOKUP($O28,PM执行时间!$A:$E,4,0),Q28="Annual",VLOOKUP($O28,PM执行时间!$A:$E,5,0),Q28="","")} -> 1.42 | T28: {=_xlfn.IFS(S28="Monthly",VLOOKUP($O28,PM执行时间!$A:$E,2,0),S28="Quarterly",VLOOKUP($O28,PM执行时间!$A:$E,3,0),S28="Semi-an",VLOOKUP($O28,PM执行时间!$A:$E,4,0),S28="Annual",VLOOKUP($O28,PM执行时间!$A:$E,5,0),S28="","")} | V28: {=_xlfn.IFS(U28="Monthly",VLOOKUP($O28,PM执行时间!$A:$E,2,0),U28="Quarterly",VLOOKUP($O28,PM执行时间!$A:$E,3,0),U28="Semi-an",VLOOKUP($O28,PM执行时间!$A:$E,4,0),U28="Annual",VLOOKUP($O28,PM执行时间!$A:$E,5,0),U28="","")} | W28: Quarterly | X28: {=_xlfn.IFS(W28="Monthly",VLOOKUP($O28,PM执行时间!$A:$E,2,0),W28="Quarterly",VLOOKUP($O28,PM执行时间!$A:$E,3,0),W28="Semi-an",VLOOKUP($O28,PM执行时间!$A:$E,4,0),W28="Annual",VLOOKUP($O28,PM执行时间!$A:$E,5,0),W28="","")} -> 1 | Z28: {=_xlfn.IFS(Y28="Monthly",VLOOKUP($O28,PM执行时间!$A:$E,2,0),Y28="Quarterly",VLOOKUP($O28,PM执行时间!$A:$E,3,0),Y28="Semi-an",VLOOKUP($O28,PM执行时间!$A:$E,4,0),Y28="Annual",VLOOKUP($O28,PM执行时间!$A:$E,5,0),Y28="","")} | AB28: {=_xlfn.IFS(AA28="Monthly",VLOOKUP($O28,PM执行时间!$A:$E,2,0),AA28="Quarterly",VLOOKUP($O28,PM执行时间!$A:$E,3,0),AA28="Semi-an",VLOOKUP($O28,PM执行时间!$A:$E,4,0),AA28="Annual",VLOOKUP($O28,PM执行时间!$A:$E,5,0),AA28="","")} | AC28: Annual | AD28: {=_xlfn.IFS(AC28="Monthly",VLOOKUP($O28,PM执行时间!$A:$E,2,0),AC28="Quarterly",VLOOKUP($O28,PM执行时间!$A:$E,3,0),AC28="Semi-an",VLOOKUP($O28,PM执行时间!$A:$E,4,0),AC28="Annual",VLOOKUP($O28,PM执行时间!$A:$E,5,0),AC28="","")} -> 1.67 | AF28: {=_xlfn.IFS(AE28="Monthly",VLOOKUP($O28,PM执行时间!$A:$E,2,0),AE28="Quarterly",VLOOKUP($O28,PM执行时间!$A:$E,3,0),AE28="Semi-an",VLOOKUP($O28,PM执行时间!$A:$E,4,0),AE28="Annual",VLOOKUP($O28,PM执行时间!$A:$E,5,0),AE28="","")} | AH28: {=_xlfn.IFS(AG28="Monthly",VLOOKUP($O28,PM执行时间!$A:$E,2,0),AG28="Quarterly",VLOOKUP($O28,PM执行时间!$A:$E,3,0),AG28="Semi-an",VLOOKUP($O28,PM执行时间!$A:$E,4,0),AG28="Annual",VLOOKUP($O28,PM执行时间!$A:$E,5,0),AG28="","")} | AI28: Quarterly | AJ28: {=_xlfn.IFS(AI28="Monthly",VLOOKUP($O28,PM执行时间!$A:$E,2,0),AI28="Quarterly",VLOOKUP($O28,PM执行时间!$A:$E,3,0),AI28="Semi-an",VLOOKUP($O28,PM执行时间!$A:$E,4,0),AI28="Annual",VLOOKUP($O28,PM执行时间!$A:$E,5,0),AI28="","")} -> 1 | AL28: {=_xlfn.IFS(AK28="Monthly",VLOOKUP($O28,PM执行时间!$A:$E,2,0),AK28="Quarterly",VLOOKUP($O28,PM执行时间!$A:$E,3,0),AK28="Semi-an",VLOOKUP($O28,PM执行时间!$A:$E,4,0),AK28="Annual",VLOOKUP($O28,PM执行时间!$A:$E,5,0),AK28="","")} | AN28: {=_xlfn.IFS(AM28="Monthly",VLOOKUP($O28,PM执行时间!$A:$E,2,0),AM28="Quarterly",VLOOKUP($O28,PM执行时间!$A:$E,3,0),AM28="Semi-an",VLOOKUP($O28,PM执行时间!$A:$E,4,0),AM28="Annual",VLOOKUP($O28,PM执行时间!$A:$E,5,0),AM28="","")} | AO28: 44743
A29: 27 | B29: =SUBTOTAL(3,G$3:G29)+0 -> 1 | D29: 269 | E29: 纵切机床 | F29: SR-20RII | G29: STAR精密株式会社 | H29: 1180 | I29: 38718 | J29: A类 | K29: 运行中 | L29: KH一楼正西 | M29: 38687 | N29: KH脊柱单元 | O29: WI-021-R03 | P29: 季度/半年/年 | Q29: Semi-an | R29: {=_xlfn.IFS(Q29="Monthly",VLOOKUP($O29,PM执行时间!$A:$E,2,0),Q29="Quarterly",VLOOKUP($O29,PM执行时间!$A:$E,3,0),Q29="Semi-an",VLOOKUP($O29,PM执行时间!$A:$E,4,0),Q29="Annual",VLOOKUP($O29,PM执行时间!$A:$E,5,0),Q29="","")} -> 1.42 | T29: {=_xlfn.IFS(S29="Monthly",VLOOKUP($O29,PM执行时间!$A:$E,2,0),S29="Quarterly",VLOOKUP($O29,PM执行时间!$A:$E,3,0),S29="Semi-an",VLOOKUP($O29,PM执行时间!$A:$E,4,0),S29="Annual",VLOOKUP($O29,PM执行时间!$A:$E,5,0),S29="","")} | V29: {=_xlfn.IFS(U29="Monthly",VLOOKUP($O29,PM执行时间!$A:$E,2,0),U29="Quarterly",VLOOKUP($O29,PM执行时间!$A:$E,3,0),U29="Semi-an",VLOOKUP($O29,PM执行时间!$A:$E,4,0),U29="Annual",VLOOKUP($O29,PM执行时间!$A:$E,5,0),U29="","")} | W29: Quarterly | X29: {=_xlfn.IFS(W29="Monthly",VLOOKUP($O29,PM执行时间!$A:$E,2,0),W29="Quarterly",VLOOKUP($O29,PM执行时间!$A:$E,3,0),W29="Semi-an",VLOOKUP($O29,PM执行时间!$A:$E,4,0),W29="Annual",VLOOKUP($O29,PM执行时间!$A:$E,5,0),W29="","")} -> 1 | Z29: {=_xlfn.IFS(Y29="Monthly",VLOOKUP($O29,PM执行时间!$A:$E,2,0),Y29="Quarterly",VLOOKUP($O29,PM执行时间!$A:$E,3,0),Y29="Semi-an",VLOOKUP($O29,PM执行时间!$A:$E,4,0),Y29="Annual",VLOOKUP($O29,PM执行时间!$A:$E,5,0),Y29="","")} | AB29: {=_xlfn.IFS(AA29="Monthly",VLOOKUP($O29,PM执行时间!$A:$E,2,0),AA29="Quarterly",VLOOKUP($O29,PM执行时间!$A:$E,3,0),AA29="Semi-an",VLOOKUP($O29,PM执行时间!$A:$E,4,0),AA29="Annual",VLOOKUP($O29,PM执行时间!$A:$E,5,0),AA29="","")} | AC29: Annual | AD29: {=_xlfn.IFS(AC29="Monthly",VLOOKUP($O29,PM执行时间!$A:$E,2,0),AC29="Quarterly",VLOOKUP($O29,PM执行时间!$A:$E,3,0),AC29="Semi-an",VLOOKUP($O29,PM执行时间!$A:$E,4,0),AC29="Annual",VLOOKUP($O29,PM执行时间!$A:$E,5,0),AC29="","")} -> 1.67 | AF29: {=_xlfn.IFS(AE29="Monthly",VLOOKUP($O29,PM执行时间!$A:$E,2,0),AE29="Quarterly",VLOOKUP($O29,PM执行时间!$A:$E,3,0),AE29="Semi-an",VLOOKUP($O29,PM执行时间!$A:$E,4,0),AE29="Annual",VLOOKUP($O29,PM执行时间!$A:$E,5,0),AE29="","")} | AH29: {=_xlfn.IFS(AG29="Monthly",VLOOKUP($O29,PM执行时间!$A:$E,2,0),AG29="Quarterly",VLOOKUP($O29,PM执行时间!$A:$E,3,0),AG29="Semi-an",VLOOKUP($O29,PM执行时间!$A:$E,4,0),AG29="Annual",VLOOKUP($O29,PM执行时间!$A:$E,5,0),AG29="","")} | AI29: Quarterly | AJ29: {=_xlfn.IFS(AI29="Monthly",VLOOKUP($O29,PM执行时间!$A:$E,2,0),AI29="Quarterly",VLOOKUP($O29,PM执行时间!$A:$E,3,0),AI29="Semi-an",VLOOKUP($O29,PM执行时间!$A:$E,4,0),AI29="Annual",VLOOKUP($O29,PM执行时间!$A:$E,5,0),AI29="","")} -> 1 | AL29: {=_xlfn.IFS(AK29="Monthly",VLOOKUP($O29,PM执行时间!$A:$E,2,0),AK29="Quarterly",VLOOKUP($O29,PM执行时间!$A:$E,3,0),AK29="Semi-an",VLOOKUP($O29,PM执行时间!$A:$E,4,0),AK29="Annual",VLOOKUP($O29,PM执行时间!$A:$E,5,0),AK29="","")} | AN29: {=_xlfn.IFS(AM29="Monthly",VLOOKUP($O29,PM执行时间!$A:$E,2,0),AM29="Quarterly",VLOOKUP($O29,PM执行时间!$A:$E,3,0),AM29="Semi-an",VLOOKUP($O29,PM执行时间!$A:$E,4,0),AM29="Annual",VLOOKUP($O29,PM执行时间!$A:$E,5,0),AM29="","")} | AO29: 44743
A30: 28 | B30: =SUBTOTAL(3,G$3:G30)+0 -> 1 | D30: 270 | E30: 纵切机床 | F30: SR-20RII | G30: STAR精密株式会社 | H30: 1181 | I30: 38718 | J30: A类 | K30: 运行中 | L30: KH一楼正西 | M30: 38687 | N30: KH脊柱单元 | O30: WI-021-R03 | P30: 季度/半年/年 | Q30: Semi-an | R30: {=_xlfn.IFS(Q30="Monthly",VLOOKUP($O30,PM执行时间!$A:$E,2,0),Q30="Quarterly",VLOOKUP($O30,PM执行时间!$A:$E,3,0),Q30="Semi-an",VLOOKUP($O30,PM执行时间!$A:$E,4,0),Q30="Annual",VLOOKUP($O30,PM执行时间!$A:$E,5,0),Q30="","")} -> 1.42 | T30: {=_xlfn.IFS(S30="Monthly",VLOOKUP($O30,PM执行时间!$A:$E,2,0),S30="Quarterly",VLOOKUP($O30,PM执行时间!$A:$E,3,0),S30="Semi-an",VLOOKUP($O30,PM执行时间!$A:$E,4,0),S30="Annual",VLOOKUP($O30,PM执行时间!$A:$E,5,0),S30="","")} | V30: {=_xlfn.IFS(U30="Monthly",VLOOKUP($O30,PM执行时间!$A:$E,2,0),U30="Quarterly",VLOOKUP($O30,PM执行时间!$A:$E,3,0),U30="Semi-an",VLOOKUP($O30,PM执行时间!$A:$E,4,0),U30="Annual",VLOOKUP($O30,PM执行时间!$A:$E,5,0),U30="","")} | W30: Quarterly | X30: {=_xlfn.IFS(W30="Monthly",VLOOKUP($O30,PM执行时间!$A:$E,2,0),W30="Quarterly",VLOOKUP($O30,PM执行时间!$A:$E,3,0),W30="Semi-an",VLOOKUP($O30,PM执行时间!$A:$E,4,0),W30="Annual",VLOOKUP($O30,PM执行时间!$A:$E,5,0),W30="","")} -> 1 | Z30: {=_xlfn.IFS(Y30="Monthly",VLOOKUP($O30,PM执行时间!$A:$E,2,0),Y30="Quarterly",VLOOKUP($O30,PM执行时间!$A:$E,3,0),Y30="Semi-an",VLOOKUP($O30,PM执行时间!$A:$E,4,0),Y30="Annual",VLOOKUP($O30,PM执行时间!$A:$E,5,0),Y30="","")} | AB30: {=_xlfn.IFS(AA30="Monthly",VLOOKUP($O30,PM执行时间!$A:$E,2,0),AA30="Quarterly",VLOOKUP($O30,PM执行时间!$A:$E,3,0),AA30="Semi-an",VLOOKUP($O30,PM执行时间!$A:$E,4,0),AA30="Annual",VLOOKUP($O30,PM执行时间!$A:$E,5,0),AA30="","")} | AC30: Annual | AD30: {=_xlfn.IFS(AC30="Monthly",VLOOKUP($O30,PM执行时间!$A:$E,2,0),AC30="Quarterly",VLOOKUP($O30,PM执行时间!$A:$E,3,0),AC30="Semi-an",VLOOKUP($O30,PM执行时间!$A:$E,4,0),AC30="Annual",VLOOKUP($O30,PM执行时间!$A:$E,5,0),AC30="","")} -> 1.67 | AF30: {=_xlfn.IFS(AE30="Monthly",VLOOKUP($O30,PM执行时间!$A:$E,2,0),AE30="Quarterly",VLOOKUP($O30,PM执行时间!$A:$E,3,0),AE30="Semi-an",VLOOKUP($O30,PM执行时间!$A:$E,4,0),AE30="Annual",VLOOKUP($O30,PM执行时间!$A:$E,5,0),AE30="","")} | AH30: {=_xlfn.IFS(AG30="Monthly",VLOOKUP($O30,PM执行时间!$A:$E,2,0),AG30="Quarterly",VLOOKUP($O30,PM执行时间!$A:$E,3,0),AG30="Semi-an",VLOOKUP($O30,PM执行时间!$A:$E,4,0),AG30="Annual",VLOOKUP($O30,PM执行时间!$A:$E,5,0),AG30="","")} | AI30: Quarterly | AJ30: {=_xlfn.IFS(AI30="Monthly",VLOOKUP($O30,PM执行时间!$A:$E,2,0),AI30="Quarterly",VLOOKUP($O30,PM执行时间!$A:$E,3,0),AI30="Semi-an",VLOOKUP($O30,PM执行时间!$A:$E,4,0),AI30="Annual",VLOOKUP($O30,PM执行时间!$A:$E,5,0),AI30="","")} -> 1 | AL30: {=_xlfn.IFS(AK30="Monthly",VLOOKUP($O30,PM执行时间!$A:$E,2,0),AK30="Quarterly",VLOOKUP($O30,PM执行时间!$A:$E,3,0),AK30="Semi-an",VLOOKUP($O30,PM执行时间!$A:$E,4,0),AK30="Annual",VLOOKUP($O30,PM执行时间!$A:$E,5,0),AK30="","")} | AN30: {=_xlfn.IFS(AM30="Monthly",VLOOKUP($O30,PM执行时间!$A:$E,2,0),AM30="Quarterly",VLOOKUP($O30,PM执行时间!$A:$E,3,0),AM30="Semi-an",VLOOKUP($O30,PM执行时间!$A:$E,4,0),AM30="Annual",VLOOKUP($O30,PM执行时间!$A:$E,5,0),AM30="","")} | AO30: 44743
A31: 29 | B31: =SUBTOTAL(3,G$3:G31)+0 -> 1 | D31: 276 | E31: 普通铣床 | F31: X6330A | G31: 南通纵横国际 | H31: 461038 | I31: 38869 | J31: B类 | K31: 运行中 | L31: KH一楼北 | M31: N/A | N31: KH创伤单元 | O31: WI-019-R02 | P31: 年 | R31: {=_xlfn.IFS(Q31="Monthly",VLOOKUP($O31,PM执行时间!$A:$E,2,0),Q31="Quarterly",VLOOKUP($O31,PM执行时间!$A:$E,3,0),Q31="Semi-an",VLOOKUP($O31,PM执行时间!$A:$E,4,0),Q31="Annual",VLOOKUP($O31,PM执行时间!$A:$E,5,0),Q31="","")} | T31: {=_xlfn.IFS(S31="Monthly",VLOOKUP($O31,PM执行时间!$A:$E,2,0),S31="Quarterly",VLOOKUP($O31,PM执行时间!$A:$E,3,0),S31="Semi-an",VLOOKUP($O31,PM执行时间!$A:$E,4,0),S31="Annual",VLOOKUP($O31,PM执行时间!$A:$E,5,0),S31="","")} | V31: {=_xlfn.IFS(U31="Monthly",VLOOKUP($O31,PM执行时间!$A:$E,2,0),U31="Quarterly",VLOOKUP($O31,PM执行时间!$A:$E,3,0),U31="Semi-an",VLOOKUP($O31,PM执行时间!$A:$E,4,0),U31="Annual",VLOOKUP($O31,PM执行时间!$A:$E,5,0),U31="","")} | X31: {=_xlfn.IFS(W31="Monthly",VLOOKUP($O31,PM执行时间!$A:$E,2,0),W31="Quarterly",VLOOKUP($O31,PM执行时间!$A:$E,3,0),W31="Semi-an",VLOOKUP($O31,PM执行时间!$A:$E,4,0),W31="Annual",VLOOKUP($O31,PM执行时间!$A:$E,5,0),W31="","")} | Z31: {=_xlfn.IFS(Y31="Monthly",VLOOKUP($O31,PM执行时间!$A:$E,2,0),Y31="Quarterly",VLOOKUP($O31,PM执行时间!$A:$E,3,0),Y31="Semi-an",VLOOKUP($O31,PM执行时间!$A:$E,4,0),Y31="Annual",VLOOKUP($O31,PM执行时间!$A:$E,5,0),Y31="","")} | AB31: {=_xlfn.IFS(AA31="Monthly",VLOOKUP($O31,PM执行时间!$A:$E,2,0),AA31="Quarterly",VLOOKUP($O31,PM执行时间!$A:$E,3,0),AA31="Semi-an",VLOOKUP($O31,PM执行时间!$A:$E,4,0),AA31="Annual",VLOOKUP($O31,PM执行时间!$A:$E,5,0),AA31="","")} | AD31: {=_xlfn.IFS(AC31="Monthly",VLOOKUP($O31,PM执行时间!$A:$E,2,0),AC31="Quarterly",VLOOKUP($O31,PM执行时间!$A:$E,3,0),AC31="Semi-an",VLOOKUP($O31,PM执行时间!$A:$E,4,0),AC31="Annual",VLOOKUP($O31,PM执行时间!$A:$E,5,0),AC31="","")} | AF31: {=_xlfn.IFS(AE31="Monthly",VLOOKUP($O31,PM执行时间!$A:$E,2,0),AE31="Quarterly",VLOOKUP($O31,PM执行时间!$A:$E,3,0),AE31="Semi-an",VLOOKUP($O31,PM执行时间!$A:$E,4,0),AE31="Annual",VLOOKUP($O31,PM执行时间!$A:$E,5,0),AE31="","")} | AG31: Annual | AH31: {=_xlfn.IFS(AG31="Monthly",VLOOKUP($O31,PM执行时间!$A:$E,2,0),AG31="Quarterly",VLOOKUP($O31,PM执行时间!$A:$E,3,0),AG31="Semi-an",VLOOKUP($O31,PM执行时间!$A:$E,4,0),AG31="Annual",VLOOKUP($O31,PM执行时间!$A:$E,5,0),AG31="","")} -> 1 | AJ31: {=_xlfn.IFS(AI31="Monthly",VLOOKUP($O31,PM执行时间!$A:$E,2,0),AI31="Quarterly",VLOOKUP($O31,PM执行时间!$A:$E,3,0),AI31="Semi-an",VLOOKUP($O31,PM执行时间!$A:$E,4,0),AI31="Annual",VLOOKUP($O31,PM执行时间!$A:$E,5,0),AI31="","")} | AL31: {=_xlfn.IFS(AK31="Monthly",VLOOKUP($O31,PM执行时间!$A:$E,2,0),AK31="Quarterly",VLOOKUP($O31,PM执行时间!$A:$E,3,0),AK31="Semi-an",VLOOKUP($O31,PM执行时间!$A:$E,4,0),AK31="Annual",VLOOKUP($O31,PM执行时间!$A:$E,5,0),AK31="","")} | AN31: {=_xlfn.IFS(AM31="Monthly",VLOOKUP($O31,PM执行时间!$A:$E,2,0),AM31="Quarterly",VLOOKUP($O31,PM执行时间!$A:$E,3,0),AM31="Semi-an",VLOOKUP($O31,PM执行时间!$A:$E,4,0),AM31="Annual",VLOOKUP($O31,PM执行时间!$A:$E,5,0),AM31="","")} | AO31: 44805
A32: 30 | B32: =SUBTOTAL(3,G$3:G32)+0 -> 1 | D32: 277 | E32: 纵切机床 | F32: SR-20RII | G32: STAR精密株式会社 | H32: 1261 | I32: 38777 | J32: A类 | K32: 运行中 | L32: KH一楼正西 | M32: 38749 | N32: KH脊柱单元 | O32: WI-021-R03 | P32: 季度/半年/年 | Q32: Semi-an | R32: {=_xlfn.IFS(Q32="Monthly",VLOOKUP($O32,PM执行时间!$A:$E,2,0),Q32="Quarterly",VLOOKUP($O32,PM执行时间!$A:$E,3,0),Q32="Semi-an",VLOOKUP($O32,PM执行时间!$A:$E,4,0),Q32="Annual",VLOOKUP($O32,PM执行时间!$A:$E,5,0),Q32="","")} -> 1.42 | T32: {=_xlfn.IFS(S32="Monthly",VLOOKUP($O32,PM执行时间!$A:$E,2,0),S32="Quarterly",VLOOKUP($O32,PM执行时间!$A:$E,3,0),S32="Semi-an",VLOOKUP($O32,PM执行时间!$A:$E,4,0),S32="Annual",VLOOKUP($O32,PM执行时间!$A:$E,5,0),S32="","")} | V32: {=_xlfn.IFS(U32="Monthly",VLOOKUP($O32,PM执行时间!$A:$E,2,0),U32="Quarterly",VLOOKUP($O32,PM执行时间!$A:$E,3,0),U32="Semi-an",VLOOKUP($O32,PM执行时间!$A:$E,4,0),U32="Annual",VLOOKUP($O32,PM执行时间!$A:$E,5,0),U32="","")} | W32: Quarterly | X32: {=_xlfn.IFS(W32="Monthly",VLOOKUP($O32,PM执行时间!$A:$E,2,0),W32="Quarterly",VLOOKUP($O32,PM执行时间!$A:$E,3,0),W32="Semi-an",VLOOKUP($O32,PM执行时间!$A:$E,4,0),W32="Annual",VLOOKUP($O32,PM执行时间!$A:$E,5,0),W32="","")} -> 1 | Z32: {=_xlfn.IFS(Y32="Monthly",VLOOKUP($O32,PM执行时间!$A:$E,2,0),Y32="Quarterly",VLOOKUP($O32,PM执行时间!$A:$E,3,0),Y32="Semi-an",VLOOKUP($O32,PM执行时间!$A:$E,4,0),Y32="Annual",VLOOKUP($O32,PM执行时间!$A:$E,5,0),Y32="","")} | AB32: {=_xlfn.IFS(AA32="Monthly",VLOOKUP($O32,PM执行时间!$A:$E,2,0),AA32="Quarterly",VLOOKUP($O32,PM执行时间!$A:$E,3,0),AA32="Semi-an",VLOOKUP($O32,PM执行时间!$A:$E,4,0),AA32="Annual",VLOOKUP($O32,PM执行时间!$A:$E,5,0),AA32="","")} | AC32: Annual | AD32: {=_xlfn.IFS(AC32="Monthly",VLOOKUP($O32,PM执行时间!$A:$E,2,0),AC32="Quarterly",VLOOKUP($O32,PM执行时间!$A:$E,3,0),AC32="Semi-an",VLOOKUP($O32,PM执行时间!$A:$E,4,0),AC32="Annual",VLOOKUP($O32,PM执行时间!$A:$E,5,0),AC32="","")} -> 1.67 | AF32: {=_xlfn.IFS(AE32="Monthly",VLOOKUP($O32,PM执行时间!$A:$E,2,0),AE32="Quarterly",VLOOKUP($O32,PM执行时间!$A:$E,3,0),AE32="Semi-an",VLOOKUP($O32,PM执行时间!$A:$E,4,0),AE32="Annual",VLOOKUP($O32,PM执行时间!$A:$E,5,0),AE32="","")} | AH32: {=_xlfn.IFS(AG32="Monthly",VLOOKUP($O32,PM执行时间!$A:$E,2,0),AG32="Quarterly",VLOOKUP($O32,PM执行时间!$A:$E,3,0),AG32="Semi-an",VLOOKUP($O32,PM执行时间!$A:$E,4,0),AG32="Annual",VLOOKUP($O32,PM执行时间!$A:$E,5,0),AG32="","")} | AI32: Quarterly | AJ32: {=_xlfn.IFS(AI32="Monthly",VLOOKUP($O32,PM执行时间!$A:$E,2,0),AI32="Quarterly",VLOOKUP($O32,PM执行时间!$A:$E,3,0),AI32="Semi-an",VLOOKUP($O32,PM执行时间!$A:$E,4,0),AI32="Annual",VLOOKUP($O32,PM执行时间!$A:$E,5,0),AI32="","")} -> 1 | AL32: {=_xlfn.IFS(AK32="Monthly",VLOOKUP($O32,PM执行时间!$A:$E,2,0),AK32="Quarterly",VLOOKUP($O32,PM执行时间!$A:$E,3,0),AK32="Semi-an",VLOOKUP($O32,PM执行时间!$A:$E,4,0),AK32="Annual",VLOOKUP($O32,PM执行时间!$A:$E,5,0),AK32="","")} | AN32: {=_xlfn.IFS(AM32="Monthly",VLOOKUP($O32,PM执行时间!$A:$E,2,0),AM32="Quarterly",VLOOKUP($O32,PM执行时间!$A:$E,3,0),AM32="Semi-an",VLOOKUP($O32,PM执行时间!$A:$E,4,0),AM32="Annual",VLOOKUP($O32,PM执行时间!$A:$E,5,0),AM32="","")} | AO32: 44743
A33: 31 | B33: =SUBTOTAL(3,G$3:G33)+0 -> 1 | D33: 278 | E33: 纵切机床 | F33: SR-20RII | G33: STAR精密株式会社 | H33: 1276 | I33: 38777 | J33: A类 | K33: 运行中 | L33: KH一楼正西 | M33: 38749 | N33: KH脊柱单元 | O33: WI-021-R03 | P33: 季度/半年/年 | Q33: Semi-an | R33: {=_xlfn.IFS(Q33="Monthly",VLOOKUP($O33,PM执行时间!$A:$E,2,0),Q33="Quarterly",VLOOKUP($O33,PM执行时间!$A:$E,3,0),Q33="Semi-an",VLOOKUP($O33,PM执行时间!$A:$E,4,0),Q33="Annual",VLOOKUP($O33,PM执行时间!$A:$E,5,0),Q33="","")} -> 1.42 | T33: {=_xlfn.IFS(S33="Monthly",VLOOKUP($O33,PM执行时间!$A:$E,2,0),S33="Quarterly",VLOOKUP($O33,PM执行时间!$A:$E,3,0),S33="Semi-an",VLOOKUP($O33,PM执行时间!$A:$E,4,0),S33="Annual",VLOOKUP($O33,PM执行时间!$A:$E,5,0),S33="","")} | V33: {=_xlfn.IFS(U33="Monthly",VLOOKUP($O33,PM执行时间!$A:$E,2,0),U33="Quarterly",VLOOKUP($O33,PM执行时间!$A:$E,3,0),U33="Semi-an",VLOOKUP($O33,PM执行时间!$A:$E,4,0),U33="Annual",VLOOKUP($O33,PM执行时间!$A:$E,5,0),U33="","")} | W33: Quarterly | X33: {=_xlfn.IFS(W33="Monthly",VLOOKUP($O33,PM执行时间!$A:$E,2,0),W33="Quarterly",VLOOKUP($O33,PM执行时间!$A:$E,3,0),W33="Semi-an",VLOOKUP($O33,PM执行时间!$A:$E,4,0),W33="Annual",VLOOKUP($O33,PM执行时间!$A:$E,5,0),W33="","")} -> 1 | Z33: {=_xlfn.IFS(Y33="Monthly",VLOOKUP($O33,PM执行时间!$A:$E,2,0),Y33="Quarterly",VLOOKUP($O33,PM执行时间!$A:$E,3,0),Y33="Semi-an",VLOOKUP($O33,PM执行时间!$A:$E,4,0),Y33="Annual",VLOOKUP($O33,PM执行时间!$A:$E,5,0),Y33="","")} | AB33: {=_xlfn.IFS(AA33="Monthly",VLOOKUP($O33,PM执行时间!$A:$E,2,0),AA33="Quarterly",VLOOKUP($O33,PM执行时间!$A:$E,3,0),AA33="Semi-an",VLOOKUP($O33,PM执行时间!$A:$E,4,0),AA33="Annual",VLOOKUP($O33,PM执行时间!$A:$E,5,0),AA33="","")} | AC33: Annual | AD33: {=_xlfn.IFS(AC33="Monthly",VLOOKUP($O33,PM执行时间!$A:$E,2,0),AC33="Quarterly",VLOOKUP($O33,PM执行时间!$A:$E,3,0),AC33="Semi-an",VLOOKUP($O33,PM执行时间!$A:$E,4,0),AC33="Annual",VLOOKUP($O33,PM执行时间!$A:$E,5,0),AC33="","")} -> 1.67 | AF33: {=_xlfn.IFS(AE33="Monthly",VLOOKUP($O33,PM执行时间!$A:$E,2,0),AE33="Quarterly",VLOOKUP($O33,PM执行时间!$A:$E,3,0),AE33="Semi-an",VLOOKUP($O33,PM执行时间!$A:$E,4,0),AE33="Annual",VLOOKUP($O33,PM执行时间!$A:$E,5,0),AE33="","")} | AH33: {=_xlfn.IFS(AG33="Monthly",VLOOKUP($O33,PM执行时间!$A:$E,2,0),AG33="Quarterly",VLOOKUP($O33,PM执行时间!$A:$E,3,0),AG33="Semi-an",VLOOKUP($O33,PM执行时间!$A:$E,4,0),AG33="Annual",VLOOKUP($O33,PM执行时间!$A:$E,5,0),AG33="","")} | AI33: Quarterly | AJ33: {=_xlfn.IFS(AI33="Monthly",VLOOKUP($O33,PM执行时间!$A:$E,2,0),AI33="Quarterly",VLOOKUP($O33,PM执行时间!$A:$E,3,0),AI33="Semi-an",VLOOKUP($O33,PM执行时间!$A:$E,4,0),AI33="Annual",VLOOKUP($O33,PM执行时间!$A:$E,5,0),AI33="","")} -> 1 | AL33: {=_xlfn.IFS(AK33="Monthly",VLOOKUP($O33,PM执行时间!$A:$E,2,0),AK33="Quarterly",VLOOKUP($O33,PM执行时间!$A:$E,3,0),AK33="Semi-an",VLOOKUP($O33,PM执行时间!$A:$E,4,0),AK33="Annual",VLOOKUP($O33,PM执行时间!$A:$E,5,0),AK33="","")} | AN33: {=_xlfn.IFS(AM33="Monthly",VLOOKUP($O33,PM执行时间!$A:$E,2,0),AM33="Quarterly",VLOOKUP($O33,PM执行时间!$A:$E,3,0),AM33="Semi-an",VLOOKUP($O33,PM执行时间!$A:$E,4,0),AM33="Annual",VLOOKUP($O33,PM执行时间!$A:$E,5,0),AM33="","")} | AO33: 44743
A34: 32 | B34: =SUBTOTAL(3,G$3:G34)+0 -> 1 | D34: 280 | E34: 纵切机床 | F34: SR-20RII | G34: STAR精密株式会社 | H34: 1278 | I34: 38777 | J34: A类 | K34: 运行中 | L34: KH一楼正西 | M34: 38749 | N34: KH脊柱单元 | O34: WI-021-R03 | P34: 季度/半年/年 | Q34: Semi-an | R34: {=_xlfn.IFS(Q34="Monthly",VLOOKUP($O34,PM执行时间!$A:$E,2,0),Q34="Quarterly",VLOOKUP($O34,PM执行时间!$A:$E,3,0),Q34="Semi-an",VLOOKUP($O34,PM执行时间!$A:$E,4,0),Q34="Annual",VLOOKUP($O34,PM执行时间!$A:$E,5,0),Q34="","")} -> 1.42 | T34: {=_xlfn.IFS(S34="Monthly",VLOOKUP($O34,PM执行时间!$A:$E,2,0),S34="Quarterly",VLOOKUP($O34,PM执行时间!$A:$E,3,0),S34="Semi-an",VLOOKUP($O34,PM执行时间!$A:$E,4,0),S34="Annual",VLOOKUP($O34,PM执行时间!$A:$E,5,0),S34="","")} | V34: {=_xlfn.IFS(U34="Monthly",VLOOKUP($O34,PM执行时间!$A:$E,2,0),U34="Quarterly",VLOOKUP($O34,PM执行时间!$A:$E,3,0),U34="Semi-an",VLOOKUP($O34,PM执行时间!$A:$E,4,0),U34="Annual",VLOOKUP($O34,PM执行时间!$A:$E,5,0),U34="","")} | W34: Quarterly | X34: {=_xlfn.IFS(W34="Monthly",VLOOKUP($O34,PM执行时间!$A:$E,2,0),W34="Quarterly",VLOOKUP($O34,PM执行时间!$A:$E,3,0),W34="Semi-an",VLOOKUP($O34,PM执行时间!$A:$E,4,0),W34="Annual",VLOOKUP($O34,PM执行时间!$A:$E,5,0),W34="","")} -> 1 | Z34: {=_xlfn.IFS(Y34="Monthly",VLOOKUP($O34,PM执行时间!$A:$E,2,0),Y34="Quarterly",VLOOKUP($O34,PM执行时间!$A:$E,3,0),Y34="Semi-an",VLOOKUP($O34,PM执行时间!$A:$E,4,0),Y34="Annual",VLOOKUP($O34,PM执行时间!$A:$E,5,0),Y34="","")} | AB34: {=_xlfn.IFS(AA34="Monthly",VLOOKUP($O34,PM执行时间!$A:$E,2,0),AA34="Quarterly",VLOOKUP($O34,PM执行时间!$A:$E,3,0),AA34="Semi-an",VLOOKUP($O34,PM执行时间!$A:$E,4,0),AA34="Annual",VLOOKUP($O34,PM执行时间!$A:$E,5,0),AA34="","")} | AC34: Annual | AD34: {=_xlfn.IFS(AC34="Monthly",VLOOKUP($O34,PM执行时间!$A:$E,2,0),AC34="Quarterly",VLOOKUP($O34,PM执行时间!$A:$E,3,0),AC34="Semi-an",VLOOKUP($O34,PM执行时间!$A:$E,4,0),AC34="Annual",VLOOKUP($O34,PM执行时间!$A:$E,5,0),AC34="","")} -> 1.67 | AF34: {=_xlfn.IFS(AE34="Monthly",VLOOKUP($O34,PM执行时间!$A:$E,2,0),AE34="Quarterly",VLOOKUP($O34,PM执行时间!$A:$E,3,0),AE34="Semi-an",VLOOKUP($O34,PM执行时间!$A:$E,4,0),AE34="Annual",VLOOKUP($O34,PM执行时间!$A:$E,5,0),AE34="","")} | AH34: {=_xlfn.IFS(AG34="Monthly",VLOOKUP($O34,PM执行时间!$A:$E,2,0),AG34="Quarterly",VLOOKUP($O34,PM执行时间!$A:$E,3,0),AG34="Semi-an",VLOOKUP($O34,PM执行时间!$A:$E,4,0),AG34="Annual",VLOOKUP($O34,PM执行时间!$A:$E,5,0),AG34="","")} | AI34: Quarterly | AJ34: {=_xlfn.IFS(AI34="Monthly",VLOOKUP($O34,PM执行时间!$A:$E,2,0),AI34="Quarterly",VLOOKUP($O34,PM执行时间!$A:$E,3,0),AI34="Semi-an",VLOOKUP($O34,PM执行时间!$A:$E,4,0),AI34="Annual",VLOOKUP($O34,PM执行时间!$A:$E,5,0),AI34="","")} -> 1 | AL34: {=_xlfn.IFS(AK34="Monthly",VLOOKUP($O34,PM执行时间!$A:$E,2,0),AK34="Quarterly",VLOOKUP($O34,PM执行时间!$A:$E,3,0),AK34="Semi-an",VLOOKUP($O34,PM执行时间!$A:$E,4,0),AK34="Annual",VLOOKUP($O34,PM执行时间!$A:$E,5,0),AK34="","")} | AN34: {=_xlfn.IFS(AM34="Monthly",VLOOKUP($O34,PM执行时间!$A:$E,2,0),AM34="Quarterly",VLOOKUP($O34,PM执行时间!$A:$E,3,0),AM34="Semi-an",VLOOKUP($O34,PM执行时间!$A:$E,4,0),AM34="Annual",VLOOKUP($O34,PM执行时间!$A:$E,5,0),AM34="","")} | AO34: 44743
A35: 100 | B35: =SUBTOTAL(3,G$3:G35)+0 -> 2 | D35: 523 | E35: 清洗线 | F35: KPDW-QC5126-28CB/UG/01 | G35: 常州市科沛达 | H35: 11062218 | I35: 40544 | J35: B类 | K35: 运行中 | L35: KH一楼南 | M35: 40787 | N35: KH器械单元 | O35: FM-P0024.02 | P35: 月 | Q35: Monthly | R35: {=_xlfn.IFS(Q35="Monthly",VLOOKUP($O35,PM执行时间!$A:$E,2,0),Q35="Quarterly",VLOOKUP($O35,PM执行时间!$A:$E,3,0),Q35="Semi-an",VLOOKUP($O35,PM执行时间!$A:$E,4,0),Q35="Annual",VLOOKUP($O35,PM执行时间!$A:$E,5,0),Q35="","")} -> 1 | S35: Monthly | T35: {=_xlfn.IFS(S35="Monthly",VLOOKUP($O35,PM执行时间!$A:$E,2,0),S35="Quarterly",VLOOKUP($O35,PM执行时间!$A:$E,3,0),S35="Semi-an",VLOOKUP($O35,PM执行时间!$A:$E,4,0),S35="Annual",VLOOKUP($O35,PM执行时间!$A:$E,5,0),S35="","")} -> 1 | U35: Monthly | V35: {=_xlfn.IFS(U35="Monthly",VLOOKUP($O35,PM执行时间!$A:$E,2,0),U35="Quarterly",VLOOKUP($O35,PM执行时间!$A:$E,3,0),U35="Semi-an",VLOOKUP($O35,PM执行时间!$A:$E,4,0),U35="Annual",VLOOKUP($O35,PM执行时间!$A:$E,5,0),U35="","")} -> 1 | W35: Monthly | X35: {=_xlfn.IFS(W35="Monthly",VLOOKUP($O35,PM执行时间!$A:$E,2,0),W35="Quarterly",VLOOKUP($O35,PM执行时间!$A:$E,3,0),W35="Semi-an",VLOOKUP($O35,PM执行时间!$A:$E,4,0),W35="Annual",VLOOKUP($O35,PM执行时间!$A:$E,5,0),W35="","")} -> 1 | Y35: Monthly | Z35: {=_xlfn.IFS(Y35="Monthly",VLOOKUP($O35,PM执行时间!$A:$E,2,0),Y35="Quarterly",VLOOKUP($O35,PM执行时间!$A:$E,3,0),Y35="Semi-an",VLOOKUP($O35,PM执行时间!$A:$E,4,0),Y35="Annual",VLOOKUP($O35,PM执行时间!$A:$E,5,0),Y35="","")} -> 1 | AA35: Monthly | AB35: {=_xlfn.IFS(AA35="Monthly",VLOOKUP($O35,PM执行时间!$A:$E,2,0),AA35="Quarterly",VLOOKUP($O35,PM执行时间!$A:$E,3,0),AA35="Semi-an",VLOOKUP($O35,PM执行时间!$A:$E,4,0),AA35="Annual",VLOOKUP($O35,PM执行时间!$A:$E,5,0),AA35="","")} -> 1 | AC35: Monthly | AD35: {=_xlfn.IFS(AC35="Monthly",VLOOKUP($O35,PM执行时间!$A:$E,2,0),AC35="Quarterly",VLOOKUP($O35,PM执行时间!$A:$E,3,0),AC35="Semi-an",VLOOKUP($O35,PM执行时间!$A:$E,4,0),AC35="Annual",VLOOKUP($O35,PM执行时间!$A:$E,5,0),AC35="","")} -> 1 | AE35: Monthly | AF35: {=_xlfn.IFS(AE35="Monthly",VLOOKUP($O35,PM执行时间!$A:$E,2,0),AE35="Quarterly",VLOOKUP($O35,PM执行时间!$A:$E,3,0),AE35="Semi-an",VLOOKUP($O35,PM执行时间!$A:$E,4,0),AE35="Annual",VLOOKUP($O35,PM执行时间!$A:$E,5,0),AE35="","")} -> 1 | AG35: Monthly | AH35: {=_xlfn.IFS(AG35="Monthly",VLOOKUP($O35,PM执行时间!$A:$E,2,0),AG35="Quarterly",VLOOKUP($O35,PM执行时间!$A:$E,3,0),AG35="Semi-an",VLOOKUP($O35,PM执行时间!$A:$E,4,0),AG35="Annual",VLOOKUP($O35,PM执行时间!$A:$E,5,0),AG35="","")} -> 1 | AI35: Monthly | AJ35: {=_xlfn.IFS(AI35="Monthly",VLOOKUP($O35,PM执行时间!$A:$E,2,0),AI35="Quarterly",VLOOKUP($O35,PM执行时间!$A:$E,3,0),AI35="Semi-an",VLOOKUP($O35,PM执行时间!$A:$E,4,0),AI35="Annual",VLOOKUP($O35,PM执行时间!$A:$E,5,0),AI35="","")} -> 1 | AK35: Monthly | AL35: {=_xlfn.IFS(AK35="Monthly",VLOOKUP($O35,PM执行时间!$A:$E,2,0),AK35="Quarterly",VLOOKUP($O35,PM执行时间!$A:$E,3,0),AK35="Semi-an",VLOOKUP($O35,PM执行时间!$A:$E,4,0),AK35="Annual",VLOOKUP($O35,PM执行时间!$A:$E,5,0),AK35="","")} -> 1 | AM35: Monthly | AN35: {=_xlfn.IFS(AM35="Monthly",VLOOKUP($O35,PM执行时间!$A:$E,2,0),AM35="Quarterly",VLOOKUP($O35,PM执行时间!$A:$E,3,0),AM35="Semi-an",VLOOKUP($O35,PM执行时间!$A:$E,4,0),AM35="Annual",VLOOKUP($O35,PM执行时间!$A:$E,5,0),AM35="","")} -> 1 | AO35: 44805 | AP35: 3/16-3/20
A36: 34 | B36: =SUBTOTAL(3,G$3:G36)+0 -> 2 | D36: 286 | E36: 抛光机 | F36: ZMX4150B | G36: 江苏如东县富伟机床厂 | H36: 603014 | I36: 38808 | J36: B类 | K36: 运行中 | L36: KH一楼北 | M36: N/A | N36: KH创伤单元 | O36: WI-012-R02 | P36: 年 | R36: {=_xlfn.IFS(Q36="Monthly",VLOOKUP($O36,PM执行时间!$A:$E,2,0),Q36="Quarterly",VLOOKUP($O36,PM执行时间!$A:$E,3,0),Q36="Semi-an",VLOOKUP($O36,PM执行时间!$A:$E,4,0),Q36="Annual",VLOOKUP($O36,PM执行时间!$A:$E,5,0),Q36="","")} | T36: {=_xlfn.IFS(S36="Monthly",VLOOKUP($O36,PM执行时间!$A:$E,2,0),S36="Quarterly",VLOOKUP($O36,PM执行时间!$A:$E,3,0),S36="Semi-an",VLOOKUP($O36,PM执行时间!$A:$E,4,0),S36="Annual",VLOOKUP($O36,PM执行时间!$A:$E,5,0),S36="","")} | V36: {=_xlfn.IFS(U36="Monthly",VLOOKUP($O36,PM执行时间!$A:$E,2,0),U36="Quarterly",VLOOKUP($O36,PM执行时间!$A:$E,3,0),U36="Semi-an",VLOOKUP($O36,PM执行时间!$A:$E,4,0),U36="Annual",VLOOKUP($O36,PM执行时间!$A:$E,5,0),U36="","")} | X36: {=_xlfn.IFS(W36="Monthly",VLOOKUP($O36,PM执行时间!$A:$E,2,0),W36="Quarterly",VLOOKUP($O36,PM执行时间!$A:$E,3,0),W36="Semi-an",VLOOKUP($O36,PM执行时间!$A:$E,4,0),W36="Annual",VLOOKUP($O36,PM执行时间!$A:$E,5,0),W36="","")} | Z36: {=_xlfn.IFS(Y36="Monthly",VLOOKUP($O36,PM执行时间!$A:$E,2,0),Y36="Quarterly",VLOOKUP($O36,PM执行时间!$A:$E,3,0),Y36="Semi-an",VLOOKUP($O36,PM执行时间!$A:$E,4,0),Y36="Annual",VLOOKUP($O36,PM执行时间!$A:$E,5,0),Y36="","")} | AB36: {=_xlfn.IFS(AA36="Monthly",VLOOKUP($O36,PM执行时间!$A:$E,2,0),AA36="Quarterly",VLOOKUP($O36,PM执行时间!$A:$E,3,0),AA36="Semi-an",VLOOKUP($O36,PM执行时间!$A:$E,4,0),AA36="Annual",VLOOKUP($O36,PM执行时间!$A:$E,5,0),AA36="","")} | AC36: Annual | AD36: {=_xlfn.IFS(AC36="Monthly",VLOOKUP($O36,PM执行时间!$A:$E,2,0),AC36="Quarterly",VLOOKUP($O36,PM执行时间!$A:$E,3,0),AC36="Semi-an",VLOOKUP($O36,PM执行时间!$A:$E,4,0),AC36="Annual",VLOOKUP($O36,PM执行时间!$A:$E,5,0),AC36="","")} -> 1 | AF36: {=_xlfn.IFS(AE36="Monthly",VLOOKUP($O36,PM执行时间!$A:$E,2,0),AE36="Quarterly",VLOOKUP($O36,PM执行时间!$A:$E,3,0),AE36="Semi-an",VLOOKUP($O36,PM执行时间!$A:$E,4,0),AE36="Annual",VLOOKUP($O36,PM执行时间!$A:$E,5,0),AE36="","")} | AH36: {=_xlfn.IFS(AG36="Monthly",VLOOKUP($O36,PM执行时间!$A:$E,2,0),AG36="Quarterly",VLOOKUP($O36,PM执行时间!$A:$E,3,0),AG36="Semi-an",VLOOKUP($O36,PM执行时间!$A:$E,4,0),AG36="Annual",VLOOKUP($O36,PM执行时间!$A:$E,5,0),AG36="","")} | AJ36: {=_xlfn.IFS(AI36="Monthly",VLOOKUP($O36,PM执行时间!$A:$E,2,0),AI36="Quarterly",VLOOKUP($O36,PM执行时间!$A:$E,3,0),AI36="Semi-an",VLOOKUP($O36,PM执行时间!$A:$E,4,0),AI36="Annual",VLOOKUP($O36,PM执行时间!$A:$E,5,0),AI36="","")} | AL36: {=_xlfn.IFS(AK36="Monthly",VLOOKUP($O36,PM执行时间!$A:$E,2,0),AK36="Quarterly",VLOOKUP($O36,PM执行时间!$A:$E,3,0),AK36="Semi-an",VLOOKUP($O36,PM执行时间!$A:$E,4,0),AK36="Annual",VLOOKUP($O36,PM执行时间!$A:$E,5,0),AK36="","")} | AN36: {=_xlfn.IFS(AM36="Monthly",VLOOKUP($O36,PM执行时间!$A:$E,2,0),AM36="Quarterly",VLOOKUP($O36,PM执行时间!$A:$E,3,0),AM36="Semi-an",VLOOKUP($O36,PM执行时间!$A:$E,4,0),AM36="Annual",VLOOKUP($O36,PM执行时间!$A:$E,5,0),AM36="","")} | AO36: 44743
A37: 35 | B37: =SUBTOTAL(3,G$3:G37)+0 -> 2 | D37: 290 | E37: 普通车床 | F37: C6132A1 | G37: 广州机床厂 | H37: JF0833 | I37: 38838 | J37: B类 | K37: 运行中 | L37: KH一楼东南 | M37: N/A | N37: KH器械单元 | O37: WI-011-R02 | P37: 年 | R37: {=_xlfn.IFS(Q37="Monthly",VLOOKUP($O37,PM执行时间!$A:$E,2,0),Q37="Quarterly",VLOOKUP($O37,PM执行时间!$A:$E,3,0),Q37="Semi-an",VLOOKUP($O37,PM执行时间!$A:$E,4,0),Q37="Annual",VLOOKUP($O37,PM执行时间!$A:$E,5,0),Q37="","")} | T37: {=_xlfn.IFS(S37="Monthly",VLOOKUP($O37,PM执行时间!$A:$E,2,0),S37="Quarterly",VLOOKUP($O37,PM执行时间!$A:$E,3,0),S37="Semi-an",VLOOKUP($O37,PM执行时间!$A:$E,4,0),S37="Annual",VLOOKUP($O37,PM执行时间!$A:$E,5,0),S37="","")} | V37: {=_xlfn.IFS(U37="Monthly",VLOOKUP($O37,PM执行时间!$A:$E,2,0),U37="Quarterly",VLOOKUP($O37,PM执行时间!$A:$E,3,0),U37="Semi-an",VLOOKUP($O37,PM执行时间!$A:$E,4,0),U37="Annual",VLOOKUP($O37,PM执行时间!$A:$E,5,0),U37="","")} | W37: Annual | X37: {=_xlfn.IFS(W37="Monthly",VLOOKUP($O37,PM执行时间!$A:$E,2,0),W37="Quarterly",VLOOKUP($O37,PM执行时间!$A:$E,3,0),W37="Semi-an",VLOOKUP($O37,PM执行时间!$A:$E,4,0),W37="Annual",VLOOKUP($O37,PM执行时间!$A:$E,5,0),W37="","")} -> 1 | Z37: {=_xlfn.IFS(Y37="Monthly",VLOOKUP($O37,PM执行时间!$A:$E,2,0),Y37="Quarterly",VLOOKUP($O37,PM执行时间!$A:$E,3,0),Y37="Semi-an",VLOOKUP($O37,PM执行时间!$A:$E,4,0),Y37="Annual",VLOOKUP($O37,PM执行时间!$A:$E,5,0),Y37="","")} | AB37: {=_xlfn.IFS(AA37="Monthly",VLOOKUP($O37,PM执行时间!$A:$E,2,0),AA37="Quarterly",VLOOKUP($O37,PM执行时间!$A:$E,3,0),AA37="Semi-an",VLOOKUP($O37,PM执行时间!$A:$E,4,0),AA37="Annual",VLOOKUP($O37,PM执行时间!$A:$E,5,0),AA37="","")} | AD37: {=_xlfn.IFS(AC37="Monthly",VLOOKUP($O37,PM执行时间!$A:$E,2,0),AC37="Quarterly",VLOOKUP($O37,PM执行时间!$A:$E,3,0),AC37="Semi-an",VLOOKUP($O37,PM执行时间!$A:$E,4,0),AC37="Annual",VLOOKUP($O37,PM执行时间!$A:$E,5,0),AC37="","")} | AF37: {=_xlfn.IFS(AE37="Monthly",VLOOKUP($O37,PM执行时间!$A:$E,2,0),AE37="Quarterly",VLOOKUP($O37,PM执行时间!$A:$E,3,0),AE37="Semi-an",VLOOKUP($O37,PM执行时间!$A:$E,4,0),AE37="Annual",VLOOKUP($O37,PM执行时间!$A:$E,5,0),AE37="","")} | AH37: {=_xlfn.IFS(AG37="Monthly",VLOOKUP($O37,PM执行时间!$A:$E,2,0),AG37="Quarterly",VLOOKUP($O37,PM执行时间!$A:$E,3,0),AG37="Semi-an",VLOOKUP($O37,PM执行时间!$A:$E,4,0),AG37="Annual",VLOOKUP($O37,PM执行时间!$A:$E,5,0),AG37="","")} | AJ37: {=_xlfn.IFS(AI37="Monthly",VLOOKUP($O37,PM执行时间!$A:$E,2,0),AI37="Quarterly",VLOOKUP($O37,PM执行时间!$A:$E,3,0),AI37="Semi-an",VLOOKUP($O37,PM执行时间!$A:$E,4,0),AI37="Annual",VLOOKUP($O37,PM执行时间!$A:$E,5,0),AI37="","")} | AL37: {=_xlfn.IFS(AK37="Monthly",VLOOKUP($O37,PM执行时间!$A:$E,2,0),AK37="Quarterly",VLOOKUP($O37,PM执行时间!$A:$E,3,0),AK37="Semi-an",VLOOKUP($O37,PM执行时间!$A:$E,4,0),AK37="Annual",VLOOKUP($O37,PM执行时间!$A:$E,5,0),AK37="","")} | AN37: {=_xlfn.IFS(AM37="Monthly",VLOOKUP($O37,PM执行时间!$A:$E,2,0),AM37="Quarterly",VLOOKUP($O37,PM执行时间!$A:$E,3,0),AM37="Semi-an",VLOOKUP($O37,PM执行时间!$A:$E,4,0),AM37="Annual",VLOOKUP($O37,PM执行时间!$A:$E,5,0),AM37="","")} | AO37: 44652
A38: 36 | B38: =SUBTOTAL(3,G$3:G38)+0 -> 2 | D38: 293 | E38: 纵切机床 | F38: SR-20RII | G38: STAR精密株式会社 | H38: 1378 | I38: 38899 | J38: A类 | K38: 运行中 | L38: KH一楼正西 | M38: 38838 | N38: KH脊柱单元 | O38: WI-021-R03 | P38: 季度/半年/年 | Q38: Semi-an | R38: {=_xlfn.IFS(Q38="Monthly",VLOOKUP($O38,PM执行时间!$A:$E,2,0),Q38="Quarterly",VLOOKUP($O38,PM执行时间!$A:$E,3,0),Q38="Semi-an",VLOOKUP($O38,PM执行时间!$A:$E,4,0),Q38="Annual",VLOOKUP($O38,PM执行时间!$A:$E,5,0),Q38="","")} -> 1.42 | T38: {=_xlfn.IFS(S38="Monthly",VLOOKUP($O38,PM执行时间!$A:$E,2,0),S38="Quarterly",VLOOKUP($O38,PM执行时间!$A:$E,3,0),S38="Semi-an",VLOOKUP($O38,PM执行时间!$A:$E,4,0),S38="Annual",VLOOKUP($O38,PM执行时间!$A:$E,5,0),S38="","")} | V38: {=_xlfn.IFS(U38="Monthly",VLOOKUP($O38,PM执行时间!$A:$E,2,0),U38="Quarterly",VLOOKUP($O38,PM执行时间!$A:$E,3,0),U38="Semi-an",VLOOKUP($O38,PM执行时间!$A:$E,4,0),U38="Annual",VLOOKUP($O38,PM执行时间!$A:$E,5,0),U38="","")} | W38: Quarterly | X38: {=_xlfn.IFS(W38="Monthly",VLOOKUP($O38,PM执行时间!$A:$E,2,0),W38="Quarterly",VLOOKUP($O38,PM执行时间!$A:$E,3,0),W38="Semi-an",VLOOKUP($O38,PM执行时间!$A:$E,4,0),W38="Annual",VLOOKUP($O38,PM执行时间!$A:$E,5,0),W38="","")} -> 1 | Z38: {=_xlfn.IFS(Y38="Monthly",VLOOKUP($O38,PM执行时间!$A:$E,2,0),Y38="Quarterly",VLOOKUP($O38,PM执行时间!$A:$E,3,0),Y38="Semi-an",VLOOKUP($O38,PM执行时间!$A:$E,4,0),Y38="Annual",VLOOKUP($O38,PM执行时间!$A:$E,5,0),Y38="","")} | AB38: {=_xlfn.IFS(AA38="Monthly",VLOOKUP($O38,PM执行时间!$A:$E,2,0),AA38="Quarterly",VLOOKUP($O38,PM执行时间!$A:$E,3,0),AA38="Semi-an",VLOOKUP($O38,PM执行时间!$A:$E,4,0),AA38="Annual",VLOOKUP($O38,PM执行时间!$A:$E,5,0),AA38="","")} | AC38: Annual | AD38: {=_xlfn.IFS(AC38="Monthly",VLOOKUP($O38,PM执行时间!$A:$E,2,0),AC38="Quarterly",VLOOKUP($O38,PM执行时间!$A:$E,3,0),AC38="Semi-an",VLOOKUP($O38,PM执行时间!$A:$E,4,0),AC38="Annual",VLOOKUP($O38,PM执行时间!$A:$E,5,0),AC38="","")} -> 1.67 | AF38: {=_xlfn.IFS(AE38="Monthly",VLOOKUP($O38,PM执行时间!$A:$E,2,0),AE38="Quarterly",VLOOKUP($O38,PM执行时间!$A:$E,3,0),AE38="Semi-an",VLOOKUP($O38,PM执行时间!$A:$E,4,0),AE38="Annual",VLOOKUP($O38,PM执行时间!$A:$E,5,0),AE38="","")} | AH38: {=_xlfn.IFS(AG38="Monthly",VLOOKUP($O38,PM执行时间!$A:$E,2,0),AG38="Quarterly",VLOOKUP($O38,PM执行时间!$A:$E,3,0),AG38="Semi-an",VLOOKUP($O38,PM执行时间!$A:$E,4,0),AG38="Annual",VLOOKUP($O38,PM执行时间!$A:$E,5,0),AG38="","")} | AI38: Quarterly | AJ38: {=_xlfn.IFS(AI38="Monthly",VLOOKUP($O38,PM执行时间!$A:$E,2,0),AI38="Quarterly",VLOOKUP($O38,PM执行时间!$A:$E,3,0),AI38="Semi-an",VLOOKUP($O38,PM执行时间!$A:$E,4,0),AI38="Annual",VLOOKUP($O38,PM执行时间!$A:$E,5,0),AI38="","")} -> 1 | AL38: {=_xlfn.IFS(AK38="Monthly",VLOOKUP($O38,PM执行时间!$A:$E,2,0),AK38="Quarterly",VLOOKUP($O38,PM执行时间!$A:$E,3,0),AK38="Semi-an",VLOOKUP($O38,PM执行时间!$A:$E,4,0),AK38="Annual",VLOOKUP($O38,PM执行时间!$A:$E,5,0),AK38="","")} | AN38: {=_xlfn.IFS(AM38="Monthly",VLOOKUP($O38,PM执行时间!$A:$E,2,0),AM38="Quarterly",VLOOKUP($O38,PM执行时间!$A:$E,3,0),AM38="Semi-an",VLOOKUP($O38,PM执行时间!$A:$E,4,0),AM38="Annual",VLOOKUP($O38,PM执行时间!$A:$E,5,0),AM38="","")} | AO38: 44743
A39: 37 | B39: =SUBTOTAL(3,G$3:G39)+0 -> 2 | D39: 295 | E39: 纵切机床 | F39: SR-20RII | G39: STAR精密株式会社 | H39: 1526 | I39: 38930 | J39: A类 | K39: 运行中 | L39: KH一楼正西 | M39: 38899 | N39: KH脊柱单元 | O39: WI-021-R03 | P39: 季度/半年/年 | Q39: Semi-an | R39: {=_xlfn.IFS(Q39="Monthly",VLOOKUP($O39,PM执行时间!$A:$E,2,0),Q39="Quarterly",VLOOKUP($O39,PM执行时间!$A:$E,3,0),Q39="Semi-an",VLOOKUP($O39,PM执行时间!$A:$E,4,0),Q39="Annual",VLOOKUP($O39,PM执行时间!$A:$E,5,0),Q39="","")} -> 1.42 | T39: {=_xlfn.IFS(S39="Monthly",VLOOKUP($O39,PM执行时间!$A:$E,2,0),S39="Quarterly",VLOOKUP($O39,PM执行时间!$A:$E,3,0),S39="Semi-an",VLOOKUP($O39,PM执行时间!$A:$E,4,0),S39="Annual",VLOOKUP($O39,PM执行时间!$A:$E,5,0),S39="","")} | V39: {=_xlfn.IFS(U39="Monthly",VLOOKUP($O39,PM执行时间!$A:$E,2,0),U39="Quarterly",VLOOKUP($O39,PM执行时间!$A:$E,3,0),U39="Semi-an",VLOOKUP($O39,PM执行时间!$A:$E,4,0),U39="Annual",VLOOKUP($O39,PM执行时间!$A:$E,5,0),U39="","")} | W39: Quarterly | X39: {=_xlfn.IFS(W39="Monthly",VLOOKUP($O39,PM执行时间!$A:$E,2,0),W39="Quarterly",VLOOKUP($O39,PM执行时间!$A:$E,3,0),W39="Semi-an",VLOOKUP($O39,PM执行时间!$A:$E,4,0),W39="Annual",VLOOKUP($O39,PM执行时间!$A:$E,5,0),W39="","")} -> 1 | Z39: {=_xlfn.IFS(Y39="Monthly",VLOOKUP($O39,PM执行时间!$A:$E,2,0),Y39="Quarterly",VLOOKUP($O39,PM执行时间!$A:$E,3,0),Y39="Semi-an",VLOOKUP($O39,PM执行时间!$A:$E,4,0),Y39="Annual",VLOOKUP($O39,PM执行时间!$A:$E,5,0),Y39="","")} | AB39: {=_xlfn.IFS(AA39="Monthly",VLOOKUP($O39,PM执行时间!$A:$E,2,0),AA39="Quarterly",VLOOKUP($O39,PM执行时间!$A:$E,3,0),AA39="Semi-an",VLOOKUP($O39,PM执行时间!$A:$E,4,0),AA39="Annual",VLOOKUP($O39,PM执行时间!$A:$E,5,0),AA39="","")} | AC39: Annual | AD39: {=_xlfn.IFS(AC39="Monthly",VLOOKUP($O39,PM执行时间!$A:$E,2,0),AC39="Quarterly",VLOOKUP($O39,PM执行时间!$A:$E,3,0),AC39="Semi-an",VLOOKUP($O39,PM执行时间!$A:$E,4,0),AC39="Annual",VLOOKUP($O39,PM执行时间!$A:$E,5,0),AC39="","")} -> 1.67 | AF39: {=_xlfn.IFS(AE39="Monthly",VLOOKUP($O39,PM执行时间!$A:$E,2,0),AE39="Quarterly",VLOOKUP($O39,PM执行时间!$A:$E,3,0),AE39="Semi-an",VLOOKUP($O39,PM执行时间!$A:$E,4,0),AE39="Annual",VLOOKUP($O39,PM执行时间!$A:$E,5,0),AE39="","")} | AH39: {=_xlfn.IFS(AG39="Monthly",VLOOKUP($O39,PM执行时间!$A:$E,2,0),AG39="Quarterly",VLOOKUP($O39,PM执行时间!$A:$E,3,0),AG39="Semi-an",VLOOKUP($O39,PM执行时间!$A:$E,4,0),AG39="Annual",VLOOKUP($O39,PM执行时间!$A:$E,5,0),AG39="","")} | AI39: Quarterly | AJ39: {=_xlfn.IFS(AI39="Monthly",VLOOKUP($O39,PM执行时间!$A:$E,2,0),AI39="Quarterly",VLOOKUP($O39,PM执行时间!$A:$E,3,0),AI39="Semi-an",VLOOKUP($O39,PM执行时间!$A:$E,4,0),AI39="Annual",VLOOKUP($O39,PM执行时间!$A:$E,5,0),AI39="","")} -> 1 | AL39: {=_xlfn.IFS(AK39="Monthly",VLOOKUP($O39,PM执行时间!$A:$E,2,0),AK39="Quarterly",VLOOKUP($O39,PM执行时间!$A:$E,3,0),AK39="Semi-an",VLOOKUP($O39,PM执行时间!$A:$E,4,0),AK39="Annual",VLOOKUP($O39,PM执行时间!$A:$E,5,0),AK39="","")} | AN39: {=_xlfn.IFS(AM39="Monthly",VLOOKUP($O39,PM执行时间!$A:$E,2,0),AM39="Quarterly",VLOOKUP($O39,PM执行时间!$A:$E,3,0),AM39="Semi-an",VLOOKUP($O39,PM执行时间!$A:$E,4,0),AM39="Annual",VLOOKUP($O39,PM执行时间!$A:$E,5,0),AM39="","")} | AO39: 44743
A40: 38 | B40: =SUBTOTAL(3,G$3:G40)+0 -> 2 | D40: 296 | E40: 焊机 | F40: ITG350AP | G40: 广州巨电机电制造 | H40: 110121185 | I40: 2006/09 | J40: B类 | K40: 运行中 | L40: KH二楼器械单元 | M40: N/A | N40: KH器械单元 | O40: WI-106-R02 | P40: 年 | R40: {=_xlfn.IFS(Q40="Monthly",VLOOKUP($O40,PM执行时间!$A:$E,2,0),Q40="Quarterly",VLOOKUP($O40,PM执行时间!$A:$E,3,0),Q40="Semi-an",VLOOKUP($O40,PM执行时间!$A:$E,4,0),Q40="Annual",VLOOKUP($O40,PM执行时间!$A:$E,5,0),Q40="","")} | T40: {=_xlfn.IFS(S40="Monthly",VLOOKUP($O40,PM执行时间!$A:$E,2,0),S40="Quarterly",VLOOKUP($O40,PM执行时间!$A:$E,3,0),S40="Semi-an",VLOOKUP($O40,PM执行时间!$A:$E,4,0),S40="Annual",VLOOKUP($O40,PM执行时间!$A:$E,5,0),S40="","")} | V40: {=_xlfn.IFS(U40="Monthly",VLOOKUP($O40,PM执行时间!$A:$E,2,0),U40="Quarterly",VLOOKUP($O40,PM执行时间!$A:$E,3,0),U40="Semi-an",VLOOKUP($O40,PM执行时间!$A:$E,4,0),U40="Annual",VLOOKUP($O40,PM执行时间!$A:$E,5,0),U40="","")} | X40: {=_xlfn.IFS(W40="Monthly",VLOOKUP($O40,PM执行时间!$A:$E,2,0),W40="Quarterly",VLOOKUP($O40,PM执行时间!$A:$E,3,0),W40="Semi-an",VLOOKUP($O40,PM执行时间!$A:$E,4,0),W40="Annual",VLOOKUP($O40,PM执行时间!$A:$E,5,0),W40="","")} | Z40: {=_xlfn.IFS(Y40="Monthly",VLOOKUP($O40,PM执行时间!$A:$E,2,0),Y40="Quarterly",VLOOKUP($O40,PM执行时间!$A:$E,3,0),Y40="Semi-an",VLOOKUP($O40,PM执行时间!$A:$E,4,0),Y40="Annual",VLOOKUP($O40,PM执行时间!$A:$E,5,0),Y40="","")} | AA40: Annual | AB40: {=_xlfn.IFS(AA40="Monthly",VLOOKUP($O40,PM执行时间!$A:$E,2,0),AA40="Quarterly",VLOOKUP($O40,PM执行时间!$A:$E,3,0),AA40="Semi-an",VLOOKUP($O40,PM执行时间!$A:$E,4,0),AA40="Annual",VLOOKUP($O40,PM执行时间!$A:$E,5,0),AA40="","")} -> 1 | AD40: {=_xlfn.IFS(AC40="Monthly",VLOOKUP($O40,PM执行时间!$A:$E,2,0),AC40="Quarterly",VLOOKUP($O40,PM执行时间!$A:$E,3,0),AC40="Semi-an",VLOOKUP($O40,PM执行时间!$A:$E,4,0),AC40="Annual",VLOOKUP($O40,PM执行时间!$A:$E,5,0),AC40="","")} | AF40: {=_xlfn.IFS(AE40="Monthly",VLOOKUP($O40,PM执行时间!$A:$E,2,0),AE40="Quarterly",VLOOKUP($O40,PM执行时间!$A:$E,3,0),AE40="Semi-an",VLOOKUP($O40,PM执行时间!$A:$E,4,0),AE40="Annual",VLOOKUP($O40,PM执行时间!$A:$E,5,0),AE40="","")} | AH40: {=_xlfn.IFS(AG40="Monthly",VLOOKUP($O40,PM执行时间!$A:$E,2,0),AG40="Quarterly",VLOOKUP($O40,PM执行时间!$A:$E,3,0),AG40="Semi-an",VLOOKUP($O40,PM执行时间!$A:$E,4,0),AG40="Annual",VLOOKUP($O40,PM执行时间!$A:$E,5,0),AG40="","")} | AJ40: {=_xlfn.IFS(AI40="Monthly",VLOOKUP($O40,PM执行时间!$A:$E,2,0),AI40="Quarterly",VLOOKUP($O40,PM执行时间!$A:$E,3,0),AI40="Semi-an",VLOOKUP($O40,PM执行时间!$A:$E,4,0),AI40="Annual",VLOOKUP($O40,PM执行时间!$A:$E,5,0),AI40="","")} | AL40: {=_xlfn.IFS(AK40="Monthly",VLOOKUP($O40,PM执行时间!$A:$E,2,0),AK40="Quarterly",VLOOKUP($O40,PM执行时间!$A:$E,3,0),AK40="Semi-an",VLOOKUP($O40,PM执行时间!$A:$E,4,0),AK40="Annual",VLOOKUP($O40,PM执行时间!$A:$E,5,0),AK40="","")} | AN40: {=_xlfn.IFS(AM40="Monthly",VLOOKUP($O40,PM执行时间!$A:$E,2,0),AM40="Quarterly",VLOOKUP($O40,PM执行时间!$A:$E,3,0),AM40="Semi-an",VLOOKUP($O40,PM执行时间!$A:$E,4,0),AM40="Annual",VLOOKUP($O40,PM执行时间!$A:$E,5,0),AM40="","")} | AO40: 44713
A41: 117 | B41: =SUBTOTAL(3,G$3:G41)+0 -> 3 | D41: 593 | E41: 清洗线 | F41: xinxin-5040T | G41: 常州市新鑫环保 | H41: N/A | I41: 41091 | J41: B类 | K41: 运行中 | L41: KH一楼北 | M41: N/A | N41: KH器械单元 | O41: FM-P0024.02 | P41: 月 | Q41: Monthly | R41: {=_xlfn.IFS(Q41="Monthly",VLOOKUP($O41,PM执行时间!$A:$E,2,0),Q41="Quarterly",VLOOKUP($O41,PM执行时间!$A:$E,3,0),Q41="Semi-an",VLOOKUP($O41,PM执行时间!$A:$E,4,0),Q41="Annual",VLOOKUP($O41,PM执行时间!$A:$E,5,0),Q41="","")} -> 1 | S41: Monthly | T41: {=_xlfn.IFS(S41="Monthly",VLOOKUP($O41,PM执行时间!$A:$E,2,0),S41="Quarterly",VLOOKUP($O41,PM执行时间!$A:$E,3,0),S41="Semi-an",VLOOKUP($O41,PM执行时间!$A:$E,4,0),S41="Annual",VLOOKUP($O41,PM执行时间!$A:$E,5,0),S41="","")} -> 1 | U41: Monthly | V41: {=_xlfn.IFS(U41="Monthly",VLOOKUP($O41,PM执行时间!$A:$E,2,0),U41="Quarterly",VLOOKUP($O41,PM执行时间!$A:$E,3,0),U41="Semi-an",VLOOKUP($O41,PM执行时间!$A:$E,4,0),U41="Annual",VLOOKUP($O41,PM执行时间!$A:$E,5,0),U41="","")} -> 1 | W41: Monthly | X41: {=_xlfn.IFS(W41="Monthly",VLOOKUP($O41,PM执行时间!$A:$E,2,0),W41="Quarterly",VLOOKUP($O41,PM执行时间!$A:$E,3,0),W41="Semi-an",VLOOKUP($O41,PM执行时间!$A:$E,4,0),W41="Annual",VLOOKUP($O41,PM执行时间!$A:$E,5,0),W41="","")} -> 1 | Y41: Monthly | Z41: {=_xlfn.IFS(Y41="Monthly",VLOOKUP($O41,PM执行时间!$A:$E,2,0),Y41="Quarterly",VLOOKUP($O41,PM执行时间!$A:$E,3,0),Y41="Semi-an",VLOOKUP($O41,PM执行时间!$A:$E,4,0),Y41="Annual",VLOOKUP($O41,PM执行时间!$A:$E,5,0),Y41="","")} -> 1 | AA41: Monthly | AB41: {=_xlfn.IFS(AA41="Monthly",VLOOKUP($O41,PM执行时间!$A:$E,2,0),AA41="Quarterly",VLOOKUP($O41,PM执行时间!$A:$E,3,0),AA41="Semi-an",VLOOKUP($O41,PM执行时间!$A:$E,4,0),AA41="Annual",VLOOKUP($O41,PM执行时间!$A:$E,5,0),AA41="","")} -> 1 | AC41: Monthly | AD41: {=_xlfn.IFS(AC41="Monthly",VLOOKUP($O41,PM执行时间!$A:$E,2,0),AC41="Quarterly",VLOOKUP($O41,PM执行时间!$A:$E,3,0),AC41="Semi-an",VLOOKUP($O41,PM执行时间!$A:$E,4,0),AC41="Annual",VLOOKUP($O41,PM执行时间!$A:$E,5,0),AC41="","")} -> 1 | AE41: Monthly | AF41: {=_xlfn.IFS(AE41="Monthly",VLOOKUP($O41,PM执行时间!$A:$E,2,0),AE41="Quarterly",VLOOKUP($O41,PM执行时间!$A:$E,3,0),AE41="Semi-an",VLOOKUP($O41,PM执行时间!$A:$E,4,0),AE41="Annual",VLOOKUP($O41,PM执行时间!$A:$E,5,0),AE41="","")} -> 1 | AG41: Monthly | AH41: {=_xlfn.IFS(AG41="Monthly",VLOOKUP($O41,PM执行时间!$A:$E,2,0),AG41="Quarterly",VLOOKUP($O41,PM执行时间!$A:$E,3,0),AG41="Semi-an",VLOOKUP($O41,PM执行时间!$A:$E,4,0),AG41="Annual",VLOOKUP($O41,PM执行时间!$A:$E,5,0),AG41="","")} -> 1 | AI41: Monthly | AJ41: {=_xlfn.IFS(AI41="Monthly",VLOOKUP($O41,PM执行时间!$A:$E,2,0),AI41="Quarterly",VLOOKUP($O41,PM执行时间!$A:$E,3,0),AI41="Semi-an",VLOOKUP($O41,PM执行时间!$A:$E,4,0),AI41="Annual",VLOOKUP($O41,PM执行时间!$A:$E,5,0),AI41="","")} -> 1 | AK41: Monthly | AL41: {=_xlfn.IFS(AK41="Monthly",VLOOKUP($O41,PM执行时间!$A:$E,2,0),AK41="Quarterly",VLOOKUP($O41,PM执行时间!$A:$E,3,0),AK41="Semi-an",VLOOKUP($O41,PM执行时间!$A:$E,4,0),AK41="Annual",VLOOKUP($O41,PM执行时间!$A:$E,5,0),AK41="","")} -> 1 | AM41: Monthly | AN41: {=_xlfn.IFS(AM41="Monthly",VLOOKUP($O41,PM执行时间!$A:$E,2,0),AM41="Quarterly",VLOOKUP($O41,PM执行时间!$A:$E,3,0),AM41="Semi-an",VLOOKUP($O41,PM执行时间!$A:$E,4,0),AM41="Annual",VLOOKUP($O41,PM执行时间!$A:$E,5,0),AM41="","")} -> 1 | AO41: 44805 | AP41: 3/16-3/20
A42: 119 | B42: =SUBTOTAL(3,G$3:G42)+0 -> 4 | D42: 596 | E42: 清洗机 | F42: KPDW-QC5048-25C/01 | G42: 常州市科沛达 | H42: 12032308 | I42: 41000 | J42: B类 | K42: 运行中 | L42: KH二楼净化车间 | M42: 41000 | N42: KH净化车间 | O42: FM-P0024.02 | P42: 月 | Q42: Monthly | R42: {=_xlfn.IFS(Q42="Monthly",VLOOKUP($O42,PM执行时间!$A:$E,2,0),Q42="Quarterly",VLOOKUP($O42,PM执行时间!$A:$E,3,0),Q42="Semi-an",VLOOKUP($O42,PM执行时间!$A:$E,4,0),Q42="Annual",VLOOKUP($O42,PM执行时间!$A:$E,5,0),Q42="","")} -> 1 | S42: Monthly | T42: {=_xlfn.IFS(S42="Monthly",VLOOKUP($O42,PM执行时间!$A:$E,2,0),S42="Quarterly",VLOOKUP($O42,PM执行时间!$A:$E,3,0),S42="Semi-an",VLOOKUP($O42,PM执行时间!$A:$E,4,0),S42="Annual",VLOOKUP($O42,PM执行时间!$A:$E,5,0),S42="","")} -> 1 | U42: Monthly | V42: {=_xlfn.IFS(U42="Monthly",VLOOKUP($O42,PM执行时间!$A:$E,2,0),U42="Quarterly",VLOOKUP($O42,PM执行时间!$A:$E,3,0),U42="Semi-an",VLOOKUP($O42,PM执行时间!$A:$E,4,0),U42="Annual",VLOOKUP($O42,PM执行时间!$A:$E,5,0),U42="","")} -> 1 | W42: Monthly | X42: {=_xlfn.IFS(W42="Monthly",VLOOKUP($O42,PM执行时间!$A:$E,2,0),W42="Quarterly",VLOOKUP($O42,PM执行时间!$A:$E,3,0),W42="Semi-an",VLOOKUP($O42,PM执行时间!$A:$E,4,0),W42="Annual",VLOOKUP($O42,PM执行时间!$A:$E,5,0),W42="","")} -> 1 | Y42: Monthly | Z42: {=_xlfn.IFS(Y42="Monthly",VLOOKUP($O42,PM执行时间!$A:$E,2,0),Y42="Quarterly",VLOOKUP($O42,PM执行时间!$A:$E,3,0),Y42="Semi-an",VLOOKUP($O42,PM执行时间!$A:$E,4,0),Y42="Annual",VLOOKUP($O42,PM执行时间!$A:$E,5,0),Y42="","")} -> 1 | AA42: Monthly | AB42: {=_xlfn.IFS(AA42="Monthly",VLOOKUP($O42,PM执行时间!$A:$E,2,0),AA42="Quarterly",VLOOKUP($O42,PM执行时间!$A:$E,3,0),AA42="Semi-an",VLOOKUP($O42,PM执行时间!$A:$E,4,0),AA42="Annual",VLOOKUP($O42,PM执行时间!$A:$E,5,0),AA42="","")} -> 1 | AC42: Monthly | AD42: {=_xlfn.IFS(AC42="Monthly",VLOOKUP($O42,PM执行时间!$A:$E,2,0),AC42="Quarterly",VLOOKUP($O42,PM执行时间!$A:$E,3,0),AC42="Semi-an",VLOOKUP($O42,PM执行时间!$A:$E,4,0),AC42="Annual",VLOOKUP($O42,PM执行时间!$A:$E,5,0),AC42="","")} -> 1 | AE42: Monthly | AF42: {=_xlfn.IFS(AE42="Monthly",VLOOKUP($O42,PM执行时间!$A:$E,2,0),AE42="Quarterly",VLOOKUP($O42,PM执行时间!$A:$E,3,0),AE42="Semi-an",VLOOKUP($O42,PM执行时间!$A:$E,4,0),AE42="Annual",VLOOKUP($O42,PM执行时间!$A:$E,5,0),AE42="","")} -> 1 | AG42: Monthly | AH42: {=_xlfn.IFS(AG42="Monthly",VLOOKUP($O42,PM执行时间!$A:$E,2,0),AG42="Quarterly",VLOOKUP($O42,PM执行时间!$A:$E,3,0),AG42="Semi-an",VLOOKUP($O42,PM执行时间!$A:$E,4,0),AG42="Annual",VLOOKUP($O42,PM执行时间!$A:$E,5,0),AG42="","")} -> 1 | AI42: Monthly | AJ42: {=_xlfn.IFS(AI42="Monthly",VLOOKUP($O42,PM执行时间!$A:$E,2,0),AI42="Quarterly",VLOOKUP($O42,PM执行时间!$A:$E,3,0),AI42="Semi-an",VLOOKUP($O42,PM执行时间!$A:$E,4,0),AI42="Annual",VLOOKUP($O42,PM执行时间!$A:$E,5,0),AI42="","")} -> 1 | AK42: Monthly | AL42: {=_xlfn.IFS(AK42="Monthly",VLOOKUP($O42,PM执行时间!$A:$E,2,0),AK42="Quarterly",VLOOKUP($O42,PM执行时间!$A:$E,3,0),AK42="Semi-an",VLOOKUP($O42,PM执行时间!$A:$E,4,0),AK42="Annual",VLOOKUP($O42,PM执行时间!$A:$E,5,0),AK42="","")} -> 1 | AM42: Monthly | AN42: {=_xlfn.IFS(AM42="Monthly",VLOOKUP($O42,PM执行时间!$A:$E,2,0),AM42="Quarterly",VLOOKUP($O42,PM执行时间!$A:$E,3,0),AM42="Semi-an",VLOOKUP($O42,PM执行时间!$A:$E,4,0),AM42="Annual",VLOOKUP($O42,PM执行时间!$A:$E,5,0),AM42="","")} -> 1 | AO42: 44805 | AP42: 3/16-3/20
A43: 41 | B43: =SUBTOTAL(3,G$3:G43)+0 -> 4 | D43: 337 | E43: 台钻 | F43: Z512B | G43: 杭州西湖台钻 | H43: 1120344 | J43: B类 | K43: 运行中 | L43: 5206 | M43: N/A | N43: 5206 | O43: #N/A | R43: {=_xlfn.IFS(Q43="Monthly",VLOOKUP($O43,PM执行时间!$A:$E,2,0),Q43="Quarterly",VLOOKUP($O43,PM执行时间!$A:$E,3,0),Q43="Semi-an",VLOOKUP($O43,PM执行时间!$A:$E,4,0),Q43="Annual",VLOOKUP($O43,PM执行时间!$A:$E,5,0),Q43="","")} | T43: {=_xlfn.IFS(S43="Monthly",VLOOKUP($O43,PM执行时间!$A:$E,2,0),S43="Quarterly",VLOOKUP($O43,PM执行时间!$A:$E,3,0),S43="Semi-an",VLOOKUP($O43,PM执行时间!$A:$E,4,0),S43="Annual",VLOOKUP($O43,PM执行时间!$A:$E,5,0),S43="","")} | V43: {=_xlfn.IFS(U43="Monthly",VLOOKUP($O43,PM执行时间!$A:$E,2,0),U43="Quarterly",VLOOKUP($O43,PM执行时间!$A:$E,3,0),U43="Semi-an",VLOOKUP($O43,PM执行时间!$A:$E,4,0),U43="Annual",VLOOKUP($O43,PM执行时间!$A:$E,5,0),U43="","")} | X43: {=_xlfn.IFS(W43="Monthly",VLOOKUP($O43,PM执行时间!$A:$E,2,0),W43="Quarterly",VLOOKUP($O43,PM执行时间!$A:$E,3,0),W43="Semi-an",VLOOKUP($O43,PM执行时间!$A:$E,4,0),W43="Annual",VLOOKUP($O43,PM执行时间!$A:$E,5,0),W43="","")} | Z43: {=_xlfn.IFS(Y43="Monthly",VLOOKUP($O43,PM执行时间!$A:$E,2,0),Y43="Quarterly",VLOOKUP($O43,PM执行时间!$A:$E,3,0),Y43="Semi-an",VLOOKUP($O43,PM执行时间!$A:$E,4,0),Y43="Annual",VLOOKUP($O43,PM执行时间!$A:$E,5,0),Y43="","")} | AB43: {=_xlfn.IFS(AA43="Monthly",VLOOKUP($O43,PM执行时间!$A:$E,2,0),AA43="Quarterly",VLOOKUP($O43,PM执行时间!$A:$E,3,0),AA43="Semi-an",VLOOKUP($O43,PM执行时间!$A:$E,4,0),AA43="Annual",VLOOKUP($O43,PM执行时间!$A:$E,5,0),AA43="","")} | AD43: {=_xlfn.IFS(AC43="Monthly",VLOOKUP($O43,PM执行时间!$A:$E,2,0),AC43="Quarterly",VLOOKUP($O43,PM执行时间!$A:$E,3,0),AC43="Semi-an",VLOOKUP($O43,PM执行时间!$A:$E,4,0),AC43="Annual",VLOOKUP($O43,PM执行时间!$A:$E,5,0),AC43="","")} | AF43: {=_xlfn.IFS(AE43="Monthly",VLOOKUP($O43,PM执行时间!$A:$E,2,0),AE43="Quarterly",VLOOKUP($O43,PM执行时间!$A:$E,3,0),AE43="Semi-an",VLOOKUP($O43,PM执行时间!$A:$E,4,0),AE43="Annual",VLOOKUP($O43,PM执行时间!$A:$E,5,0),AE43="","")} | AH43: {=_xlfn.IFS(AG43="Monthly",VLOOKUP($O43,PM执行时间!$A:$E,2,0),AG43="Quarterly",VLOOKUP($O43,PM执行时间!$A:$E,3,0),AG43="Semi-an",VLOOKUP($O43,PM执行时间!$A:$E,4,0),AG43="Annual",VLOOKUP($O43,PM执行时间!$A:$E,5,0),AG43="","")} | AJ43: {=_xlfn.IFS(AI43="Monthly",VLOOKUP($O43,PM执行时间!$A:$E,2,0),AI43="Quarterly",VLOOKUP($O43,PM执行时间!$A:$E,3,0),AI43="Semi-an",VLOOKUP($O43,PM执行时间!$A:$E,4,0),AI43="Annual",VLOOKUP($O43,PM执行时间!$A:$E,5,0),AI43="","")} | AL43: {=_xlfn.IFS(AK43="Monthly",VLOOKUP($O43,PM执行时间!$A:$E,2,0),AK43="Quarterly",VLOOKUP($O43,PM执行时间!$A:$E,3,0),AK43="Semi-an",VLOOKUP($O43,PM执行时间!$A:$E,4,0),AK43="Annual",VLOOKUP($O43,PM执行时间!$A:$E,5,0),AK43="","")} | AN43: {=_xlfn.IFS(AM43="Monthly",VLOOKUP($O43,PM执行时间!$A:$E,2,0),AM43="Quarterly",VLOOKUP($O43,PM执行时间!$A:$E,3,0),AM43="Semi-an",VLOOKUP($O43,PM执行时间!$A:$E,4,0),AM43="Annual",VLOOKUP($O43,PM执行时间!$A:$E,5,0),AM43="","")}
A44: 42 | B44: =SUBTOTAL(3,G$3:G44)+0 -> 4 | D44: 344 | E44: 普通铣床 | F44: X6325T | G44: 南通科技投资 | H44: 472154 | I44: 39569 | J44: B类 | K44: 运行中 | L44: KH一楼北 | M44: N/A | N44: KH创伤单元 | O44: WI-019-R02 | P44: 年 | R44: {=_xlfn.IFS(Q44="Monthly",VLOOKUP($O44,PM执行时间!$A:$E,2,0),Q44="Quarterly",VLOOKUP($O44,PM执行时间!$A:$E,3,0),Q44="Semi-an",VLOOKUP($O44,PM执行时间!$A:$E,4,0),Q44="Annual",VLOOKUP($O44,PM执行时间!$A:$E,5,0),Q44="","")} | T44: {=_xlfn.IFS(S44="Monthly",VLOOKUP($O44,PM执行时间!$A:$E,2,0),S44="Quarterly",VLOOKUP($O44,PM执行时间!$A:$E,3,0),S44="Semi-an",VLOOKUP($O44,PM执行时间!$A:$E,4,0),S44="Annual",VLOOKUP($O44,PM执行时间!$A:$E,5,0),S44="","")} | V44: {=_xlfn.IFS(U44="Monthly",VLOOKUP($O44,PM执行时间!$A:$E,2,0),U44="Quarterly",VLOOKUP($O44,PM执行时间!$A:$E,3,0),U44="Semi-an",VLOOKUP($O44,PM执行时间!$A:$E,4,0),U44="Annual",VLOOKUP($O44,PM执行时间!$A:$E,5,0),U44="","")} | X44: {=_xlfn.IFS(W44="Monthly",VLOOKUP($O44,PM执行时间!$A:$E,2,0),W44="Quarterly",VLOOKUP($O44,PM执行时间!$A:$E,3,0),W44="Semi-an",VLOOKUP($O44,PM执行时间!$A:$E,4,0),W44="Annual",VLOOKUP($O44,PM执行时间!$A:$E,5,0),W44="","")} | Z44: {=_xlfn.IFS(Y44="Monthly",VLOOKUP($O44,PM执行时间!$A:$E,2,0),Y44="Quarterly",VLOOKUP($O44,PM执行时间!$A:$E,3,0),Y44="Semi-an",VLOOKUP($O44,PM执行时间!$A:$E,4,0),Y44="Annual",VLOOKUP($O44,PM执行时间!$A:$E,5,0),Y44="","")} | AB44: {=_xlfn.IFS(AA44="Monthly",VLOOKUP($O44,PM执行时间!$A:$E,2,0),AA44="Quarterly",VLOOKUP($O44,PM执行时间!$A:$E,3,0),AA44="Semi-an",VLOOKUP($O44,PM执行时间!$A:$E,4,0),AA44="Annual",VLOOKUP($O44,PM执行时间!$A:$E,5,0),AA44="","")} | AD44: {=_xlfn.IFS(AC44="Monthly",VLOOKUP($O44,PM执行时间!$A:$E,2,0),AC44="Quarterly",VLOOKUP($O44,PM执行时间!$A:$E,3,0),AC44="Semi-an",VLOOKUP($O44,PM执行时间!$A:$E,4,0),AC44="Annual",VLOOKUP($O44,PM执行时间!$A:$E,5,0),AC44="","")} | AF44: {=_xlfn.IFS(AE44="Monthly",VLOOKUP($O44,PM执行时间!$A:$E,2,0),AE44="Quarterly",VLOOKUP($O44,PM执行时间!$A:$E,3,0),AE44="Semi-an",VLOOKUP($O44,PM执行时间!$A:$E,4,0),AE44="Annual",VLOOKUP($O44,PM执行时间!$A:$E,5,0),AE44="","")} | AG44: Annual | AH44: {=_xlfn.IFS(AG44="Monthly",VLOOKUP($O44,PM执行时间!$A:$E,2,0),AG44="Quarterly",VLOOKUP($O44,PM执行时间!$A:$E,3,0),AG44="Semi-an",VLOOKUP($O44,PM执行时间!$A:$E,4,0),AG44="Annual",VLOOKUP($O44,PM执行时间!$A:$E,5,0),AG44="","")} -> 1 | AJ44: {=_xlfn.IFS(AI44="Monthly",VLOOKUP($O44,PM执行时间!$A:$E,2,0),AI44="Quarterly",VLOOKUP($O44,PM执行时间!$A:$E,3,0),AI44="Semi-an",VLOOKUP($O44,PM执行时间!$A:$E,4,0),AI44="Annual",VLOOKUP($O44,PM执行时间!$A:$E,5,0),AI44="","")} | AL44: {=_xlfn.IFS(AK44="Monthly",VLOOKUP($O44,PM执行时间!$A:$E,2,0),AK44="Quarterly",VLOOKUP($O44,PM执行时间!$A:$E,3,0),AK44="Semi-an",VLOOKUP($O44,PM执行时间!$A:$E,4,0),AK44="Annual",VLOOKUP($O44,PM执行时间!$A:$E,5,0),AK44="","")} | AN44: {=_xlfn.IFS(AM44="Monthly",VLOOKUP($O44,PM执行时间!$A:$E,2,0),AM44="Quarterly",VLOOKUP($O44,PM执行时间!$A:$E,3,0),AM44="Semi-an",VLOOKUP($O44,PM执行时间!$A:$E,4,0),AM44="Annual",VLOOKUP($O44,PM执行时间!$A:$E,5,0),AM44="","")} | AO44: 44805
A45: 43 | B45: =SUBTOTAL(3,G$3:G45)+0 -> 4 | D45: 345 | E45: 压力机 | F45: J23-6.3T | G45: 沃得精机 | H45: 8003 | I45: 39569 | J45: B类 | K45: 运行中 | L45: KH一楼北 | M45: N/A | N45: KH创伤单元 | O45: WI-328-R02 | P45: 年 | R45: {=_xlfn.IFS(Q45="Monthly",VLOOKUP($O45,PM执行时间!$A:$E,2,0),Q45="Quarterly",VLOOKUP($O45,PM执行时间!$A:$E,3,0),Q45="Semi-an",VLOOKUP($O45,PM执行时间!$A:$E,4,0),Q45="Annual",VLOOKUP($O45,PM执行时间!$A:$E,5,0),Q45="","")} | T45: {=_xlfn.IFS(S45="Monthly",VLOOKUP($O45,PM执行时间!$A:$E,2,0),S45="Quarterly",VLOOKUP($O45,PM执行时间!$A:$E,3,0),S45="Semi-an",VLOOKUP($O45,PM执行时间!$A:$E,4,0),S45="Annual",VLOOKUP($O45,PM执行时间!$A:$E,5,0),S45="","")} | V45: {=_xlfn.IFS(U45="Monthly",VLOOKUP($O45,PM执行时间!$A:$E,2,0),U45="Quarterly",VLOOKUP($O45,PM执行时间!$A:$E,3,0),U45="Semi-an",VLOOKUP($O45,PM执行时间!$A:$E,4,0),U45="Annual",VLOOKUP($O45,PM执行时间!$A:$E,5,0),U45="","")} | X45: {=_xlfn.IFS(W45="Monthly",VLOOKUP($O45,PM执行时间!$A:$E,2,0),W45="Quarterly",VLOOKUP($O45,PM执行时间!$A:$E,3,0),W45="Semi-an",VLOOKUP($O45,PM执行时间!$A:$E,4,0),W45="Annual",VLOOKUP($O45,PM执行时间!$A:$E,5,0),W45="","")} | Y45: Annual | Z45: {=_xlfn.IFS(Y45="Monthly",VLOOKUP($O45,PM执行时间!$A:$E,2,0),Y45="Quarterly",VLOOKUP($O45,PM执行时间!$A:$E,3,0),Y45="Semi-an",VLOOKUP($O45,PM执行时间!$A:$E,4,0),Y45="Annual",VLOOKUP($O45,PM执行时间!$A:$E,5,0),Y45="","")} -> 1 | AB45: {=_xlfn.IFS(AA45="Monthly",VLOOKUP($O45,PM执行时间!$A:$E,2,0),AA45="Quarterly",VLOOKUP($O45,PM执行时间!$A:$E,3,0),AA45="Semi-an",VLOOKUP($O45,PM执行时间!$A:$E,4,0),AA45="Annual",VLOOKUP($O45,PM执行时间!$A:$E,5,0),AA45="","")} | AD45: {=_xlfn.IFS(AC45="Monthly",VLOOKUP($O45,PM执行时间!$A:$E,2,0),AC45="Quarterly",VLOOKUP($O45,PM执行时间!$A:$E,3,0),AC45="Semi-an",VLOOKUP($O45,PM执行时间!$A:$E,4,0),AC45="Annual",VLOOKUP($O45,PM执行时间!$A:$E,5,0),AC45="","")} | AF45: {=_xlfn.IFS(AE45="Monthly",VLOOKUP($O45,PM执行时间!$A:$E,2,0),AE45="Quarterly",VLOOKUP($O45,PM执行时间!$A:$E,3,0),AE45="Semi-an",VLOOKUP($O45,PM执行时间!$A:$E,4,0),AE45="Annual",VLOOKUP($O45,PM执行时间!$A:$E,5,0),AE45="","")} | AH45: {=_xlfn.IFS(AG45="Monthly",VLOOKUP($O45,PM执行时间!$A:$E,2,0),AG45="Quarterly",VLOOKUP($O45,PM执行时间!$A:$E,3,0),AG45="Semi-an",VLOOKUP($O45,PM执行时间!$A:$E,4,0),AG45="Annual",VLOOKUP($O45,PM执行时间!$A:$E,5,0),AG45="","")} | AJ45: {=_xlfn.IFS(AI45="Monthly",VLOOKUP($O45,PM执行时间!$A:$E,2,0),AI45="Quarterly",VLOOKUP($O45,PM执行时间!$A:$E,3,0),AI45="Semi-an",VLOOKUP($O45,PM执行时间!$A:$E,4,0),AI45="Annual",VLOOKUP($O45,PM执行时间!$A:$E,5,0),AI45="","")} | AL45: {=_xlfn.IFS(AK45="Monthly",VLOOKUP($O45,PM执行时间!$A:$E,2,0),AK45="Quarterly",VLOOKUP($O45,PM执行时间!$A:$E,3,0),AK45="Semi-an",VLOOKUP($O45,PM执行时间!$A:$E,4,0),AK45="Annual",VLOOKUP($O45,PM执行时间!$A:$E,5,0),AK45="","")} | AN45: {=_xlfn.IFS(AM45="Monthly",VLOOKUP($O45,PM执行时间!$A:$E,2,0),AM45="Quarterly",VLOOKUP($O45,PM执行时间!$A:$E,3,0),AM45="Semi-an",VLOOKUP($O45,PM执行时间!$A:$E,4,0),AM45="Annual",VLOOKUP($O45,PM执行时间!$A:$E,5,0),AM45="","")} | AO45: 44682
A46: 44 | B46: =SUBTOTAL(3,G$3:G46)+0 -> 4 | D46: 359 | E46: 加工中心 | F46: VF-3D | G46: 美国哈斯自动化 | H46: 1053725 | I46: 39083 | J46: A类 | K46: 运行中 | L46: KH一楼北 | M46: 39022 | N46: KH创伤单元 | O46: WI-013-R39 | P46: 季 | R46: {=_xlfn.IFS(Q46="Monthly",VLOOKUP($O46,PM执行时间!$A:$E,2,0),Q46="Quarterly",VLOOKUP($O46,PM执行时间!$A:$E,3,0),Q46="Semi-an",VLOOKUP($O46,PM执行时间!$A:$E,4,0),Q46="Annual",VLOOKUP($O46,PM执行时间!$A:$E,5,0),Q46="","")} | T46: {=_xlfn.IFS(S46="Monthly",VLOOKUP($O46,PM执行时间!$A:$E,2,0),S46="Quarterly",VLOOKUP($O46,PM执行时间!$A:$E,3,0),S46="Semi-an",VLOOKUP($O46,PM执行时间!$A:$E,4,0),S46="Annual",VLOOKUP($O46,PM执行时间!$A:$E,5,0),S46="","")} | U46: Quarterly | V46: {=_xlfn.IFS(U46="Monthly",VLOOKUP($O46,PM执行时间!$A:$E,2,0),U46="Quarterly",VLOOKUP($O46,PM执行时间!$A:$E,3,0),U46="Semi-an",VLOOKUP($O46,PM执行时间!$A:$E,4,0),U46="Annual",VLOOKUP($O46,PM执行时间!$A:$E,5,0),U46="","")} -> 2 | X46: {=_xlfn.IFS(W46="Monthly",VLOOKUP($O46,PM执行时间!$A:$E,2,0),W46="Quarterly",VLOOKUP($O46,PM执行时间!$A:$E,3,0),W46="Semi-an",VLOOKUP($O46,PM执行时间!$A:$E,4,0),W46="Annual",VLOOKUP($O46,PM执行时间!$A:$E,5,0),W46="","")} | Z46: {=_xlfn.IFS(Y46="Monthly",VLOOKUP($O46,PM执行时间!$A:$E,2,0),Y46="Quarterly",VLOOKUP($O46,PM执行时间!$A:$E,3,0),Y46="Semi-an",VLOOKUP($O46,PM执行时间!$A:$E,4,0),Y46="Annual",VLOOKUP($O46,PM执行时间!$A:$E,5,0),Y46="","")} | AA46: Quarterly | AB46: {=_xlfn.IFS(AA46="Monthly",VLOOKUP($O46,PM执行时间!$A:$E,2,0),AA46="Quarterly",VLOOKUP($O46,PM执行时间!$A:$E,3,0),AA46="Semi-an",VLOOKUP($O46,PM执行时间!$A:$E,4,0),AA46="Annual",VLOOKUP($O46,PM执行时间!$A:$E,5,0),AA46="","")} -> 2 | AD46: {=_xlfn.IFS(AC46="Monthly",VLOOKUP($O46,PM执行时间!$A:$E,2,0),AC46="Quarterly",VLOOKUP($O46,PM执行时间!$A:$E,3,0),AC46="Semi-an",VLOOKUP($O46,PM执行时间!$A:$E,4,0),AC46="Annual",VLOOKUP($O46,PM执行时间!$A:$E,5,0),AC46="","")} | AF46: {=_xlfn.IFS(AE46="Monthly",VLOOKUP($O46,PM执行时间!$A:$E,2,0),AE46="Quarterly",VLOOKUP($O46,PM执行时间!$A:$E,3,0),AE46="Semi-an",VLOOKUP($O46,PM执行时间!$A:$E,4,0),AE46="Annual",VLOOKUP($O46,PM执行时间!$A:$E,5,0),AE46="","")} | AG46: Quarterly | AH46: {=_xlfn.IFS(AG46="Monthly",VLOOKUP($O46,PM执行时间!$A:$E,2,0),AG46="Quarterly",VLOOKUP($O46,PM执行时间!$A:$E,3,0),AG46="Semi-an",VLOOKUP($O46,PM执行时间!$A:$E,4,0),AG46="Annual",VLOOKUP($O46,PM执行时间!$A:$E,5,0),AG46="","")} -> 2 | AJ46: {=_xlfn.IFS(AI46="Monthly",VLOOKUP($O46,PM执行时间!$A:$E,2,0),AI46="Quarterly",VLOOKUP($O46,PM执行时间!$A:$E,3,0),AI46="Semi-an",VLOOKUP($O46,PM执行时间!$A:$E,4,0),AI46="Annual",VLOOKUP($O46,PM执行时间!$A:$E,5,0),AI46="","")} | AL46: {=_xlfn.IFS(AK46="Monthly",VLOOKUP($O46,PM执行时间!$A:$E,2,0),AK46="Quarterly",VLOOKUP($O46,PM执行时间!$A:$E,3,0),AK46="Semi-an",VLOOKUP($O46,PM执行时间!$A:$E,4,0),AK46="Annual",VLOOKUP($O46,PM执行时间!$A:$E,5,0),AK46="","")} | AM46: Quarterly | AN46: {=_xlfn.IFS(AM46="Monthly",VLOOKUP($O46,PM执行时间!$A:$E,2,0),AM46="Quarterly",VLOOKUP($O46,PM执行时间!$A:$E,3,0),AM46="Semi-an",VLOOKUP($O46,PM执行时间!$A:$E,4,0),AM46="Annual",VLOOKUP($O46,PM执行时间!$A:$E,5,0),AM46="","")} -> 2 | AO46: 44896
A47: 45 | B47: =SUBTOTAL(3,G$3:G47)+0 -> 4 | D47: 369 | E47: 纵切机床 | F47: SR-20JC | G47: STAR精密株式会社 | H47: 153 | I47: 39753 | J47: A类 | K47: 运行中 | L47: KH一楼正西 | M47: 39448 | N47: KH脊柱单元 | O47: WI-021-R03 | P47: 季度/半年/年 | Q47: Semi-an | R47: {=_xlfn.IFS(Q47="Monthly",VLOOKUP($O47,PM执行时间!$A:$E,2,0),Q47="Quarterly",VLOOKUP($O47,PM执行时间!$A:$E,3,0),Q47="Semi-an",VLOOKUP($O47,PM执行时间!$A:$E,4,0),Q47="Annual",VLOOKUP($O47,PM执行时间!$A:$E,5,0),Q47="","")} -> 1.42 | T47: {=_xlfn.IFS(S47="Monthly",VLOOKUP($O47,PM执行时间!$A:$E,2,0),S47="Quarterly",VLOOKUP($O47,PM执行时间!$A:$E,3,0),S47="Semi-an",VLOOKUP($O47,PM执行时间!$A:$E,4,0),S47="Annual",VLOOKUP($O47,PM执行时间!$A:$E,5,0),S47="","")} | V47: {=_xlfn.IFS(U47="Monthly",VLOOKUP($O47,PM执行时间!$A:$E,2,0),U47="Quarterly",VLOOKUP($O47,PM执行时间!$A:$E,3,0),U47="Semi-an",VLOOKUP($O47,PM执行时间!$A:$E,4,0),U47="Annual",VLOOKUP($O47,PM执行时间!$A:$E,5,0),U47="","")} | W47: Quarterly | X47: {=_xlfn.IFS(W47="Monthly",VLOOKUP($O47,PM执行时间!$A:$E,2,0),W47="Quarterly",VLOOKUP($O47,PM执行时间!$A:$E,3,0),W47="Semi-an",VLOOKUP($O47,PM执行时间!$A:$E,4,0),W47="Annual",VLOOKUP($O47,PM执行时间!$A:$E,5,0),W47="","")} -> 1 | Z47: {=_xlfn.IFS(Y47="Monthly",VLOOKUP($O47,PM执行时间!$A:$E,2,0),Y47="Quarterly",VLOOKUP($O47,PM执行时间!$A:$E,3,0),Y47="Semi-an",VLOOKUP($O47,PM执行时间!$A:$E,4,0),Y47="Annual",VLOOKUP($O47,PM执行时间!$A:$E,5,0),Y47="","")} | AB47: {=_xlfn.IFS(AA47="Monthly",VLOOKUP($O47,PM执行时间!$A:$E,2,0),AA47="Quarterly",VLOOKUP($O47,PM执行时间!$A:$E,3,0),AA47="Semi-an",VLOOKUP($O47,PM执行时间!$A:$E,4,0),AA47="Annual",VLOOKUP($O47,PM执行时间!$A:$E,5,0),AA47="","")} | AC47: Annual | AD47: {=_xlfn.IFS(AC47="Monthly",VLOOKUP($O47,PM执行时间!$A:$E,2,0),AC47="Quarterly",VLOOKUP($O47,PM执行时间!$A:$E,3,0),AC47="Semi-an",VLOOKUP($O47,PM执行时间!$A:$E,4,0),AC47="Annual",VLOOKUP($O47,PM执行时间!$A:$E,5,0),AC47="","")} -> 1.67 | AF47: {=_xlfn.IFS(AE47="Monthly",VLOOKUP($O47,PM执行时间!$A:$E,2,0),AE47="Quarterly",VLOOKUP($O47,PM执行时间!$A:$E,3,0),AE47="Semi-an",VLOOKUP($O47,PM执行时间!$A:$E,4,0),AE47="Annual",VLOOKUP($O47,PM执行时间!$A:$E,5,0),AE47="","")} | AH47: {=_xlfn.IFS(AG47="Monthly",VLOOKUP($O47,PM执行时间!$A:$E,2,0),AG47="Quarterly",VLOOKUP($O47,PM执行时间!$A:$E,3,0),AG47="Semi-an",VLOOKUP($O47,PM执行时间!$A:$E,4,0),AG47="Annual",VLOOKUP($O47,PM执行时间!$A:$E,5,0),AG47="","")} | AI47: Quarterly | AJ47: {=_xlfn.IFS(AI47="Monthly",VLOOKUP($O47,PM执行时间!$A:$E,2,0),AI47="Quarterly",VLOOKUP($O47,PM执行时间!$A:$E,3,0),AI47="Semi-an",VLOOKUP($O47,PM执行时间!$A:$E,4,0),AI47="Annual",VLOOKUP($O47,PM执行时间!$A:$E,5,0),AI47="","")} -> 1 | AL47: {=_xlfn.IFS(AK47="Monthly",VLOOKUP($O47,PM执行时间!$A:$E,2,0),AK47="Quarterly",VLOOKUP($O47,PM执行时间!$A:$E,3,0),AK47="Semi-an",VLOOKUP($O47,PM执行时间!$A:$E,4,0),AK47="Annual",VLOOKUP($O47,PM执行时间!$A:$E,5,0),AK47="","")} | AN47: {=_xlfn.IFS(AM47="Monthly",VLOOKUP($O47,PM执行时间!$A:$E,2,0),AM47="Quarterly",VLOOKUP($O47,PM执行时间!$A:$E,3,0),AM47="Semi-an",VLOOKUP($O47,PM执行时间!$A:$E,4,0),AM47="Annual",VLOOKUP($O47,PM执行时间!$A:$E,5,0),AM47="","")} | AO47: 44743
A48: 46 | B48: =SUBTOTAL(3,G$3:G48)+0 -> 4 | D48: 373 | E48: 加工中心 | F48: GX1000plus | G48: 哈挺上海 | H48: NVCA81C147 | I48: 39753 | J48: A类 | K48: 运行中 | L48: KH一楼中南 | M48: N/A | N48: KH创伤单元 | O48: WI-013-R40 | P48: 季度/年 | Q48: Quarterly | R48: {=_xlfn.IFS(Q48="Monthly",VLOOKUP($O48,PM执行时间!$A:$E,2,0),Q48="Quarterly",VLOOKUP($O48,PM执行时间!$A:$E,3,0),Q48="Semi-an",VLOOKUP($O48,PM执行时间!$A:$E,4,0),Q48="Annual",VLOOKUP($O48,PM执行时间!$A:$E,5,0),Q48="","")} -> 0.15 | T48: {=_xlfn.IFS(S48="Monthly",VLOOKUP($O48,PM执行时间!$A:$E,2,0),S48="Quarterly",VLOOKUP($O48,PM执行时间!$A:$E,3,0),S48="Semi-an",VLOOKUP($O48,PM执行时间!$A:$E,4,0),S48="Annual",VLOOKUP($O48,PM执行时间!$A:$E,5,0),S48="","")} | V48: {=_xlfn.IFS(U48="Monthly",VLOOKUP($O48,PM执行时间!$A:$E,2,0),U48="Quarterly",VLOOKUP($O48,PM执行时间!$A:$E,3,0),U48="Semi-an",VLOOKUP($O48,PM执行时间!$A:$E,4,0),U48="Annual",VLOOKUP($O48,PM执行时间!$A:$E,5,0),U48="","")} | W48: Quarterly | X48: {=_xlfn.IFS(W48="Monthly",VLOOKUP($O48,PM执行时间!$A:$E,2,0),W48="Quarterly",VLOOKUP($O48,PM执行时间!$A:$E,3,0),W48="Semi-an",VLOOKUP($O48,PM执行时间!$A:$E,4,0),W48="Annual",VLOOKUP($O48,PM执行时间!$A:$E,5,0),W48="","")} -> 0.15 | Z48: {=_xlfn.IFS(Y48="Monthly",VLOOKUP($O48,PM执行时间!$A:$E,2,0),Y48="Quarterly",VLOOKUP($O48,PM执行时间!$A:$E,3,0),Y48="Semi-an",VLOOKUP($O48,PM执行时间!$A:$E,4,0),Y48="Annual",VLOOKUP($O48,PM执行时间!$A:$E,5,0),Y48="","")} | AB48: {=_xlfn.IFS(AA48="Monthly",VLOOKUP($O48,PM执行时间!$A:$E,2,0),AA48="Quarterly",VLOOKUP($O48,PM执行时间!$A:$E,3,0),AA48="Semi-an",VLOOKUP($O48,PM执行时间!$A:$E,4,0),AA48="Annual",VLOOKUP($O48,PM执行时间!$A:$E,5,0),AA48="","")} | AC48: Quarterly | AD48: {=_xlfn.IFS(AC48="Monthly",VLOOKUP($O48,PM执行时间!$A:$E,2,0),AC48="Quarterly",VLOOKUP($O48,PM执行时间!$A:$E,3,0),AC48="Semi-an",VLOOKUP($O48,PM执行时间!$A:$E,4,0),AC48="Annual",VLOOKUP($O48,PM执行时间!$A:$E,5,0),AC48="","")} -> 0.15 | AF48: {=_xlfn.IFS(AE48="Monthly",VLOOKUP($O48,PM执行时间!$A:$E,2,0),AE48="Quarterly",VLOOKUP($O48,PM执行时间!$A:$E,3,0),AE48="Semi-an",VLOOKUP($O48,PM执行时间!$A:$E,4,0),AE48="Annual",VLOOKUP($O48,PM执行时间!$A:$E,5,0),AE48="","")} | AH48: {=_xlfn.IFS(AG48="Monthly",VLOOKUP($O48,PM执行时间!$A:$E,2,0),AG48="Quarterly",VLOOKUP($O48,PM执行时间!$A:$E,3,0),AG48="Semi-an",VLOOKUP($O48,PM执行时间!$A:$E,4,0),AG48="Annual",VLOOKUP($O48,PM执行时间!$A:$E,5,0),AG48="","")} | AI48: Annual | AJ48: {=_xlfn.IFS(AI48="Monthly",VLOOKUP($O48,PM执行时间!$A:$E,2,0),AI48="Quarterly",VLOOKUP($O48,PM执行时间!$A:$E,3,0),AI48="Semi-an",VLOOKUP($O48,PM执行时间!$A:$E,4,0),AI48="Annual",VLOOKUP($O48,PM执行时间!$A:$E,5,0),AI48="","")} -> 1.82 | AL48: {=_xlfn.IFS(AK48="Monthly",VLOOKUP($O48,PM执行时间!$A:$E,2,0),AK48="Quarterly",VLOOKUP($O48,PM执行时间!$A:$E,3,0),AK48="Semi-an",VLOOKUP($O48,PM执行时间!$A:$E,4,0),AK48="Annual",VLOOKUP($O48,PM执行时间!$A:$E,5,0),AK48="","")} | AN48: {=_xlfn.IFS(AM48="Monthly",VLOOKUP($O48,PM执行时间!$A:$E,2,0),AM48="Quarterly",VLOOKUP($O48,PM执行时间!$A:$E,3,0),AM48="Semi-an",VLOOKUP($O48,PM执行时间!$A:$E,4,0),AM48="Annual",VLOOKUP($O48,PM执行时间!$A:$E,5,0),AM48="","")} | AO48: 44835
A49: 47 | B49: =SUBTOTAL(3,G$3:G49)+0 -> 4 | D49: 375 | E49: 加工中心 | F49: VF-3D | G49: 美国哈斯自动化 | H49: 1069262 | I49: 39753 | J49: A类 | K49: 运行中 | L49: KH一楼北 | M49: 39661 | N49: KH创伤单元 | O49: WI-013-R39 | P49: 季 | R49: {=_xlfn.IFS(Q49="Monthly",VLOOKUP($O49,PM执行时间!$A:$E,2,0),Q49="Quarterly",VLOOKUP($O49,PM执行时间!$A:$E,3,0),Q49="Semi-an",VLOOKUP($O49,PM执行时间!$A:$E,4,0),Q49="Annual",VLOOKUP($O49,PM执行时间!$A:$E,5,0),Q49="","")} | T49: {=_xlfn.IFS(S49="Monthly",VLOOKUP($O49,PM执行时间!$A:$E,2,0),S49="Quarterly",VLOOKUP($O49,PM执行时间!$A:$E,3,0),S49="Semi-an",VLOOKUP($O49,PM执行时间!$A:$E,4,0),S49="Annual",VLOOKUP($O49,PM执行时间!$A:$E,5,0),S49="","")} | U49: Quarterly | V49: {=_xlfn.IFS(U49="Monthly",VLOOKUP($O49,PM执行时间!$A:$E,2,0),U49="Quarterly",VLOOKUP($O49,PM执行时间!$A:$E,3,0),U49="Semi-an",VLOOKUP($O49,PM执行时间!$A:$E,4,0),U49="Annual",VLOOKUP($O49,PM执行时间!$A:$E,5,0),U49="","")} -> 2 | X49: {=_xlfn.IFS(W49="Monthly",VLOOKUP($O49,PM执行时间!$A:$E,2,0),W49="Quarterly",VLOOKUP($O49,PM执行时间!$A:$E,3,0),W49="Semi-an",VLOOKUP($O49,PM执行时间!$A:$E,4,0),W49="Annual",VLOOKUP($O49,PM执行时间!$A:$E,5,0),W49="","")} | Z49: {=_xlfn.IFS(Y49="Monthly",VLOOKUP($O49,PM执行时间!$A:$E,2,0),Y49="Quarterly",VLOOKUP($O49,PM执行时间!$A:$E,3,0),Y49="Semi-an",VLOOKUP($O49,PM执行时间!$A:$E,4,0),Y49="Annual",VLOOKUP($O49,PM执行时间!$A:$E,5,0),Y49="","")} | AA49: Quarterly | AB49: {=_xlfn.IFS(AA49="Monthly",VLOOKUP($O49,PM执行时间!$A:$E,2,0),AA49="Quarterly",VLOOKUP($O49,PM执行时间!$A:$E,3,0),AA49="Semi-an",VLOOKUP($O49,PM执行时间!$A:$E,4,0),AA49="Annual",VLOOKUP($O49,PM执行时间!$A:$E,5,0),AA49="","")} -> 2 | AD49: {=_xlfn.IFS(AC49="Monthly",VLOOKUP($O49,PM执行时间!$A:$E,2,0),AC49="Quarterly",VLOOKUP($O49,PM执行时间!$A:$E,3,0),AC49="Semi-an",VLOOKUP($O49,PM执行时间!$A:$E,4,0),AC49="Annual",VLOOKUP($O49,PM执行时间!$A:$E,5,0),AC49="","")} | AF49: {=_xlfn.IFS(AE49="Monthly",VLOOKUP($O49,PM执行时间!$A:$E,2,0),AE49="Quarterly",VLOOKUP($O49,PM执行时间!$A:$E,3,0),AE49="Semi-an",VLOOKUP($O49,PM执行时间!$A:$E,4,0),AE49="Annual",VLOOKUP($O49,PM执行时间!$A:$E,5,0),AE49="","")} | AG49: Quarterly | AH49: {=_xlfn.IFS(AG49="Monthly",VLOOKUP($O49,PM执行时间!$A:$E,2,0),AG49="Quarterly",VLOOKUP($O49,PM执行时间!$A:$E,3,0),AG49="Semi-an",VLOOKUP($O49,PM执行时间!$A:$E,4,0),AG49="Annual",VLOOKUP($O49,PM执行时间!$A:$E,5,0),AG49="","")} -> 2 | AJ49: {=_xlfn.IFS(AI49="Monthly",VLOOKUP($O49,PM执行时间!$A:$E,2,0),AI49="Quarterly",VLOOKUP($O49,PM执行时间!$A:$E,3,0),AI49="Semi-an",VLOOKUP($O49,PM执行时间!$A:$E,4,0),AI49="Annual",VLOOKUP($O49,PM执行时间!$A:$E,5,0),AI49="","")} | AL49: {=_xlfn.IFS(AK49="Monthly",VLOOKUP($O49,PM执行时间!$A:$E,2,0),AK49="Quarterly",VLOOKUP($O49,PM执行时间!$A:$E,3,0),AK49="Semi-an",VLOOKUP($O49,PM执行时间!$A:$E,4,0),AK49="Annual",VLOOKUP($O49,PM执行时间!$A:$E,5,0),AK49="","")} | AM49: Quarterly | AN49: {=_xlfn.IFS(AM49="Monthly",VLOOKUP($O49,PM执行时间!$A:$E,2,0),AM49="Quarterly",VLOOKUP($O49,PM执行时间!$A:$E,3,0),AM49="Semi-an",VLOOKUP($O49,PM执行时间!$A:$E,4,0),AM49="Annual",VLOOKUP($O49,PM执行时间!$A:$E,5,0),AM49="","")} -> 2 | AO49: 44896
A50: 48 | B50: =SUBTOTAL(3,G$3:G50)+0 -> 4 | D50: 381 | E50: 加工中心 | F50: MiNi Mill | G50: 美国哈斯自动化 | H50: 4001099 | I50: 39873 | J50: A类 | K50: 运行中 | L50: KH一楼中南 | M50: 39692 | N50: KH脊柱单元 | O50: WI-013-R01 | P50: 年 | R50: {=_xlfn.IFS(Q50="Monthly",VLOOKUP($O50,PM执行时间!$A:$E,2,0),Q50="Quarterly",VLOOKUP($O50,PM执行时间!$A:$E,3,0),Q50="Semi-an",VLOOKUP($O50,PM执行时间!$A:$E,4,0),Q50="Annual",VLOOKUP($O50,PM执行时间!$A:$E,5,0),Q50="","")} | T50: {=_xlfn.IFS(S50="Monthly",VLOOKUP($O50,PM执行时间!$A:$E,2,0),S50="Quarterly",VLOOKUP($O50,PM执行时间!$A:$E,3,0),S50="Semi-an",VLOOKUP($O50,PM执行时间!$A:$E,4,0),S50="Annual",VLOOKUP($O50,PM执行时间!$A:$E,5,0),S50="","")} | V50: {=_xlfn.IFS(U50="Monthly",VLOOKUP($O50,PM执行时间!$A:$E,2,0),U50="Quarterly",VLOOKUP($O50,PM执行时间!$A:$E,3,0),U50="Semi-an",VLOOKUP($O50,PM执行时间!$A:$E,4,0),U50="Annual",VLOOKUP($O50,PM执行时间!$A:$E,5,0),U50="","")} | X50: {=_xlfn.IFS(W50="Monthly",VLOOKUP($O50,PM执行时间!$A:$E,2,0),W50="Quarterly",VLOOKUP($O50,PM执行时间!$A:$E,3,0),W50="Semi-an",VLOOKUP($O50,PM执行时间!$A:$E,4,0),W50="Annual",VLOOKUP($O50,PM执行时间!$A:$E,5,0),W50="","")} | Z50: {=_xlfn.IFS(Y50="Monthly",VLOOKUP($O50,PM执行时间!$A:$E,2,0),Y50="Quarterly",VLOOKUP($O50,PM执行时间!$A:$E,3,0),Y50="Semi-an",VLOOKUP($O50,PM执行时间!$A:$E,4,0),Y50="Annual",VLOOKUP($O50,PM执行时间!$A:$E,5,0),Y50="","")} | AB50: {=_xlfn.IFS(AA50="Monthly",VLOOKUP($O50,PM执行时间!$A:$E,2,0),AA50="Quarterly",VLOOKUP($O50,PM执行时间!$A:$E,3,0),AA50="Semi-an",VLOOKUP($O50,PM执行时间!$A:$E,4,0),AA50="Annual",VLOOKUP($O50,PM执行时间!$A:$E,5,0),AA50="","")} | AD50: {=_xlfn.IFS(AC50="Monthly",VLOOKUP($O50,PM执行时间!$A:$E,2,0),AC50="Quarterly",VLOOKUP($O50,PM执行时间!$A:$E,3,0),AC50="Semi-an",VLOOKUP($O50,PM执行时间!$A:$E,4,0),AC50="Annual",VLOOKUP($O50,PM执行时间!$A:$E,5,0),AC50="","")} | AF50: {=_xlfn.IFS(AE50="Monthly",VLOOKUP($O50,PM执行时间!$A:$E,2,0),AE50="Quarterly",VLOOKUP($O50,PM执行时间!$A:$E,3,0),AE50="Semi-an",VLOOKUP($O50,PM执行时间!$A:$E,4,0),AE50="Annual",VLOOKUP($O50,PM执行时间!$A:$E,5,0),AE50="","")} | AG50: Annual | AH50: {=_xlfn.IFS(AG50="Monthly",VLOOKUP($O50,PM执行时间!$A:$E,2,0),AG50="Quarterly",VLOOKUP($O50,PM执行时间!$A:$E,3,0),AG50="Semi-an",VLOOKUP($O50,PM执行时间!$A:$E,4,0),AG50="Annual",VLOOKUP($O50,PM执行时间!$A:$E,5,0),AG50="","")} -> 3 | AJ50: {=_xlfn.IFS(AI50="Monthly",VLOOKUP($O50,PM执行时间!$A:$E,2,0),AI50="Quarterly",VLOOKUP($O50,PM执行时间!$A:$E,3,0),AI50="Semi-an",VLOOKUP($O50,PM执行时间!$A:$E,4,0),AI50="Annual",VLOOKUP($O50,PM执行时间!$A:$E,5,0),AI50="","")} | AL50: {=_xlfn.IFS(AK50="Monthly",VLOOKUP($O50,PM执行时间!$A:$E,2,0),AK50="Quarterly",VLOOKUP($O50,PM执行时间!$A:$E,3,0),AK50="Semi-an",VLOOKUP($O50,PM执行时间!$A:$E,4,0),AK50="Annual",VLOOKUP($O50,PM执行时间!$A:$E,5,0),AK50="","")} | AN50: {=_xlfn.IFS(AM50="Monthly",VLOOKUP($O50,PM执行时间!$A:$E,2,0),AM50="Quarterly",VLOOKUP($O50,PM执行时间!$A:$E,3,0),AM50="Semi-an",VLOOKUP($O50,PM执行时间!$A:$E,4,0),AM50="Annual",VLOOKUP($O50,PM执行时间!$A:$E,5,0),AM50="","")} | AO50: 44805
A51: 120 | B51: =SUBTOTAL(3,G$3:G51)+0 -> 5 | D51: 597 | E51: 清洗机 | F51: KPDW-QC3024-25C/01 | G51: 常州市科沛达 | H51: 12032309 | I51: 41000 | J51: B类 | K51: 运行中 | L51: KH二楼净化车间 | M51: 41000 | N51: KH净化车间 | O51: FM-P0024.02 | P51: 月 | Q51: Monthly | R51: {=_xlfn.IFS(Q51="Monthly",VLOOKUP($O51,PM执行时间!$A:$E,2,0),Q51="Quarterly",VLOOKUP($O51,PM执行时间!$A:$E,3,0),Q51="Semi-an",VLOOKUP($O51,PM执行时间!$A:$E,4,0),Q51="Annual",VLOOKUP($O51,PM执行时间!$A:$E,5,0),Q51="","")} -> 1 | S51: Monthly | T51: {=_xlfn.IFS(S51="Monthly",VLOOKUP($O51,PM执行时间!$A:$E,2,0),S51="Quarterly",VLOOKUP($O51,PM执行时间!$A:$E,3,0),S51="Semi-an",VLOOKUP($O51,PM执行时间!$A:$E,4,0),S51="Annual",VLOOKUP($O51,PM执行时间!$A:$E,5,0),S51="","")} -> 1 | U51: Monthly | V51: {=_xlfn.IFS(U51="Monthly",VLOOKUP($O51,PM执行时间!$A:$E,2,0),U51="Quarterly",VLOOKUP($O51,PM执行时间!$A:$E,3,0),U51="Semi-an",VLOOKUP($O51,PM执行时间!$A:$E,4,0),U51="Annual",VLOOKUP($O51,PM执行时间!$A:$E,5,0),U51="","")} -> 1 | W51: Monthly | X51: {=_xlfn.IFS(W51="Monthly",VLOOKUP($O51,PM执行时间!$A:$E,2,0),W51="Quarterly",VLOOKUP($O51,PM执行时间!$A:$E,3,0),W51="Semi-an",VLOOKUP($O51,PM执行时间!$A:$E,4,0),W51="Annual",VLOOKUP($O51,PM执行时间!$A:$E,5,0),W51="","")} -> 1 | Y51: Monthly | Z51: {=_xlfn.IFS(Y51="Monthly",VLOOKUP($O51,PM执行时间!$A:$E,2,0),Y51="Quarterly",VLOOKUP($O51,PM执行时间!$A:$E,3,0),Y51="Semi-an",VLOOKUP($O51,PM执行时间!$A:$E,4,0),Y51="Annual",VLOOKUP($O51,PM执行时间!$A:$E,5,0),Y51="","")} -> 1 | AA51: Monthly | AB51: {=_xlfn.IFS(AA51="Monthly",VLOOKUP($O51,PM执行时间!$A:$E,2,0),AA51="Quarterly",VLOOKUP($O51,PM执行时间!$A:$E,3,0),AA51="Semi-an",VLOOKUP($O51,PM执行时间!$A:$E,4,0),AA51="Annual",VLOOKUP($O51,PM执行时间!$A:$E,5,0),AA51="","")} -> 1 | AC51: Monthly | AD51: {=_xlfn.IFS(AC51="Monthly",VLOOKUP($O51,PM执行时间!$A:$E,2,0),AC51="Quarterly",VLOOKUP($O51,PM执行时间!$A:$E,3,0),AC51="Semi-an",VLOOKUP($O51,PM执行时间!$A:$E,4,0),AC51="Annual",VLOOKUP($O51,PM执行时间!$A:$E,5,0),AC51="","")} -> 1 | AE51: Monthly | AF51: {=_xlfn.IFS(AE51="Monthly",VLOOKUP($O51,PM执行时间!$A:$E,2,0),AE51="Quarterly",VLOOKUP($O51,PM执行时间!$A:$E,3,0),AE51="Semi-an",VLOOKUP($O51,PM执行时间!$A:$E,4,0),AE51="Annual",VLOOKUP($O51,PM执行时间!$A:$E,5,0),AE51="","")} -> 1 | AG51: Monthly | AH51: {=_xlfn.IFS(AG51="Monthly",VLOOKUP($O51,PM执行时间!$A:$E,2,0),AG51="Quarterly",VLOOKUP($O51,PM执行时间!$A:$E,3,0),AG51="Semi-an",VLOOKUP($O51,PM执行时间!$A:$E,4,0),AG51="Annual",VLOOKUP($O51,PM执行时间!$A:$E,5,0),AG51="","")} -> 1 | AI51: Monthly | AJ51: {=_xlfn.IFS(AI51="Monthly",VLOOKUP($O51,PM执行时间!$A:$E,2,0),AI51="Quarterly",VLOOKUP($O51,PM执行时间!$A:$E,3,0),AI51="Semi-an",VLOOKUP($O51,PM执行时间!$A:$E,4,0),AI51="Annual",VLOOKUP($O51,PM执行时间!$A:$E,5,0),AI51="","")} -> 1 | AK51: Monthly | AL51: {=_xlfn.IFS(AK51="Monthly",VLOOKUP($O51,PM执行时间!$A:$E,2,0),AK51="Quarterly",VLOOKUP($O51,PM执行时间!$A:$E,3,0),AK51="Semi-an",VLOOKUP($O51,PM执行时间!$A:$E,4,0),AK51="Annual",VLOOKUP($O51,PM执行时间!$A:$E,5,0),AK51="","")} -> 1 | AM51: Monthly | AN51: {=_xlfn.IFS(AM51="Monthly",VLOOKUP($O51,PM执行时间!$A:$E,2,0),AM51="Quarterly",VLOOKUP($O51,PM执行时间!$A:$E,3,0),AM51="Semi-an",VLOOKUP($O51,PM执行时间!$A:$E,4,0),AM51="Annual",VLOOKUP($O51,PM执行时间!$A:$E,5,0),AM51="","")} -> 1 | AO51: 44805 | AP51: 3/16-3/20
A52: 50 | B52: =SUBTOTAL(3,G$3:G52)+0 -> 5 | D52: 396 | E52: 五轴磨床 | F52: fast grind | G52: 奥大利亚安卡 | H52: 750013 | I52: 40057 | J52: A类 | K52: 运行中 | L52: KH一楼南 | M52: 2009 | N52: KH创伤单元 | O52: WI-101-R03 | P52: 年 | R52: {=_xlfn.IFS(Q52="Monthly",VLOOKUP($O52,PM执行时间!$A:$E,2,0),Q52="Quarterly",VLOOKUP($O52,PM执行时间!$A:$E,3,0),Q52="Semi-an",VLOOKUP($O52,PM执行时间!$A:$E,4,0),Q52="Annual",VLOOKUP($O52,PM执行时间!$A:$E,5,0),Q52="","")} | T52: {=_xlfn.IFS(S52="Monthly",VLOOKUP($O52,PM执行时间!$A:$E,2,0),S52="Quarterly",VLOOKUP($O52,PM执行时间!$A:$E,3,0),S52="Semi-an",VLOOKUP($O52,PM执行时间!$A:$E,4,0),S52="Annual",VLOOKUP($O52,PM执行时间!$A:$E,5,0),S52="","")} | V52: {=_xlfn.IFS(U52="Monthly",VLOOKUP($O52,PM执行时间!$A:$E,2,0),U52="Quarterly",VLOOKUP($O52,PM执行时间!$A:$E,3,0),U52="Semi-an",VLOOKUP($O52,PM执行时间!$A:$E,4,0),U52="Annual",VLOOKUP($O52,PM执行时间!$A:$E,5,0),U52="","")} | X52: {=_xlfn.IFS(W52="Monthly",VLOOKUP($O52,PM执行时间!$A:$E,2,0),W52="Quarterly",VLOOKUP($O52,PM执行时间!$A:$E,3,0),W52="Semi-an",VLOOKUP($O52,PM执行时间!$A:$E,4,0),W52="Annual",VLOOKUP($O52,PM执行时间!$A:$E,5,0),W52="","")} | Z52: {=_xlfn.IFS(Y52="Monthly",VLOOKUP($O52,PM执行时间!$A:$E,2,0),Y52="Quarterly",VLOOKUP($O52,PM执行时间!$A:$E,3,0),Y52="Semi-an",VLOOKUP($O52,PM执行时间!$A:$E,4,0),Y52="Annual",VLOOKUP($O52,PM执行时间!$A:$E,5,0),Y52="","")} | AB52: {=_xlfn.IFS(AA52="Monthly",VLOOKUP($O52,PM执行时间!$A:$E,2,0),AA52="Quarterly",VLOOKUP($O52,PM执行时间!$A:$E,3,0),AA52="Semi-an",VLOOKUP($O52,PM执行时间!$A:$E,4,0),AA52="Annual",VLOOKUP($O52,PM执行时间!$A:$E,5,0),AA52="","")} | AD52: {=_xlfn.IFS(AC52="Monthly",VLOOKUP($O52,PM执行时间!$A:$E,2,0),AC52="Quarterly",VLOOKUP($O52,PM执行时间!$A:$E,3,0),AC52="Semi-an",VLOOKUP($O52,PM执行时间!$A:$E,4,0),AC52="Annual",VLOOKUP($O52,PM执行时间!$A:$E,5,0),AC52="","")} | AF52: {=_xlfn.IFS(AE52="Monthly",VLOOKUP($O52,PM执行时间!$A:$E,2,0),AE52="Quarterly",VLOOKUP($O52,PM执行时间!$A:$E,3,0),AE52="Semi-an",VLOOKUP($O52,PM执行时间!$A:$E,4,0),AE52="Annual",VLOOKUP($O52,PM执行时间!$A:$E,5,0),AE52="","")} | AH52: {=_xlfn.IFS(AG52="Monthly",VLOOKUP($O52,PM执行时间!$A:$E,2,0),AG52="Quarterly",VLOOKUP($O52,PM执行时间!$A:$E,3,0),AG52="Semi-an",VLOOKUP($O52,PM执行时间!$A:$E,4,0),AG52="Annual",VLOOKUP($O52,PM执行时间!$A:$E,5,0),AG52="","")} | AJ52: {=_xlfn.IFS(AI52="Monthly",VLOOKUP($O52,PM执行时间!$A:$E,2,0),AI52="Quarterly",VLOOKUP($O52,PM执行时间!$A:$E,3,0),AI52="Semi-an",VLOOKUP($O52,PM执行时间!$A:$E,4,0),AI52="Annual",VLOOKUP($O52,PM执行时间!$A:$E,5,0),AI52="","")} | AK52: Annual | AL52: {=_xlfn.IFS(AK52="Monthly",VLOOKUP($O52,PM执行时间!$A:$E,2,0),AK52="Quarterly",VLOOKUP($O52,PM执行时间!$A:$E,3,0),AK52="Semi-an",VLOOKUP($O52,PM执行时间!$A:$E,4,0),AK52="Annual",VLOOKUP($O52,PM执行时间!$A:$E,5,0),AK52="","")} -> 2 | AN52: {=_xlfn.IFS(AM52="Monthly",VLOOKUP($O52,PM执行时间!$A:$E,2,0),AM52="Quarterly",VLOOKUP($O52,PM执行时间!$A:$E,3,0),AM52="Semi-an",VLOOKUP($O52,PM执行时间!$A:$E,4,0),AM52="Annual",VLOOKUP($O52,PM执行时间!$A:$E,5,0),AM52="","")} | AO52: 44866
A53: 121 | B53: =SUBTOTAL(3,G$3:G53)+0 -> 6 | D53: 599 | E53: 清洗线 | F53: xin-5072T | G53: 常州市新鑫环保 | H53: xin-12-009 | I53: 41091 | J53: B类 | K53: 运行中 | L53: KH一楼正西 | M53: N/A | N53: KH脊柱单元 | O53: FM-P0024.02 | P53: 月 | Q53: Monthly | R53: {=_xlfn.IFS(Q53="Monthly",VLOOKUP($O53,PM执行时间!$A:$E,2,0),Q53="Quarterly",VLOOKUP($O53,PM执行时间!$A:$E,3,0),Q53="Semi-an",VLOOKUP($O53,PM执行时间!$A:$E,4,0),Q53="Annual",VLOOKUP($O53,PM执行时间!$A:$E,5,0),Q53="","")} -> 1 | S53: Monthly | T53: {=_xlfn.IFS(S53="Monthly",VLOOKUP($O53,PM执行时间!$A:$E,2,0),S53="Quarterly",VLOOKUP($O53,PM执行时间!$A:$E,3,0),S53="Semi-an",VLOOKUP($O53,PM执行时间!$A:$E,4,0),S53="Annual",VLOOKUP($O53,PM执行时间!$A:$E,5,0),S53="","")} -> 1 | U53: Monthly | V53: {=_xlfn.IFS(U53="Monthly",VLOOKUP($O53,PM执行时间!$A:$E,2,0),U53="Quarterly",VLOOKUP($O53,PM执行时间!$A:$E,3,0),U53="Semi-an",VLOOKUP($O53,PM执行时间!$A:$E,4,0),U53="Annual",VLOOKUP($O53,PM执行时间!$A:$E,5,0),U53="","")} -> 1 | W53: Monthly | X53: {=_xlfn.IFS(W53="Monthly",VLOOKUP($O53,PM执行时间!$A:$E,2,0),W53="Quarterly",VLOOKUP($O53,PM执行时间!$A:$E,3,0),W53="Semi-an",VLOOKUP($O53,PM执行时间!$A:$E,4,0),W53="Annual",VLOOKUP($O53,PM执行时间!$A:$E,5,0),W53="","")} -> 1 | Y53: Monthly | Z53: {=_xlfn.IFS(Y53="Monthly",VLOOKUP($O53,PM执行时间!$A:$E,2,0),Y53="Quarterly",VLOOKUP($O53,PM执行时间!$A:$E,3,0),Y53="Semi-an",VLOOKUP($O53,PM执行时间!$A:$E,4,0),Y53="Annual",VLOOKUP($O53,PM执行时间!$A:$E,5,0),Y53="","")} -> 1 | AA53: Monthly | AB53: {=_xlfn.IFS(AA53="Monthly",VLOOKUP($O53,PM执行时间!$A:$E,2,0),AA53="Quarterly",VLOOKUP($O53,PM执行时间!$A:$E,3,0),AA53="Semi-an",VLOOKUP($O53,PM执行时间!$A:$E,4,0),AA53="Annual",VLOOKUP($O53,PM执行时间!$A:$E,5,0),AA53="","")} -> 1 | AC53: Monthly | AD53: {=_xlfn.IFS(AC53="Monthly",VLOOKUP($O53,PM执行时间!$A:$E,2,0),AC53="Quarterly",VLOOKUP($O53,PM执行时间!$A:$E,3,0),AC53="Semi-an",VLOOKUP($O53,PM执行时间!$A:$E,4,0),AC53="Annual",VLOOKUP($O53,PM执行时间!$A:$E,5,0),AC53="","")} -> 1 | AE53: Monthly | AF53: {=_xlfn.IFS(AE53="Monthly",VLOOKUP($O53,PM执行时间!$A:$E,2,0),AE53="Quarterly",VLOOKUP($O53,PM执行时间!$A:$E,3,0),AE53="Semi-an",VLOOKUP($O53,PM执行时间!$A:$E,4,0),AE53="Annual",VLOOKUP($O53,PM执行时间!$A:$E,5,0),AE53="","")} -> 1 | AG53: Monthly | AH53: {=_xlfn.IFS(AG53="Monthly",VLOOKUP($O53,PM执行时间!$A:$E,2,0),AG53="Quarterly",VLOOKUP($O53,PM执行时间!$A:$E,3,0),AG53="Semi-an",VLOOKUP($O53,PM执行时间!$A:$E,4,0),AG53="Annual",VLOOKUP($O53,PM执行时间!$A:$E,5,0),AG53="","")} -> 1 | AI53: Monthly | AJ53: {=_xlfn.IFS(AI53="Monthly",VLOOKUP($O53,PM执行时间!$A:$E,2,0),AI53="Quarterly",VLOOKUP($O53,PM执行时间!$A:$E,3,0),AI53="Semi-an",VLOOKUP($O53,PM执行时间!$A:$E,4,0),AI53="Annual",VLOOKUP($O53,PM执行时间!$A:$E,5,0),AI53="","")} -> 1 | AK53: Monthly | AL53: {=_xlfn.IFS(AK53="Monthly",VLOOKUP($O53,PM执行时间!$A:$E,2,0),AK53="Quarterly",VLOOKUP($O53,PM执行时间!$A:$E,3,0),AK53="Semi-an",VLOOKUP($O53,PM执行时间!$A:$E,4,0),AK53="Annual",VLOOKUP($O53,PM执行时间!$A:$E,5,0),AK53="","")} -> 1 | AM53: Monthly | AN53: {=_xlfn.IFS(AM53="Monthly",VLOOKUP($O53,PM执行时间!$A:$E,2,0),AM53="Quarterly",VLOOKUP($O53,PM执行时间!$A:$E,3,0),AM53="Semi-an",VLOOKUP($O53,PM执行时间!$A:$E,4,0),AM53="Annual",VLOOKUP($O53,PM执行时间!$A:$E,5,0),AM53="","")} -> 1 | AO53: 44805 | AP53: 3/16-3/20
A54: 122 | B54: =SUBTOTAL(3,G$3:G54)+0 -> 7 | D54: 600 | E54: 清洗线 | F54: xin-5072T | G54: 常州市新鑫环保 | H54: xin-12-010 | I54: 41395 | J54: B类 | K54: 运行中 | L54: KH一楼北 | M54: N/A | N54: KH创伤单元 | O54: FM-P0024.02 | P54: 月 | Q54: Monthly | R54: {=_xlfn.IFS(Q54="Monthly",VLOOKUP($O54,PM执行时间!$A:$E,2,0),Q54="Quarterly",VLOOKUP($O54,PM执行时间!$A:$E,3,0),Q54="Semi-an",VLOOKUP($O54,PM执行时间!$A:$E,4,0),Q54="Annual",VLOOKUP($O54,PM执行时间!$A:$E,5,0),Q54="","")} -> 1 | S54: Monthly | T54: {=_xlfn.IFS(S54="Monthly",VLOOKUP($O54,PM执行时间!$A:$E,2,0),S54="Quarterly",VLOOKUP($O54,PM执行时间!$A:$E,3,0),S54="Semi-an",VLOOKUP($O54,PM执行时间!$A:$E,4,0),S54="Annual",VLOOKUP($O54,PM执行时间!$A:$E,5,0),S54="","")} -> 1 | U54: Monthly | V54: {=_xlfn.IFS(U54="Monthly",VLOOKUP($O54,PM执行时间!$A:$E,2,0),U54="Quarterly",VLOOKUP($O54,PM执行时间!$A:$E,3,0),U54="Semi-an",VLOOKUP($O54,PM执行时间!$A:$E,4,0),U54="Annual",VLOOKUP($O54,PM执行时间!$A:$E,5,0),U54="","")} -> 1 | W54: Monthly | X54: {=_xlfn.IFS(W54="Monthly",VLOOKUP($O54,PM执行时间!$A:$E,2,0),W54="Quarterly",VLOOKUP($O54,PM执行时间!$A:$E,3,0),W54="Semi-an",VLOOKUP($O54,PM执行时间!$A:$E,4,0),W54="Annual",VLOOKUP($O54,PM执行时间!$A:$E,5,0),W54="","")} -> 1 | Y54: Monthly | Z54: {=_xlfn.IFS(Y54="Monthly",VLOOKUP($O54,PM执行时间!$A:$E,2,0),Y54="Quarterly",VLOOKUP($O54,PM执行时间!$A:$E,3,0),Y54="Semi-an",VLOOKUP($O54,PM执行时间!$A:$E,4,0),Y54="Annual",VLOOKUP($O54,PM执行时间!$A:$E,5,0),Y54="","")} -> 1 | AA54: Monthly | AB54: {=_xlfn.IFS(AA54="Monthly",VLOOKUP($O54,PM执行时间!$A:$E,2,0),AA54="Quarterly",VLOOKUP($O54,PM执行时间!$A:$E,3,0),AA54="Semi-an",VLOOKUP($O54,PM执行时间!$A:$E,4,0),AA54="Annual",VLOOKUP($O54,PM执行时间!$A:$E,5,0),AA54="","")} -> 1 | AC54: Monthly | AD54: {=_xlfn.IFS(AC54="Monthly",VLOOKUP($O54,PM执行时间!$A:$E,2,0),AC54="Quarterly",VLOOKUP($O54,PM执行时间!$A:$E,3,0),AC54="Semi-an",VLOOKUP($O54,PM执行时间!$A:$E,4,0),AC54="Annual",VLOOKUP($O54,PM执行时间!$A:$E,5,0),AC54="","")} -> 1 | AE54: Monthly | AF54: {=_xlfn.IFS(AE54="Monthly",VLOOKUP($O54,PM执行时间!$A:$E,2,0),AE54="Quarterly",VLOOKUP($O54,PM执行时间!$A:$E,3,0),AE54="Semi-an",VLOOKUP($O54,PM执行时间!$A:$E,4,0),AE54="Annual",VLOOKUP($O54,PM执行时间!$A:$E,5,0),AE54="","")} -> 1 | AG54: Monthly | AH54: {=_xlfn.IFS(AG54="Monthly",VLOOKUP($O54,PM执行时间!$A:$E,2,0),AG54="Quarterly",VLOOKUP($O54,PM执行时间!$A:$E,3,0),AG54="Semi-an",VLOOKUP($O54,PM执行时间!$A:$E,4,0),AG54="Annual",VLOOKUP($O54,PM执行时间!$A:$E,5,0),AG54="","")} -> 1 | AI54: Monthly | AJ54: {=_xlfn.IFS(AI54="Monthly",VLOOKUP($O54,PM执行时间!$A:$E,2,0),AI54="Quarterly",VLOOKUP($O54,PM执行时间!$A:$E,3,0),AI54="Semi-an",VLOOKUP($O54,PM执行时间!$A:$E,4,0),AI54="Annual",VLOOKUP($O54,PM执行时间!$A:$E,5,0),AI54="","")} -> 1 | AK54: Monthly | AL54: {=_xlfn.IFS(AK54="Monthly",VLOOKUP($O54,PM执行时间!$A:$E,2,0),AK54="Quarterly",VLOOKUP($O54,PM执行时间!$A:$E,3,0),AK54="Semi-an",VLOOKUP($O54,PM执行时间!$A:$E,4,0),AK54="Annual",VLOOKUP($O54,PM执行时间!$A:$E,5,0),AK54="","")} -> 1 | AM54: Monthly | AN54: {=_xlfn.IFS(AM54="Monthly",VLOOKUP($O54,PM执行时间!$A:$E,2,0),AM54="Quarterly",VLOOKUP($O54,PM执行时间!$A:$E,3,0),AM54="Semi-an",VLOOKUP($O54,PM执行时间!$A:$E,4,0),AM54="Annual",VLOOKUP($O54,PM执行时间!$A:$E,5,0),AM54="","")} -> 1 | AO54: 44805 | AP54: 3/16-3/20
A55: 148 | B55: =SUBTOTAL(3,G$3:G55)+0 -> 8 | D55: 659 | E55: 清洗线 | F55: Xin-WJ04S | G55: 常州市新鑫环保 | H55: XIN-20130522003 | I55: 41426 | J55: B类 | K55: 运行中 | L55: KH二楼器械单元 | M55: 41426 | N55: KH器械单元 | O55: FM-P0024.02 | P55: 月 | Q55: Monthly | R55: {=_xlfn.IFS(Q55="Monthly",VLOOKUP($O55,PM执行时间!$A:$E,2,0),Q55="Quarterly",VLOOKUP($O55,PM执行时间!$A:$E,3,0),Q55="Semi-an",VLOOKUP($O55,PM执行时间!$A:$E,4,0),Q55="Annual",VLOOKUP($O55,PM执行时间!$A:$E,5,0),Q55="","")} -> 1 | S55: Monthly | T55: {=_xlfn.IFS(S55="Monthly",VLOOKUP($O55,PM执行时间!$A:$E,2,0),S55="Quarterly",VLOOKUP($O55,PM执行时间!$A:$E,3,0),S55="Semi-an",VLOOKUP($O55,PM执行时间!$A:$E,4,0),S55="Annual",VLOOKUP($O55,PM执行时间!$A:$E,5,0),S55="","")} -> 1 | U55: Monthly | V55: {=_xlfn.IFS(U55="Monthly",VLOOKUP($O55,PM执行时间!$A:$E,2,0),U55="Quarterly",VLOOKUP($O55,PM执行时间!$A:$E,3,0),U55="Semi-an",VLOOKUP($O55,PM执行时间!$A:$E,4,0),U55="Annual",VLOOKUP($O55,PM执行时间!$A:$E,5,0),U55="","")} -> 1 | W55: Monthly | X55: {=_xlfn.IFS(W55="Monthly",VLOOKUP($O55,PM执行时间!$A:$E,2,0),W55="Quarterly",VLOOKUP($O55,PM执行时间!$A:$E,3,0),W55="Semi-an",VLOOKUP($O55,PM执行时间!$A:$E,4,0),W55="Annual",VLOOKUP($O55,PM执行时间!$A:$E,5,0),W55="","")} -> 1 | Y55: Monthly | Z55: {=_xlfn.IFS(Y55="Monthly",VLOOKUP($O55,PM执行时间!$A:$E,2,0),Y55="Quarterly",VLOOKUP($O55,PM执行时间!$A:$E,3,0),Y55="Semi-an",VLOOKUP($O55,PM执行时间!$A:$E,4,0),Y55="Annual",VLOOKUP($O55,PM执行时间!$A:$E,5,0),Y55="","")} -> 1 | AA55: Monthly | AB55: {=_xlfn.IFS(AA55="Monthly",VLOOKUP($O55,PM执行时间!$A:$E,2,0),AA55="Quarterly",VLOOKUP($O55,PM执行时间!$A:$E,3,0),AA55="Semi-an",VLOOKUP($O55,PM执行时间!$A:$E,4,0),AA55="Annual",VLOOKUP($O55,PM执行时间!$A:$E,5,0),AA55="","")} -> 1 | AC55: Monthly | AD55: {=_xlfn.IFS(AC55="Monthly",VLOOKUP($O55,PM执行时间!$A:$E,2,0),AC55="Quarterly",VLOOKUP($O55,PM执行时间!$A:$E,3,0),AC55="Semi-an",VLOOKUP($O55,PM执行时间!$A:$E,4,0),AC55="Annual",VLOOKUP($O55,PM执行时间!$A:$E,5,0),AC55="","")} -> 1 | AE55: Monthly | AF55: {=_xlfn.IFS(AE55="Monthly",VLOOKUP($O55,PM执行时间!$A:$E,2,0),AE55="Quarterly",VLOOKUP($O55,PM执行时间!$A:$E,3,0),AE55="Semi-an",VLOOKUP($O55,PM执行时间!$A:$E,4,0),AE55="Annual",VLOOKUP($O55,PM执行时间!$A:$E,5,0),AE55="","")} -> 1 | AG55: Monthly | AH55: {=_xlfn.IFS(AG55="Monthly",VLOOKUP($O55,PM执行时间!$A:$E,2,0),AG55="Quarterly",VLOOKUP($O55,PM执行时间!$A:$E,3,0),AG55="Semi-an",VLOOKUP($O55,PM执行时间!$A:$E,4,0),AG55="Annual",VLOOKUP($O55,PM执行时间!$A:$E,5,0),AG55="","")} -> 1 | AI55: Monthly | AJ55: {=_xlfn.IFS(AI55="Monthly",VLOOKUP($O55,PM执行时间!$A:$E,2,0),AI55="Quarterly",VLOOKUP($O55,PM执行时间!$A:$E,3,0),AI55="Semi-an",VLOOKUP($O55,PM执行时间!$A:$E,4,0),AI55="Annual",VLOOKUP($O55,PM执行时间!$A:$E,5,0),AI55="","")} -> 1 | AK55: Monthly | AL55: {=_xlfn.IFS(AK55="Monthly",VLOOKUP($O55,PM执行时间!$A:$E,2,0),AK55="Quarterly",VLOOKUP($O55,PM执行时间!$A:$E,3,0),AK55="Semi-an",VLOOKUP($O55,PM执行时间!$A:$E,4,0),AK55="Annual",VLOOKUP($O55,PM执行时间!$A:$E,5,0),AK55="","")} -> 1 | AM55: Monthly | AN55: {=_xlfn.IFS(AM55="Monthly",VLOOKUP($O55,PM执行时间!$A:$E,2,0),AM55="Quarterly",VLOOKUP($O55,PM执行时间!$A:$E,3,0),AM55="Semi-an",VLOOKUP($O55,PM执行时间!$A:$E,4,0),AM55="Annual",VLOOKUP($O55,PM执行时间!$A:$E,5,0),AM55="","")} -> 1 | AO55: 44805 | AP55: 3/16-3/20
A56: 54 | B56: =SUBTOTAL(3,G$3:G56)+0 -> 8 | D56: 415 | E56: 加工中心 | F56: GX1000plus | G56: 哈挺上海 | H56: NVCB0DC309 | I56: 40299 | J56: A类 | K56: 运行中 | L56: KH一楼东南 | M56: N/A | N56: KH器械单元 | O56: WI-013-R40 | P56: 季度/年 | Q56: Quarterly | R56: {=_xlfn.IFS(Q56="Monthly",VLOOKUP($O56,PM执行时间!$A:$E,2,0),Q56="Quarterly",VLOOKUP($O56,PM执行时间!$A:$E,3,0),Q56="Semi-an",VLOOKUP($O56,PM执行时间!$A:$E,4,0),Q56="Annual",VLOOKUP($O56,PM执行时间!$A:$E,5,0),Q56="","")} -> 0.15 | T56: {=_xlfn.IFS(S56="Monthly",VLOOKUP($O56,PM执行时间!$A:$E,2,0),S56="Quarterly",VLOOKUP($O56,PM执行时间!$A:$E,3,0),S56="Semi-an",VLOOKUP($O56,PM执行时间!$A:$E,4,0),S56="Annual",VLOOKUP($O56,PM执行时间!$A:$E,5,0),S56="","")} | V56: {=_xlfn.IFS(U56="Monthly",VLOOKUP($O56,PM执行时间!$A:$E,2,0),U56="Quarterly",VLOOKUP($O56,PM执行时间!$A:$E,3,0),U56="Semi-an",VLOOKUP($O56,PM执行时间!$A:$E,4,0),U56="Annual",VLOOKUP($O56,PM执行时间!$A:$E,5,0),U56="","")} | W56: Quarterly | X56: {=_xlfn.IFS(W56="Monthly",VLOOKUP($O56,PM执行时间!$A:$E,2,0),W56="Quarterly",VLOOKUP($O56,PM执行时间!$A:$E,3,0),W56="Semi-an",VLOOKUP($O56,PM执行时间!$A:$E,4,0),W56="Annual",VLOOKUP($O56,PM执行时间!$A:$E,5,0),W56="","")} -> 0.15 | Z56: {=_xlfn.IFS(Y56="Monthly",VLOOKUP($O56,PM执行时间!$A:$E,2,0),Y56="Quarterly",VLOOKUP($O56,PM执行时间!$A:$E,3,0),Y56="Semi-an",VLOOKUP($O56,PM执行时间!$A:$E,4,0),Y56="Annual",VLOOKUP($O56,PM执行时间!$A:$E,5,0),Y56="","")} | AB56: {=_xlfn.IFS(AA56="Monthly",VLOOKUP($O56,PM执行时间!$A:$E,2,0),AA56="Quarterly",VLOOKUP($O56,PM执行时间!$A:$E,3,0),AA56="Semi-an",VLOOKUP($O56,PM执行时间!$A:$E,4,0),AA56="Annual",VLOOKUP($O56,PM执行时间!$A:$E,5,0),AA56="","")} | AC56: Quarterly | AD56: {=_xlfn.IFS(AC56="Monthly",VLOOKUP($O56,PM执行时间!$A:$E,2,0),AC56="Quarterly",VLOOKUP($O56,PM执行时间!$A:$E,3,0),AC56="Semi-an",VLOOKUP($O56,PM执行时间!$A:$E,4,0),AC56="Annual",VLOOKUP($O56,PM执行时间!$A:$E,5,0),AC56="","")} -> 0.15 | AF56: {=_xlfn.IFS(AE56="Monthly",VLOOKUP($O56,PM执行时间!$A:$E,2,0),AE56="Quarterly",VLOOKUP($O56,PM执行时间!$A:$E,3,0),AE56="Semi-an",VLOOKUP($O56,PM执行时间!$A:$E,4,0),AE56="Annual",VLOOKUP($O56,PM执行时间!$A:$E,5,0),AE56="","")} | AH56: {=_xlfn.IFS(AG56="Monthly",VLOOKUP($O56,PM执行时间!$A:$E,2,0),AG56="Quarterly",VLOOKUP($O56,PM执行时间!$A:$E,3,0),AG56="Semi-an",VLOOKUP($O56,PM执行时间!$A:$E,4,0),AG56="Annual",VLOOKUP($O56,PM执行时间!$A:$E,5,0),AG56="","")} | AI56: Annual | AJ56: {=_xlfn.IFS(AI56="Monthly",VLOOKUP($O56,PM执行时间!$A:$E,2,0),AI56="Quarterly",VLOOKUP($O56,PM执行时间!$A:$E,3,0),AI56="Semi-an",VLOOKUP($O56,PM执行时间!$A:$E,4,0),AI56="Annual",VLOOKUP($O56,PM执行时间!$A:$E,5,0),AI56="","")} -> 1.82 | AL56: {=_xlfn.IFS(AK56="Monthly",VLOOKUP($O56,PM执行时间!$A:$E,2,0),AK56="Quarterly",VLOOKUP($O56,PM执行时间!$A:$E,3,0),AK56="Semi-an",VLOOKUP($O56,PM执行时间!$A:$E,4,0),AK56="Annual",VLOOKUP($O56,PM执行时间!$A:$E,5,0),AK56="","")} | AN56: {=_xlfn.IFS(AM56="Monthly",VLOOKUP($O56,PM执行时间!$A:$E,2,0),AM56="Quarterly",VLOOKUP($O56,PM执行时间!$A:$E,3,0),AM56="Semi-an",VLOOKUP($O56,PM执行时间!$A:$E,4,0),AM56="Annual",VLOOKUP($O56,PM执行时间!$A:$E,5,0),AM56="","")} | AO56: 44835
A57: 55 | B57: =SUBTOTAL(3,G$3:G57)+0 -> 8 | D57: 417 | E57: 加工中心 | F57: GX1000plus | G57: 哈挺上海 | H57: NVCB0EC331 | I57: 40330 | J57: A类 | K57: 运行中 | L57: KH一楼东南 | M57: N/A | N57: KH器械单元 | O57: WI-013-R40 | P57: 季度/年 | Q57: Quarterly | R57: {=_xlfn.IFS(Q57="Monthly",VLOOKUP($O57,PM执行时间!$A:$E,2,0),Q57="Quarterly",VLOOKUP($O57,PM执行时间!$A:$E,3,0),Q57="Semi-an",VLOOKUP($O57,PM执行时间!$A:$E,4,0),Q57="Annual",VLOOKUP($O57,PM执行时间!$A:$E,5,0),Q57="","")} -> 0.15 | T57: {=_xlfn.IFS(S57="Monthly",VLOOKUP($O57,PM执行时间!$A:$E,2,0),S57="Quarterly",VLOOKUP($O57,PM执行时间!$A:$E,3,0),S57="Semi-an",VLOOKUP($O57,PM执行时间!$A:$E,4,0),S57="Annual",VLOOKUP($O57,PM执行时间!$A:$E,5,0),S57="","")} | V57: {=_xlfn.IFS(U57="Monthly",VLOOKUP($O57,PM执行时间!$A:$E,2,0),U57="Quarterly",VLOOKUP($O57,PM执行时间!$A:$E,3,0),U57="Semi-an",VLOOKUP($O57,PM执行时间!$A:$E,4,0),U57="Annual",VLOOKUP($O57,PM执行时间!$A:$E,5,0),U57="","")} | W57: Quarterly | X57: {=_xlfn.IFS(W57="Monthly",VLOOKUP($O57,PM执行时间!$A:$E,2,0),W57="Quarterly",VLOOKUP($O57,PM执行时间!$A:$E,3,0),W57="Semi-an",VLOOKUP($O57,PM执行时间!$A:$E,4,0),W57="Annual",VLOOKUP($O57,PM执行时间!$A:$E,5,0),W57="","")} -> 0.15 | Z57: {=_xlfn.IFS(Y57="Monthly",VLOOKUP($O57,PM执行时间!$A:$E,2,0),Y57="Quarterly",VLOOKUP($O57,PM执行时间!$A:$E,3,0),Y57="Semi-an",VLOOKUP($O57,PM执行时间!$A:$E,4,0),Y57="Annual",VLOOKUP($O57,PM执行时间!$A:$E,5,0),Y57="","")} | AB57: {=_xlfn.IFS(AA57="Monthly",VLOOKUP($O57,PM执行时间!$A:$E,2,0),AA57="Quarterly",VLOOKUP($O57,PM执行时间!$A:$E,3,0),AA57="Semi-an",VLOOKUP($O57,PM执行时间!$A:$E,4,0),AA57="Annual",VLOOKUP($O57,PM执行时间!$A:$E,5,0),AA57="","")} | AC57: Quarterly | AD57: {=_xlfn.IFS(AC57="Monthly",VLOOKUP($O57,PM执行时间!$A:$E,2,0),AC57="Quarterly",VLOOKUP($O57,PM执行时间!$A:$E,3,0),AC57="Semi-an",VLOOKUP($O57,PM执行时间!$A:$E,4,0),AC57="Annual",VLOOKUP($O57,PM执行时间!$A:$E,5,0),AC57="","")} -> 0.15 | AF57: {=_xlfn.IFS(AE57="Monthly",VLOOKUP($O57,PM执行时间!$A:$E,2,0),AE57="Quarterly",VLOOKUP($O57,PM执行时间!$A:$E,3,0),AE57="Semi-an",VLOOKUP($O57,PM执行时间!$A:$E,4,0),AE57="Annual",VLOOKUP($O57,PM执行时间!$A:$E,5,0),AE57="","")} | AH57: {=_xlfn.IFS(AG57="Monthly",VLOOKUP($O57,PM执行时间!$A:$E,2,0),AG57="Quarterly",VLOOKUP($O57,PM执行时间!$A:$E,3,0),AG57="Semi-an",VLOOKUP($O57,PM执行时间!$A:$E,4,0),AG57="Annual",VLOOKUP($O57,PM执行时间!$A:$E,5,0),AG57="","")} | AI57: Annual | AJ57: {=_xlfn.IFS(AI57="Monthly",VLOOKUP($O57,PM执行时间!$A:$E,2,0),AI57="Quarterly",VLOOKUP($O57,PM执行时间!$A:$E,3,0),AI57="Semi-an",VLOOKUP($O57,PM执行时间!$A:$E,4,0),AI57="Annual",VLOOKUP($O57,PM执行时间!$A:$E,5,0),AI57="","")} -> 1.82 | AL57: {=_xlfn.IFS(AK57="Monthly",VLOOKUP($O57,PM执行时间!$A:$E,2,0),AK57="Quarterly",VLOOKUP($O57,PM执行时间!$A:$E,3,0),AK57="Semi-an",VLOOKUP($O57,PM执行时间!$A:$E,4,0),AK57="Annual",VLOOKUP($O57,PM执行时间!$A:$E,5,0),AK57="","")} | AN57: {=_xlfn.IFS(AM57="Monthly",VLOOKUP($O57,PM执行时间!$A:$E,2,0),AM57="Quarterly",VLOOKUP($O57,PM执行时间!$A:$E,3,0),AM57="Semi-an",VLOOKUP($O57,PM执行时间!$A:$E,4,0),AM57="Annual",VLOOKUP($O57,PM执行时间!$A:$E,5,0),AM57="","")} | AO57: 44835
A58: 150 | B58: =SUBTOTAL(3,G$3:G58)+0 -> 9 | D58: 661 | E58: 清洗线 | F58: xin-paste05D-01 | G58: 常州市新鑫环保 | H58: XIN-20130522001 | I58: 41426 | J58: B类 | K58: 运行中 | L58: 荧光探伤车间二楼 | M58: N/A | N58: KH创伤单元 | O58: FM-P0024.02 | P58: 月 | Q58: Monthly | R58: {=_xlfn.IFS(Q58="Monthly",VLOOKUP($O58,PM执行时间!$A:$E,2,0),Q58="Quarterly",VLOOKUP($O58,PM执行时间!$A:$E,3,0),Q58="Semi-an",VLOOKUP($O58,PM执行时间!$A:$E,4,0),Q58="Annual",VLOOKUP($O58,PM执行时间!$A:$E,5,0),Q58="","")} -> 1 | S58: Monthly | T58: {=_xlfn.IFS(S58="Monthly",VLOOKUP($O58,PM执行时间!$A:$E,2,0),S58="Quarterly",VLOOKUP($O58,PM执行时间!$A:$E,3,0),S58="Semi-an",VLOOKUP($O58,PM执行时间!$A:$E,4,0),S58="Annual",VLOOKUP($O58,PM执行时间!$A:$E,5,0),S58="","")} -> 1 | U58: Monthly | V58: {=_xlfn.IFS(U58="Monthly",VLOOKUP($O58,PM执行时间!$A:$E,2,0),U58="Quarterly",VLOOKUP($O58,PM执行时间!$A:$E,3,0),U58="Semi-an",VLOOKUP($O58,PM执行时间!$A:$E,4,0),U58="Annual",VLOOKUP($O58,PM执行时间!$A:$E,5,0),U58="","")} -> 1 | W58: Monthly | X58: {=_xlfn.IFS(W58="Monthly",VLOOKUP($O58,PM执行时间!$A:$E,2,0),W58="Quarterly",VLOOKUP($O58,PM执行时间!$A:$E,3,0),W58="Semi-an",VLOOKUP($O58,PM执行时间!$A:$E,4,0),W58="Annual",VLOOKUP($O58,PM执行时间!$A:$E,5,0),W58="","")} -> 1 | Y58: Monthly | Z58: {=_xlfn.IFS(Y58="Monthly",VLOOKUP($O58,PM执行时间!$A:$E,2,0),Y58="Quarterly",VLOOKUP($O58,PM执行时间!$A:$E,3,0),Y58="Semi-an",VLOOKUP($O58,PM执行时间!$A:$E,4,0),Y58="Annual",VLOOKUP($O58,PM执行时间!$A:$E,5,0),Y58="","")} -> 1 | AA58: Monthly | AB58: {=_xlfn.IFS(AA58="Monthly",VLOOKUP($O58,PM执行时间!$A:$E,2,0),AA58="Quarterly",VLOOKUP($O58,PM执行时间!$A:$E,3,0),AA58="Semi-an",VLOOKUP($O58,PM执行时间!$A:$E,4,0),AA58="Annual",VLOOKUP($O58,PM执行时间!$A:$E,5,0),AA58="","")} -> 1 | AC58: Monthly | AD58: {=_xlfn.IFS(AC58="Monthly",VLOOKUP($O58,PM执行时间!$A:$E,2,0),AC58="Quarterly",VLOOKUP($O58,PM执行时间!$A:$E,3,0),AC58="Semi-an",VLOOKUP($O58,PM执行时间!$A:$E,4,0),AC58="Annual",VLOOKUP($O58,PM执行时间!$A:$E,5,0),AC58="","")} -> 1 | AE58: Monthly | AF58: {=_xlfn.IFS(AE58="Monthly",VLOOKUP($O58,PM执行时间!$A:$E,2,0),AE58="Quarterly",VLOOKUP($O58,PM执行时间!$A:$E,3,0),AE58="Semi-an",VLOOKUP($O58,PM执行时间!$A:$E,4,0),AE58="Annual",VLOOKUP($O58,PM执行时间!$A:$E,5,0),AE58="","")} -> 1 | AG58: Monthly | AH58: {=_xlfn.IFS(AG58="Monthly",VLOOKUP($O58,PM执行时间!$A:$E,2,0),AG58="Quarterly",VLOOKUP($O58,PM执行时间!$A:$E,3,0),AG58="Semi-an",VLOOKUP($O58,PM执行时间!$A:$E,4,0),AG58="Annual",VLOOKUP($O58,PM执行时间!$A:$E,5,0),AG58="","")} -> 1 | AI58: Monthly | AJ58: {=_xlfn.IFS(AI58="Monthly",VLOOKUP($O58,PM执行时间!$A:$E,2,0),AI58="Quarterly",VLOOKUP($O58,PM执行时间!$A:$E,3,0),AI58="Semi-an",VLOOKUP($O58,PM执行时间!$A:$E,4,0),AI58="Annual",VLOOKUP($O58,PM执行时间!$A:$E,5,0),AI58="","")} -> 1 | AK58: Monthly | AL58: {=_xlfn.IFS(AK58="Monthly",VLOOKUP($O58,PM执行时间!$A:$E,2,0),AK58="Quarterly",VLOOKUP($O58,PM执行时间!$A:$E,3,0),AK58="Semi-an",VLOOKUP($O58,PM执行时间!$A:$E,4,0),AK58="Annual",VLOOKUP($O58,PM执行时间!$A:$E,5,0),AK58="","")} -> 1 | AM58: Monthly | AN58: {=_xlfn.IFS(AM58="Monthly",VLOOKUP($O58,PM执行时间!$A:$E,2,0),AM58="Quarterly",VLOOKUP($O58,PM执行时间!$A:$E,3,0),AM58="Semi-an",VLOOKUP($O58,PM执行时间!$A:$E,4,0),AM58="Annual",VLOOKUP($O58,PM执行时间!$A:$E,5,0),AM58="","")} -> 1 | AO58: 44805 | AP58: 3/16-3/20
A59: 57 | B59: =SUBTOTAL(3,G$3:G59)+0 -> 9 | D59: 428 | E59: 激光焊接机 | F59: WF300 | G59: 大族激光 | H59: HYF321006107 | I59: 40402 | J59: B类 | K59: 运行中 | L59: KH二楼器械 | M59: 40360 | N59: KH器械单元 | O59: WI-106-R02 | P59: 年 | R59: {=_xlfn.IFS(Q59="Monthly",VLOOKUP($O59,PM执行时间!$A:$E,2,0),Q59="Quarterly",VLOOKUP($O59,PM执行时间!$A:$E,3,0),Q59="Semi-an",VLOOKUP($O59,PM执行时间!$A:$E,4,0),Q59="Annual",VLOOKUP($O59,PM执行时间!$A:$E,5,0),Q59="","")} | T59: {=_xlfn.IFS(S59="Monthly",VLOOKUP($O59,PM执行时间!$A:$E,2,0),S59="Quarterly",VLOOKUP($O59,PM执行时间!$A:$E,3,0),S59="Semi-an",VLOOKUP($O59,PM执行时间!$A:$E,4,0),S59="Annual",VLOOKUP($O59,PM执行时间!$A:$E,5,0),S59="","")} | V59: {=_xlfn.IFS(U59="Monthly",VLOOKUP($O59,PM执行时间!$A:$E,2,0),U59="Quarterly",VLOOKUP($O59,PM执行时间!$A:$E,3,0),U59="Semi-an",VLOOKUP($O59,PM执行时间!$A:$E,4,0),U59="Annual",VLOOKUP($O59,PM执行时间!$A:$E,5,0),U59="","")} | X59: {=_xlfn.IFS(W59="Monthly",VLOOKUP($O59,PM执行时间!$A:$E,2,0),W59="Quarterly",VLOOKUP($O59,PM执行时间!$A:$E,3,0),W59="Semi-an",VLOOKUP($O59,PM执行时间!$A:$E,4,0),W59="Annual",VLOOKUP($O59,PM执行时间!$A:$E,5,0),W59="","")} | Z59: {=_xlfn.IFS(Y59="Monthly",VLOOKUP($O59,PM执行时间!$A:$E,2,0),Y59="Quarterly",VLOOKUP($O59,PM执行时间!$A:$E,3,0),Y59="Semi-an",VLOOKUP($O59,PM执行时间!$A:$E,4,0),Y59="Annual",VLOOKUP($O59,PM执行时间!$A:$E,5,0),Y59="","")} | AA59: Annual | AB59: {=_xlfn.IFS(AA59="Monthly",VLOOKUP($O59,PM执行时间!$A:$E,2,0),AA59="Quarterly",VLOOKUP($O59,PM执行时间!$A:$E,3,0),AA59="Semi-an",VLOOKUP($O59,PM执行时间!$A:$E,4,0),AA59="Annual",VLOOKUP($O59,PM执行时间!$A:$E,5,0),AA59="","")} -> 1 | AD59: {=_xlfn.IFS(AC59="Monthly",VLOOKUP($O59,PM执行时间!$A:$E,2,0),AC59="Quarterly",VLOOKUP($O59,PM执行时间!$A:$E,3,0),AC59="Semi-an",VLOOKUP($O59,PM执行时间!$A:$E,4,0),AC59="Annual",VLOOKUP($O59,PM执行时间!$A:$E,5,0),AC59="","")} | AF59: {=_xlfn.IFS(AE59="Monthly",VLOOKUP($O59,PM执行时间!$A:$E,2,0),AE59="Quarterly",VLOOKUP($O59,PM执行时间!$A:$E,3,0),AE59="Semi-an",VLOOKUP($O59,PM执行时间!$A:$E,4,0),AE59="Annual",VLOOKUP($O59,PM执行时间!$A:$E,5,0),AE59="","")} | AH59: {=_xlfn.IFS(AG59="Monthly",VLOOKUP($O59,PM执行时间!$A:$E,2,0),AG59="Quarterly",VLOOKUP($O59,PM执行时间!$A:$E,3,0),AG59="Semi-an",VLOOKUP($O59,PM执行时间!$A:$E,4,0),AG59="Annual",VLOOKUP($O59,PM执行时间!$A:$E,5,0),AG59="","")} | AJ59: {=_xlfn.IFS(AI59="Monthly",VLOOKUP($O59,PM执行时间!$A:$E,2,0),AI59="Quarterly",VLOOKUP($O59,PM执行时间!$A:$E,3,0),AI59="Semi-an",VLOOKUP($O59,PM执行时间!$A:$E,4,0),AI59="Annual",VLOOKUP($O59,PM执行时间!$A:$E,5,0),AI59="","")} | AL59: {=_xlfn.IFS(AK59="Monthly",VLOOKUP($O59,PM执行时间!$A:$E,2,0),AK59="Quarterly",VLOOKUP($O59,PM执行时间!$A:$E,3,0),AK59="Semi-an",VLOOKUP($O59,PM执行时间!$A:$E,4,0),AK59="Annual",VLOOKUP($O59,PM执行时间!$A:$E,5,0),AK59="","")} | AN59: {=_xlfn.IFS(AM59="Monthly",VLOOKUP($O59,PM执行时间!$A:$E,2,0),AM59="Quarterly",VLOOKUP($O59,PM执行时间!$A:$E,3,0),AM59="Semi-an",VLOOKUP($O59,PM执行时间!$A:$E,4,0),AM59="Annual",VLOOKUP($O59,PM执行时间!$A:$E,5,0),AM59="","")} | AO59: 44713
A60: 151 | B60: =SUBTOTAL(3,G$3:G60)+0 -> 10 | D60: 662 | E60: 清洗线 | F60: Xin-WJ04S | G60: 常州市新鑫环保 | H60: XIN-20130522002 | I60: 41426 | J60: B类 | K60: 运行中 | L60: KH一楼中南 | M60: 41395 | N60: KH器械单元 | O60: FM-P0024.02 | P60: 月 | Q60: Monthly | R60: {=_xlfn.IFS(Q60="Monthly",VLOOKUP($O60,PM执行时间!$A:$E,2,0),Q60="Quarterly",VLOOKUP($O60,PM执行时间!$A:$E,3,0),Q60="Semi-an",VLOOKUP($O60,PM执行时间!$A:$E,4,0),Q60="Annual",VLOOKUP($O60,PM执行时间!$A:$E,5,0),Q60="","")} -> 1 | S60: Monthly | T60: {=_xlfn.IFS(S60="Monthly",VLOOKUP($O60,PM执行时间!$A:$E,2,0),S60="Quarterly",VLOOKUP($O60,PM执行时间!$A:$E,3,0),S60="Semi-an",VLOOKUP($O60,PM执行时间!$A:$E,4,0),S60="Annual",VLOOKUP($O60,PM执行时间!$A:$E,5,0),S60="","")} -> 1 | U60: Monthly | V60: {=_xlfn.IFS(U60="Monthly",VLOOKUP($O60,PM执行时间!$A:$E,2,0),U60="Quarterly",VLOOKUP($O60,PM执行时间!$A:$E,3,0),U60="Semi-an",VLOOKUP($O60,PM执行时间!$A:$E,4,0),U60="Annual",VLOOKUP($O60,PM执行时间!$A:$E,5,0),U60="","")} -> 1 | W60: Monthly | X60: {=_xlfn.IFS(W60="Monthly",VLOOKUP($O60,PM执行时间!$A:$E,2,0),W60="Quarterly",VLOOKUP($O60,PM执行时间!$A:$E,3,0),W60="Semi-an",VLOOKUP($O60,PM执行时间!$A:$E,4,0),W60="Annual",VLOOKUP($O60,PM执行时间!$A:$E,5,0),W60="","")} -> 1 | Y60: Monthly | Z60: {=_xlfn.IFS(Y60="Monthly",VLOOKUP($O60,PM执行时间!$A:$E,2,0),Y60="Quarterly",VLOOKUP($O60,PM执行时间!$A:$E,3,0),Y60="Semi-an",VLOOKUP($O60,PM执行时间!$A:$E,4,0),Y60="Annual",VLOOKUP($O60,PM执行时间!$A:$E,5,0),Y60="","")} -> 1 | AA60: Monthly | AB60: {=_xlfn.IFS(AA60="Monthly",VLOOKUP($O60,PM执行时间!$A:$E,2,0),AA60="Quarterly",VLOOKUP($O60,PM执行时间!$A:$E,3,0),AA60="Semi-an",VLOOKUP($O60,PM执行时间!$A:$E,4,0),AA60="Annual",VLOOKUP($O60,PM执行时间!$A:$E,5,0),AA60="","")} -> 1 | AC60: Monthly | AD60: {=_xlfn.IFS(AC60="Monthly",VLOOKUP($O60,PM执行时间!$A:$E,2,0),AC60="Quarterly",VLOOKUP($O60,PM执行时间!$A:$E,3,0),AC60="Semi-an",VLOOKUP($O60,PM执行时间!$A:$E,4,0),AC60="Annual",VLOOKUP($O60,PM执行时间!$A:$E,5,0),AC60="","")} -> 1 | AE60: Monthly | AF60: {=_xlfn.IFS(AE60="Monthly",VLOOKUP($O60,PM执行时间!$A:$E,2,0),AE60="Quarterly",VLOOKUP($O60,PM执行时间!$A:$E,3,0),AE60="Semi-an",VLOOKUP($O60,PM执行时间!$A:$E,4,0),AE60="Annual",VLOOKUP($O60,PM执行时间!$A:$E,5,0),AE60="","")} -> 1 | AG60: Monthly | AH60: {=_xlfn.IFS(AG60="Monthly",VLOOKUP($O60,PM执行时间!$A:$E,2,0),AG60="Quarterly",VLOOKUP($O60,PM执行时间!$A:$E,3,0),AG60="Semi-an",VLOOKUP($O60,PM执行时间!$A:$E,4,0),AG60="Annual",VLOOKUP($O60,PM执行时间!$A:$E,5,0),AG60="","")} -> 1 | AI60: Monthly | AJ60: {=_xlfn.IFS(AI60="Monthly",VLOOKUP($O60,PM执行时间!$A:$E,2,0),AI60="Quarterly",VLOOKUP($O60,PM执行时间!$A:$E,3,0),AI60="Semi-an",VLOOKUP($O60,PM执行时间!$A:$E,4,0),AI60="Annual",VLOOKUP($O60,PM执行时间!$A:$E,5,0),AI60="","")} -> 1 | AK60: Monthly | AL60: {=_xlfn.IFS(AK60="Monthly",VLOOKUP($O60,PM执行时间!$A:$E,2,0),AK60="Quarterly",VLOOKUP($O60,PM执行时间!$A:$E,3,0),AK60="Semi-an",VLOOKUP($O60,PM执行时间!$A:$E,4,0),AK60="Annual",VLOOKUP($O60,PM执行时间!$A:$E,5,0),AK60="","")} -> 1 | AM60: Monthly | AN60: {=_xlfn.IFS(AM60="Monthly",VLOOKUP($O60,PM执行时间!$A:$E,2,0),AM60="Quarterly",VLOOKUP($O60,PM执行时间!$A:$E,3,0),AM60="Semi-an",VLOOKUP($O60,PM执行时间!$A:$E,4,0),AM60="Annual",VLOOKUP($O60,PM执行时间!$A:$E,5,0),AM60="","")} -> 1 | AO60: 44805 | AP60: 3/16-3/20
A61: 60 | B61: =SUBTOTAL(3,G$3:G61)+0 -> 10 | D61: 431 | E61: 加工中心 | F61: GX1000plus | G61: 哈挺上海 | H61: NVCB0JC433 | I61: 40483 | J61: A类 | K61: 运行中 | L61: KH一楼东南 | M61: N/A | N61: KH器械单元 | O61: WI-013-R40 | P61: 季度/年 | Q61: Quarterly | R61: {=_xlfn.IFS(Q61="Monthly",VLOOKUP($O61,PM执行时间!$A:$E,2,0),Q61="Quarterly",VLOOKUP($O61,PM执行时间!$A:$E,3,0),Q61="Semi-an",VLOOKUP($O61,PM执行时间!$A:$E,4,0),Q61="Annual",VLOOKUP($O61,PM执行时间!$A:$E,5,0),Q61="","")} -> 0.15 | T61: {=_xlfn.IFS(S61="Monthly",VLOOKUP($O61,PM执行时间!$A:$E,2,0),S61="Quarterly",VLOOKUP($O61,PM执行时间!$A:$E,3,0),S61="Semi-an",VLOOKUP($O61,PM执行时间!$A:$E,4,0),S61="Annual",VLOOKUP($O61,PM执行时间!$A:$E,5,0),S61="","")} | V61: {=_xlfn.IFS(U61="Monthly",VLOOKUP($O61,PM执行时间!$A:$E,2,0),U61="Quarterly",VLOOKUP($O61,PM执行时间!$A:$E,3,0),U61="Semi-an",VLOOKUP($O61,PM执行时间!$A:$E,4,0),U61="Annual",VLOOKUP($O61,PM执行时间!$A:$E,5,0),U61="","")} | W61: Quarterly | X61: {=_xlfn.IFS(W61="Monthly",VLOOKUP($O61,PM执行时间!$A:$E,2,0),W61="Quarterly",VLOOKUP($O61,PM执行时间!$A:$E,3,0),W61="Semi-an",VLOOKUP($O61,PM执行时间!$A:$E,4,0),W61="Annual",VLOOKUP($O61,PM执行时间!$A:$E,5,0),W61="","")} -> 0.15 | Z61: {=_xlfn.IFS(Y61="Monthly",VLOOKUP($O61,PM执行时间!$A:$E,2,0),Y61="Quarterly",VLOOKUP($O61,PM执行时间!$A:$E,3,0),Y61="Semi-an",VLOOKUP($O61,PM执行时间!$A:$E,4,0),Y61="Annual",VLOOKUP($O61,PM执行时间!$A:$E,5,0),Y61="","")} | AB61: {=_xlfn.IFS(AA61="Monthly",VLOOKUP($O61,PM执行时间!$A:$E,2,0),AA61="Quarterly",VLOOKUP($O61,PM执行时间!$A:$E,3,0),AA61="Semi-an",VLOOKUP($O61,PM执行时间!$A:$E,4,0),AA61="Annual",VLOOKUP($O61,PM执行时间!$A:$E,5,0),AA61="","")} | AC61: Quarterly | AD61: {=_xlfn.IFS(AC61="Monthly",VLOOKUP($O61,PM执行时间!$A:$E,2,0),AC61="Quarterly",VLOOKUP($O61,PM执行时间!$A:$E,3,0),AC61="Semi-an",VLOOKUP($O61,PM执行时间!$A:$E,4,0),AC61="Annual",VLOOKUP($O61,PM执行时间!$A:$E,5,0),AC61="","")} -> 0.15 | AF61: {=_xlfn.IFS(AE61="Monthly",VLOOKUP($O61,PM执行时间!$A:$E,2,0),AE61="Quarterly",VLOOKUP($O61,PM执行时间!$A:$E,3,0),AE61="Semi-an",VLOOKUP($O61,PM执行时间!$A:$E,4,0),AE61="Annual",VLOOKUP($O61,PM执行时间!$A:$E,5,0),AE61="","")} | AH61: {=_xlfn.IFS(AG61="Monthly",VLOOKUP($O61,PM执行时间!$A:$E,2,0),AG61="Quarterly",VLOOKUP($O61,PM执行时间!$A:$E,3,0),AG61="Semi-an",VLOOKUP($O61,PM执行时间!$A:$E,4,0),AG61="Annual",VLOOKUP($O61,PM执行时间!$A:$E,5,0),AG61="","")} | AI61: Annual | AJ61: {=_xlfn.IFS(AI61="Monthly",VLOOKUP($O61,PM执行时间!$A:$E,2,0),AI61="Quarterly",VLOOKUP($O61,PM执行时间!$A:$E,3,0),AI61="Semi-an",VLOOKUP($O61,PM执行时间!$A:$E,4,0),AI61="Annual",VLOOKUP($O61,PM执行时间!$A:$E,5,0),AI61="","")} -> 1.82 | AL61: {=_xlfn.IFS(AK61="Monthly",VLOOKUP($O61,PM执行时间!$A:$E,2,0),AK61="Quarterly",VLOOKUP($O61,PM执行时间!$A:$E,3,0),AK61="Semi-an",VLOOKUP($O61,PM执行时间!$A:$E,4,0),AK61="Annual",VLOOKUP($O61,PM执行时间!$A:$E,5,0),AK61="","")} | AN61: {=_xlfn.IFS(AM61="Monthly",VLOOKUP($O61,PM执行时间!$A:$E,2,0),AM61="Quarterly",VLOOKUP($O61,PM执行时间!$A:$E,3,0),AM61="Semi-an",VLOOKUP($O61,PM执行时间!$A:$E,4,0),AM61="Annual",VLOOKUP($O61,PM执行时间!$A:$E,5,0),AM61="","")} | AO61: 44835
A62: 61 | B62: =SUBTOTAL(3,G$3:G62)+0 -> 10 | D62: 432 | E62: 加工中心 | F62: GX1000plus | G62: 哈挺上海 | H62: NVCB0JC434 | I62: 40483 | J62: A类 | K62: 运行中 | L62: KH一楼东南 | M62: N/A | N62: KH器械单元 | O62: WI-013-R40 | P62: 季度/年 | Q62: Quarterly | R62: {=_xlfn.IFS(Q62="Monthly",VLOOKUP($O62,PM执行时间!$A:$E,2,0),Q62="Quarterly",VLOOKUP($O62,PM执行时间!$A:$E,3,0),Q62="Semi-an",VLOOKUP($O62,PM执行时间!$A:$E,4,0),Q62="Annual",VLOOKUP($O62,PM执行时间!$A:$E,5,0),Q62="","")} -> 0.15 | T62: {=_xlfn.IFS(S62="Monthly",VLOOKUP($O62,PM执行时间!$A:$E,2,0),S62="Quarterly",VLOOKUP($O62,PM执行时间!$A:$E,3,0),S62="Semi-an",VLOOKUP($O62,PM执行时间!$A:$E,4,0),S62="Annual",VLOOKUP($O62,PM执行时间!$A:$E,5,0),S62="","")} | V62: {=_xlfn.IFS(U62="Monthly",VLOOKUP($O62,PM执行时间!$A:$E,2,0),U62="Quarterly",VLOOKUP($O62,PM执行时间!$A:$E,3,0),U62="Semi-an",VLOOKUP($O62,PM执行时间!$A:$E,4,0),U62="Annual",VLOOKUP($O62,PM执行时间!$A:$E,5,0),U62="","")} | W62: Quarterly | X62: {=_xlfn.IFS(W62="Monthly",VLOOKUP($O62,PM执行时间!$A:$E,2,0),W62="Quarterly",VLOOKUP($O62,PM执行时间!$A:$E,3,0),W62="Semi-an",VLOOKUP($O62,PM执行时间!$A:$E,4,0),W62="Annual",VLOOKUP($O62,PM执行时间!$A:$E,5,0),W62="","")} -> 0.15 | Z62: {=_xlfn.IFS(Y62="Monthly",VLOOKUP($O62,PM执行时间!$A:$E,2,0),Y62="Quarterly",VLOOKUP($O62,PM执行时间!$A:$E,3,0),Y62="Semi-an",VLOOKUP($O62,PM执行时间!$A:$E,4,0),Y62="Annual",VLOOKUP($O62,PM执行时间!$A:$E,5,0),Y62="","")} | AB62: {=_xlfn.IFS(AA62="Monthly",VLOOKUP($O62,PM执行时间!$A:$E,2,0),AA62="Quarterly",VLOOKUP($O62,PM执行时间!$A:$E,3,0),AA62="Semi-an",VLOOKUP($O62,PM执行时间!$A:$E,4,0),AA62="Annual",VLOOKUP($O62,PM执行时间!$A:$E,5,0),AA62="","")} | AC62: Quarterly | AD62: {=_xlfn.IFS(AC62="Monthly",VLOOKUP($O62,PM执行时间!$A:$E,2,0),AC62="Quarterly",VLOOKUP($O62,PM执行时间!$A:$E,3,0),AC62="Semi-an",VLOOKUP($O62,PM执行时间!$A:$E,4,0),AC62="Annual",VLOOKUP($O62,PM执行时间!$A:$E,5,0),AC62="","")} -> 0.15 | AF62: {=_xlfn.IFS(AE62="Monthly",VLOOKUP($O62,PM执行时间!$A:$E,2,0),AE62="Quarterly",VLOOKUP($O62,PM执行时间!$A:$E,3,0),AE62="Semi-an",VLOOKUP($O62,PM执行时间!$A:$E,4,0),AE62="Annual",VLOOKUP($O62,PM执行时间!$A:$E,5,0),AE62="","")} | AH62: {=_xlfn.IFS(AG62="Monthly",VLOOKUP($O62,PM执行时间!$A:$E,2,0),AG62="Quarterly",VLOOKUP($O62,PM执行时间!$A:$E,3,0),AG62="Semi-an",VLOOKUP($O62,PM执行时间!$A:$E,4,0),AG62="Annual",VLOOKUP($O62,PM执行时间!$A:$E,5,0),AG62="","")} | AI62: Annual | AJ62: {=_xlfn.IFS(AI62="Monthly",VLOOKUP($O62,PM执行时间!$A:$E,2,0),AI62="Quarterly",VLOOKUP($O62,PM执行时间!$A:$E,3,0),AI62="Semi-an",VLOOKUP($O62,PM执行时间!$A:$E,4,0),AI62="Annual",VLOOKUP($O62,PM执行时间!$A:$E,5,0),AI62="","")} -> 1.82 | AL62: {=_xlfn.IFS(AK62="Monthly",VLOOKUP($O62,PM执行时间!$A:$E,2,0),AK62="Quarterly",VLOOKUP($O62,PM执行时间!$A:$E,3,0),AK62="Semi-an",VLOOKUP($O62,PM执行时间!$A:$E,4,0),AK62="Annual",VLOOKUP($O62,PM执行时间!$A:$E,5,0),AK62="","")} | AN62: {=_xlfn.IFS(AM62="Monthly",VLOOKUP($O62,PM执行时间!$A:$E,2,0),AM62="Quarterly",VLOOKUP($O62,PM执行时间!$A:$E,3,0),AM62="Semi-an",VLOOKUP($O62,PM执行时间!$A:$E,4,0),AM62="Annual",VLOOKUP($O62,PM执行时间!$A:$E,5,0),AM62="","")} | AO62: 44835
A63: 248 | B63: =SUBTOTAL(3,G$3:G63)+0 -> 11 | D63: 949 | E63: 清洗机 | F63: XR-3009 | G63: 鑫仁 | H63: 18081001 | I63: 43101 | J63: B类 | K63: 运行中 | L63: KH一楼正西 | M63: 43101 | N63: KH脊柱单元 | O63: FM-P0024.02 | P63: 月 | Q63: Monthly | R63: {=_xlfn.IFS(Q63="Monthly",VLOOKUP($O63,PM执行时间!$A:$E,2,0),Q63="Quarterly",VLOOKUP($O63,PM执行时间!$A:$E,3,0),Q63="Semi-an",VLOOKUP($O63,PM执行时间!$A:$E,4,0),Q63="Annual",VLOOKUP($O63,PM执行时间!$A:$E,5,0),Q63="","")} -> 1 | S63: Monthly | T63: {=_xlfn.IFS(S63="Monthly",VLOOKUP($O63,PM执行时间!$A:$E,2,0),S63="Quarterly",VLOOKUP($O63,PM执行时间!$A:$E,3,0),S63="Semi-an",VLOOKUP($O63,PM执行时间!$A:$E,4,0),S63="Annual",VLOOKUP($O63,PM执行时间!$A:$E,5,0),S63="","")} -> 1 | U63: Monthly | V63: {=_xlfn.IFS(U63="Monthly",VLOOKUP($O63,PM执行时间!$A:$E,2,0),U63="Quarterly",VLOOKUP($O63,PM执行时间!$A:$E,3,0),U63="Semi-an",VLOOKUP($O63,PM执行时间!$A:$E,4,0),U63="Annual",VLOOKUP($O63,PM执行时间!$A:$E,5,0),U63="","")} -> 1 | W63: Monthly | X63: {=_xlfn.IFS(W63="Monthly",VLOOKUP($O63,PM执行时间!$A:$E,2,0),W63="Quarterly",VLOOKUP($O63,PM执行时间!$A:$E,3,0),W63="Semi-an",VLOOKUP($O63,PM执行时间!$A:$E,4,0),W63="Annual",VLOOKUP($O63,PM执行时间!$A:$E,5,0),W63="","")} -> 1 | Y63: Monthly | Z63: {=_xlfn.IFS(Y63="Monthly",VLOOKUP($O63,PM执行时间!$A:$E,2,0),Y63="Quarterly",VLOOKUP($O63,PM执行时间!$A:$E,3,0),Y63="Semi-an",VLOOKUP($O63,PM执行时间!$A:$E,4,0),Y63="Annual",VLOOKUP($O63,PM执行时间!$A:$E,5,0),Y63="","")} -> 1 | AA63: Monthly | AB63: {=_xlfn.IFS(AA63="Monthly",VLOOKUP($O63,PM执行时间!$A:$E,2,0),AA63="Quarterly",VLOOKUP($O63,PM执行时间!$A:$E,3,0),AA63="Semi-an",VLOOKUP($O63,PM执行时间!$A:$E,4,0),AA63="Annual",VLOOKUP($O63,PM执行时间!$A:$E,5,0),AA63="","")} -> 1 | AC63: Monthly | AD63: {=_xlfn.IFS(AC63="Monthly",VLOOKUP($O63,PM执行时间!$A:$E,2,0),AC63="Quarterly",VLOOKUP($O63,PM执行时间!$A:$E,3,0),AC63="Semi-an",VLOOKUP($O63,PM执行时间!$A:$E,4,0),AC63="Annual",VLOOKUP($O63,PM执行时间!$A:$E,5,0),AC63="","")} -> 1 | AE63: Monthly | AF63: {=_xlfn.IFS(AE63="Monthly",VLOOKUP($O63,PM执行时间!$A:$E,2,0),AE63="Quarterly",VLOOKUP($O63,PM执行时间!$A:$E,3,0),AE63="Semi-an",VLOOKUP($O63,PM执行时间!$A:$E,4,0),AE63="Annual",VLOOKUP($O63,PM执行时间!$A:$E,5,0),AE63="","")} -> 1 | AG63: Monthly | AH63: {=_xlfn.IFS(AG63="Monthly",VLOOKUP($O63,PM执行时间!$A:$E,2,0),AG63="Quarterly",VLOOKUP($O63,PM执行时间!$A:$E,3,0),AG63="Semi-an",VLOOKUP($O63,PM执行时间!$A:$E,4,0),AG63="Annual",VLOOKUP($O63,PM执行时间!$A:$E,5,0),AG63="","")} -> 1 | AI63: Monthly | AJ63: {=_xlfn.IFS(AI63="Monthly",VLOOKUP($O63,PM执行时间!$A:$E,2,0),AI63="Quarterly",VLOOKUP($O63,PM执行时间!$A:$E,3,0),AI63="Semi-an",VLOOKUP($O63,PM执行时间!$A:$E,4,0),AI63="Annual",VLOOKUP($O63,PM执行时间!$A:$E,5,0),AI63="","")} -> 1 | AK63: Monthly | AL63: {=_xlfn.IFS(AK63="Monthly",VLOOKUP($O63,PM执行时间!$A:$E,2,0),AK63="Quarterly",VLOOKUP($O63,PM执行时间!$A:$E,3,0),AK63="Semi-an",VLOOKUP($O63,PM执行时间!$A:$E,4,0),AK63="Annual",VLOOKUP($O63,PM执行时间!$A:$E,5,0),AK63="","")} -> 1 | AM63: Monthly | AN63: {=_xlfn.IFS(AM63="Monthly",VLOOKUP($O63,PM执行时间!$A:$E,2,0),AM63="Quarterly",VLOOKUP($O63,PM执行时间!$A:$E,3,0),AM63="Semi-an",VLOOKUP($O63,PM执行时间!$A:$E,4,0),AM63="Annual",VLOOKUP($O63,PM执行时间!$A:$E,5,0),AM63="","")} -> 1 | AO63: 44805 | AP63: 3/16-3/20
A64: 63 | B64: =SUBTOTAL(3,G$3:G64)+0 -> 11 | D64: 440 | E64: 加工中心 | F64: VF2 | G64: 美国哈斯自动化 | H64: 1076496 | I64: 40483 | J64: A类 | K64: 运行中 | L64: KH一楼北 | M64: 40210 | N64: KH创伤单元 | O64: WI-013-R39 | P64: 季 | R64: {=_xlfn.IFS(Q64="Monthly",VLOOKUP($O64,PM执行时间!$A:$E,2,0),Q64="Quarterly",VLOOKUP($O64,PM执行时间!$A:$E,3,0),Q64="Semi-an",VLOOKUP($O64,PM执行时间!$A:$E,4,0),Q64="Annual",VLOOKUP($O64,PM执行时间!$A:$E,5,0),Q64="","")} | T64: {=_xlfn.IFS(S64="Monthly",VLOOKUP($O64,PM执行时间!$A:$E,2,0),S64="Quarterly",VLOOKUP($O64,PM执行时间!$A:$E,3,0),S64="Semi-an",VLOOKUP($O64,PM执行时间!$A:$E,4,0),S64="Annual",VLOOKUP($O64,PM执行时间!$A:$E,5,0),S64="","")} | U64: Quarterly | V64: {=_xlfn.IFS(U64="Monthly",VLOOKUP($O64,PM执行时间!$A:$E,2,0),U64="Quarterly",VLOOKUP($O64,PM执行时间!$A:$E,3,0),U64="Semi-an",VLOOKUP($O64,PM执行时间!$A:$E,4,0),U64="Annual",VLOOKUP($O64,PM执行时间!$A:$E,5,0),U64="","")} -> 2 | X64: {=_xlfn.IFS(W64="Monthly",VLOOKUP($O64,PM执行时间!$A:$E,2,0),W64="Quarterly",VLOOKUP($O64,PM执行时间!$A:$E,3,0),W64="Semi-an",VLOOKUP($O64,PM执行时间!$A:$E,4,0),W64="Annual",VLOOKUP($O64,PM执行时间!$A:$E,5,0),W64="","")} | Z64: {=_xlfn.IFS(Y64="Monthly",VLOOKUP($O64,PM执行时间!$A:$E,2,0),Y64="Quarterly",VLOOKUP($O64,PM执行时间!$A:$E,3,0),Y64="Semi-an",VLOOKUP($O64,PM执行时间!$A:$E,4,0),Y64="Annual",VLOOKUP($O64,PM执行时间!$A:$E,5,0),Y64="","")} | AA64: Quarterly | AB64: {=_xlfn.IFS(AA64="Monthly",VLOOKUP($O64,PM执行时间!$A:$E,2,0),AA64="Quarterly",VLOOKUP($O64,PM执行时间!$A:$E,3,0),AA64="Semi-an",VLOOKUP($O64,PM执行时间!$A:$E,4,0),AA64="Annual",VLOOKUP($O64,PM执行时间!$A:$E,5,0),AA64="","")} -> 2 | AD64: {=_xlfn.IFS(AC64="Monthly",VLOOKUP($O64,PM执行时间!$A:$E,2,0),AC64="Quarterly",VLOOKUP($O64,PM执行时间!$A:$E,3,0),AC64="Semi-an",VLOOKUP($O64,PM执行时间!$A:$E,4,0),AC64="Annual",VLOOKUP($O64,PM执行时间!$A:$E,5,0),AC64="","")} | AF64: {=_xlfn.IFS(AE64="Monthly",VLOOKUP($O64,PM执行时间!$A:$E,2,0),AE64="Quarterly",VLOOKUP($O64,PM执行时间!$A:$E,3,0),AE64="Semi-an",VLOOKUP($O64,PM执行时间!$A:$E,4,0),AE64="Annual",VLOOKUP($O64,PM执行时间!$A:$E,5,0),AE64="","")} | AG64: Quarterly | AH64: {=_xlfn.IFS(AG64="Monthly",VLOOKUP($O64,PM执行时间!$A:$E,2,0),AG64="Quarterly",VLOOKUP($O64,PM执行时间!$A:$E,3,0),AG64="Semi-an",VLOOKUP($O64,PM执行时间!$A:$E,4,0),AG64="Annual",VLOOKUP($O64,PM执行时间!$A:$E,5,0),AG64="","")} -> 2 | AJ64: {=_xlfn.IFS(AI64="Monthly",VLOOKUP($O64,PM执行时间!$A:$E,2,0),AI64="Quarterly",VLOOKUP($O64,PM执行时间!$A:$E,3,0),AI64="Semi-an",VLOOKUP($O64,PM执行时间!$A:$E,4,0),AI64="Annual",VLOOKUP($O64,PM执行时间!$A:$E,5,0),AI64="","")} | AL64: {=_xlfn.IFS(AK64="Monthly",VLOOKUP($O64,PM执行时间!$A:$E,2,0),AK64="Quarterly",VLOOKUP($O64,PM执行时间!$A:$E,3,0),AK64="Semi-an",VLOOKUP($O64,PM执行时间!$A:$E,4,0),AK64="Annual",VLOOKUP($O64,PM执行时间!$A:$E,5,0),AK64="","")} | AM64: Quarterly | AN64: {=_xlfn.IFS(AM64="Monthly",VLOOKUP($O64,PM执行时间!$A:$E,2,0),AM64="Quarterly",VLOOKUP($O64,PM执行时间!$A:$E,3,0),AM64="Semi-an",VLOOKUP($O64,PM执行时间!$A:$E,4,0),AM64="Annual",VLOOKUP($O64,PM执行时间!$A:$E,5,0),AM64="","")} -> 2 | AO64: 44896
A65: 64 | B65: =SUBTOTAL(3,G$3:G65)+0 -> 11 | D65: 441 | E65: 加工中心 | F65: GX1000plus | G65: 哈挺上海 | H65: NVCB0KC457 | I65: 40513 | J65: A类 | K65: 运行中 | L65: KH一楼东南 | M65: N/A | N65: KH器械单元 | O65: WI-013-R40 | P65: 季度/年 | Q65: Quarterly | R65: {=_xlfn.IFS(Q65="Monthly",VLOOKUP($O65,PM执行时间!$A:$E,2,0),Q65="Quarterly",VLOOKUP($O65,PM执行时间!$A:$E,3,0),Q65="Semi-an",VLOOKUP($O65,PM执行时间!$A:$E,4,0),Q65="Annual",VLOOKUP($O65,PM执行时间!$A:$E,5,0),Q65="","")} -> 0.15 | T65: {=_xlfn.IFS(S65="Monthly",VLOOKUP($O65,PM执行时间!$A:$E,2,0),S65="Quarterly",VLOOKUP($O65,PM执行时间!$A:$E,3,0),S65="Semi-an",VLOOKUP($O65,PM执行时间!$A:$E,4,0),S65="Annual",VLOOKUP($O65,PM执行时间!$A:$E,5,0),S65="","")} | V65: {=_xlfn.IFS(U65="Monthly",VLOOKUP($O65,PM执行时间!$A:$E,2,0),U65="Quarterly",VLOOKUP($O65,PM执行时间!$A:$E,3,0),U65="Semi-an",VLOOKUP($O65,PM执行时间!$A:$E,4,0),U65="Annual",VLOOKUP($O65,PM执行时间!$A:$E,5,0),U65="","")} | W65: Quarterly | X65: {=_xlfn.IFS(W65="Monthly",VLOOKUP($O65,PM执行时间!$A:$E,2,0),W65="Quarterly",VLOOKUP($O65,PM执行时间!$A:$E,3,0),W65="Semi-an",VLOOKUP($O65,PM执行时间!$A:$E,4,0),W65="Annual",VLOOKUP($O65,PM执行时间!$A:$E,5,0),W65="","")} -> 0.15 | Z65: {=_xlfn.IFS(Y65="Monthly",VLOOKUP($O65,PM执行时间!$A:$E,2,0),Y65="Quarterly",VLOOKUP($O65,PM执行时间!$A:$E,3,0),Y65="Semi-an",VLOOKUP($O65,PM执行时间!$A:$E,4,0),Y65="Annual",VLOOKUP($O65,PM执行时间!$A:$E,5,0),Y65="","")} | AB65: {=_xlfn.IFS(AA65="Monthly",VLOOKUP($O65,PM执行时间!$A:$E,2,0),AA65="Quarterly",VLOOKUP($O65,PM执行时间!$A:$E,3,0),AA65="Semi-an",VLOOKUP($O65,PM执行时间!$A:$E,4,0),AA65="Annual",VLOOKUP($O65,PM执行时间!$A:$E,5,0),AA65="","")} | AC65: Quarterly | AD65: {=_xlfn.IFS(AC65="Monthly",VLOOKUP($O65,PM执行时间!$A:$E,2,0),AC65="Quarterly",VLOOKUP($O65,PM执行时间!$A:$E,3,0),AC65="Semi-an",VLOOKUP($O65,PM执行时间!$A:$E,4,0),AC65="Annual",VLOOKUP($O65,PM执行时间!$A:$E,5,0),AC65="","")} -> 0.15 | AF65: {=_xlfn.IFS(AE65="Monthly",VLOOKUP($O65,PM执行时间!$A:$E,2,0),AE65="Quarterly",VLOOKUP($O65,PM执行时间!$A:$E,3,0),AE65="Semi-an",VLOOKUP($O65,PM执行时间!$A:$E,4,0),AE65="Annual",VLOOKUP($O65,PM执行时间!$A:$E,5,0),AE65="","")} | AH65: {=_xlfn.IFS(AG65="Monthly",VLOOKUP($O65,PM执行时间!$A:$E,2,0),AG65="Quarterly",VLOOKUP($O65,PM执行时间!$A:$E,3,0),AG65="Semi-an",VLOOKUP($O65,PM执行时间!$A:$E,4,0),AG65="Annual",VLOOKUP($O65,PM执行时间!$A:$E,5,0),AG65="","")} | AI65: Annual | AJ65: {=_xlfn.IFS(AI65="Monthly",VLOOKUP($O65,PM执行时间!$A:$E,2,0),AI65="Quarterly",VLOOKUP($O65,PM执行时间!$A:$E,3,0),AI65="Semi-an",VLOOKUP($O65,PM执行时间!$A:$E,4,0),AI65="Annual",VLOOKUP($O65,PM执行时间!$A:$E,5,0),AI65="","")} -> 1.82 | AL65: {=_xlfn.IFS(AK65="Monthly",VLOOKUP($O65,PM执行时间!$A:$E,2,0),AK65="Quarterly",VLOOKUP($O65,PM执行时间!$A:$E,3,0),AK65="Semi-an",VLOOKUP($O65,PM执行时间!$A:$E,4,0),AK65="Annual",VLOOKUP($O65,PM执行时间!$A:$E,5,0),AK65="","")} | AN65: {=_xlfn.IFS(AM65="Monthly",VLOOKUP($O65,PM执行时间!$A:$E,2,0),AM65="Quarterly",VLOOKUP($O65,PM执行时间!$A:$E,3,0),AM65="Semi-an",VLOOKUP($O65,PM执行时间!$A:$E,4,0),AM65="Annual",VLOOKUP($O65,PM执行时间!$A:$E,5,0),AM65="","")} | AO65: 44835
A66: 65 | B66: =SUBTOTAL(3,G$3:G66)+0 -> 11 | D66: 442 | E66: 加工中心 | F66: GX1000plus | G66: 哈挺上海 | H66: NVCB0KC458 | I66: 40513 | J66: A类 | K66: 运行中 | L66: KH一楼东南 | M66: N/A | N66: KH器械单元 | O66: WI-013-R40 | P66: 季度/年 | Q66: Quarterly | R66: {=_xlfn.IFS(Q66="Monthly",VLOOKUP($O66,PM执行时间!$A:$E,2,0),Q66="Quarterly",VLOOKUP($O66,PM执行时间!$A:$E,3,0),Q66="Semi-an",VLOOKUP($O66,PM执行时间!$A:$E,4,0),Q66="Annual",VLOOKUP($O66,PM执行时间!$A:$E,5,0),Q66="","")} -> 0.15 | T66: {=_xlfn.IFS(S66="Monthly",VLOOKUP($O66,PM执行时间!$A:$E,2,0),S66="Quarterly",VLOOKUP($O66,PM执行时间!$A:$E,3,0),S66="Semi-an",VLOOKUP($O66,PM执行时间!$A:$E,4,0),S66="Annual",VLOOKUP($O66,PM执行时间!$A:$E,5,0),S66="","")} | V66: {=_xlfn.IFS(U66="Monthly",VLOOKUP($O66,PM执行时间!$A:$E,2,0),U66="Quarterly",VLOOKUP($O66,PM执行时间!$A:$E,3,0),U66="Semi-an",VLOOKUP($O66,PM执行时间!$A:$E,4,0),U66="Annual",VLOOKUP($O66,PM执行时间!$A:$E,5,0),U66="","")} | W66: Quarterly | X66: {=_xlfn.IFS(W66="Monthly",VLOOKUP($O66,PM执行时间!$A:$E,2,0),W66="Quarterly",VLOOKUP($O66,PM执行时间!$A:$E,3,0),W66="Semi-an",VLOOKUP($O66,PM执行时间!$A:$E,4,0),W66="Annual",VLOOKUP($O66,PM执行时间!$A:$E,5,0),W66="","")} -> 0.15 | Z66: {=_xlfn.IFS(Y66="Monthly",VLOOKUP($O66,PM执行时间!$A:$E,2,0),Y66="Quarterly",VLOOKUP($O66,PM执行时间!$A:$E,3,0),Y66="Semi-an",VLOOKUP($O66,PM执行时间!$A:$E,4,0),Y66="Annual",VLOOKUP($O66,PM执行时间!$A:$E,5,0),Y66="","")} | AB66: {=_xlfn.IFS(AA66="Monthly",VLOOKUP($O66,PM执行时间!$A:$E,2,0),AA66="Quarterly",VLOOKUP($O66,PM执行时间!$A:$E,3,0),AA66="Semi-an",VLOOKUP($O66,PM执行时间!$A:$E,4,0),AA66="Annual",VLOOKUP($O66,PM执行时间!$A:$E,5,0),AA66="","")} | AC66: Quarterly | AD66: {=_xlfn.IFS(AC66="Monthly",VLOOKUP($O66,PM执行时间!$A:$E,2,0),AC66="Quarterly",VLOOKUP($O66,PM执行时间!$A:$E,3,0),AC66="Semi-an",VLOOKUP($O66,PM执行时间!$A:$E,4,0),AC66="Annual",VLOOKUP($O66,PM执行时间!$A:$E,5,0),AC66="","")} -> 0.15 | AF66: {=_xlfn.IFS(AE66="Monthly",VLOOKUP($O66,PM执行时间!$A:$E,2,0),AE66="Quarterly",VLOOKUP($O66,PM执行时间!$A:$E,3,0),AE66="Semi-an",VLOOKUP($O66,PM执行时间!$A:$E,4,0),AE66="Annual",VLOOKUP($O66,PM执行时间!$A:$E,5,0),AE66="","")} | AH66: {=_xlfn.IFS(AG66="Monthly",VLOOKUP($O66,PM执行时间!$A:$E,2,0),AG66="Quarterly",VLOOKUP($O66,PM执行时间!$A:$E,3,0),AG66="Semi-an",VLOOKUP($O66,PM执行时间!$A:$E,4,0),AG66="Annual",VLOOKUP($O66,PM执行时间!$A:$E,5,0),AG66="","")} | AI66: Annual | AJ66: {=_xlfn.IFS(AI66="Monthly",VLOOKUP($O66,PM执行时间!$A:$E,2,0),AI66="Quarterly",VLOOKUP($O66,PM执行时间!$A:$E,3,0),AI66="Semi-an",VLOOKUP($O66,PM执行时间!$A:$E,4,0),AI66="Annual",VLOOKUP($O66,PM执行时间!$A:$E,5,0),AI66="","")} -> 1.82 | AL66: {=_xlfn.IFS(AK66="Monthly",VLOOKUP($O66,PM执行时间!$A:$E,2,0),AK66="Quarterly",VLOOKUP($O66,PM执行时间!$A:$E,3,0),AK66="Semi-an",VLOOKUP($O66,PM执行时间!$A:$E,4,0),AK66="Annual",VLOOKUP($O66,PM执行时间!$A:$E,5,0),AK66="","")} | AN66: {=_xlfn.IFS(AM66="Monthly",VLOOKUP($O66,PM执行时间!$A:$E,2,0),AM66="Quarterly",VLOOKUP($O66,PM执行时间!$A:$E,3,0),AM66="Semi-an",VLOOKUP($O66,PM执行时间!$A:$E,4,0),AM66="Annual",VLOOKUP($O66,PM执行时间!$A:$E,5,0),AM66="","")} | AO66: 44835
A67: 66 | B67: =SUBTOTAL(3,G$3:G67)+0 -> 11 | D67: 443 | E67: 加工中心 | F67: GX1000plus | G67: 哈挺上海 | H67: NVCB0KC459 | I67: 40513 | J67: A类 | K67: 运行中 | L67: KH一楼中南 | M67: N/A | N67: KH创伤单元 | O67: WI-013-R40 | P67: 季度/年 | Q67: Quarterly | R67: {=_xlfn.IFS(Q67="Monthly",VLOOKUP($O67,PM执行时间!$A:$E,2,0),Q67="Quarterly",VLOOKUP($O67,PM执行时间!$A:$E,3,0),Q67="Semi-an",VLOOKUP($O67,PM执行时间!$A:$E,4,0),Q67="Annual",VLOOKUP($O67,PM执行时间!$A:$E,5,0),Q67="","")} -> 0.15 | T67: {=_xlfn.IFS(S67="Monthly",VLOOKUP($O67,PM执行时间!$A:$E,2,0),S67="Quarterly",VLOOKUP($O67,PM执行时间!$A:$E,3,0),S67="Semi-an",VLOOKUP($O67,PM执行时间!$A:$E,4,0),S67="Annual",VLOOKUP($O67,PM执行时间!$A:$E,5,0),S67="","")} | V67: {=_xlfn.IFS(U67="Monthly",VLOOKUP($O67,PM执行时间!$A:$E,2,0),U67="Quarterly",VLOOKUP($O67,PM执行时间!$A:$E,3,0),U67="Semi-an",VLOOKUP($O67,PM执行时间!$A:$E,4,0),U67="Annual",VLOOKUP($O67,PM执行时间!$A:$E,5,0),U67="","")} | W67: Quarterly | X67: {=_xlfn.IFS(W67="Monthly",VLOOKUP($O67,PM执行时间!$A:$E,2,0),W67="Quarterly",VLOOKUP($O67,PM执行时间!$A:$E,3,0),W67="Semi-an",VLOOKUP($O67,PM执行时间!$A:$E,4,0),W67="Annual",VLOOKUP($O67,PM执行时间!$A:$E,5,0),W67="","")} -> 0.15 | Z67: {=_xlfn.IFS(Y67="Monthly",VLOOKUP($O67,PM执行时间!$A:$E,2,0),Y67="Quarterly",VLOOKUP($O67,PM执行时间!$A:$E,3,0),Y67="Semi-an",VLOOKUP($O67,PM执行时间!$A:$E,4,0),Y67="Annual",VLOOKUP($O67,PM执行时间!$A:$E,5,0),Y67="","")} | AB67: {=_xlfn.IFS(AA67="Monthly",VLOOKUP($O67,PM执行时间!$A:$E,2,0),AA67="Quarterly",VLOOKUP($O67,PM执行时间!$A:$E,3,0),AA67="Semi-an",VLOOKUP($O67,PM执行时间!$A:$E,4,0),AA67="Annual",VLOOKUP($O67,PM执行时间!$A:$E,5,0),AA67="","")} | AC67: Quarterly | AD67: {=_xlfn.IFS(AC67="Monthly",VLOOKUP($O67,PM执行时间!$A:$E,2,0),AC67="Quarterly",VLOOKUP($O67,PM执行时间!$A:$E,3,0),AC67="Semi-an",VLOOKUP($O67,PM执行时间!$A:$E,4,0),AC67="Annual",VLOOKUP($O67,PM执行时间!$A:$E,5,0),AC67="","")} -> 0.15 | AF67: {=_xlfn.IFS(AE67="Monthly",VLOOKUP($O67,PM执行时间!$A:$E,2,0),AE67="Quarterly",VLOOKUP($O67,PM执行时间!$A:$E,3,0),AE67="Semi-an",VLOOKUP($O67,PM执行时间!$A:$E,4,0),AE67="Annual",VLOOKUP($O67,PM执行时间!$A:$E,5,0),AE67="","")} | AH67: {=_xlfn.IFS(AG67="Monthly",VLOOKUP($O67,PM执行时间!$A:$E,2,0),AG67="Quarterly",VLOOKUP($O67,PM执行时间!$A:$E,3,0),AG67="Semi-an",VLOOKUP($O67,PM执行时间!$A:$E,4,0),AG67="Annual",VLOOKUP($O67,PM执行时间!$A:$E,5,0),AG67="","")} | AI67: Annual | AJ67: {=_xlfn.IFS(AI67="Monthly",VLOOKUP($O67,PM执行时间!$A:$E,2,0),AI67="Quarterly",VLOOKUP($O67,PM执行时间!$A:$E,3,0),AI67="Semi-an",VLOOKUP($O67,PM执行时间!$A:$E,4,0),AI67="Annual",VLOOKUP($O67,PM执行时间!$A:$E,5,0),AI67="","")} -> 1.82 | AL67: {=_xlfn.IFS(AK67="Monthly",VLOOKUP($O67,PM执行时间!$A:$E,2,0),AK67="Quarterly",VLOOKUP($O67,PM执行时间!$A:$E,3,0),AK67="Semi-an",VLOOKUP($O67,PM执行时间!$A:$E,4,0),AK67="Annual",VLOOKUP($O67,PM执行时间!$A:$E,5,0),AK67="","")} | AN67: {=_xlfn.IFS(AM67="Monthly",VLOOKUP($O67,PM执行时间!$A:$E,2,0),AM67="Quarterly",VLOOKUP($O67,PM执行时间!$A:$E,3,0),AM67="Semi-an",VLOOKUP($O67,PM执行时间!$A:$E,4,0),AM67="Annual",VLOOKUP($O67,PM执行时间!$A:$E,5,0),AM67="","")} | AO67: 44835
A68: 67 | B68: =SUBTOTAL(3,G$3:G68)+0 -> 11 | D68: 444 | E68: 加工中心 | F68: VF2 | G68: 美国哈斯自动化 | H68: 1079515 | I68: 40483 | J68: A类 | K68: 运行中 | L68: KH一楼北 | M68: 40391 | N68: KH创伤单元 | O68: WI-013-R39 | P68: 季 | R68: {=_xlfn.IFS(Q68="Monthly",VLOOKUP($O68,PM执行时间!$A:$E,2,0),Q68="Quarterly",VLOOKUP($O68,PM执行时间!$A:$E,3,0),Q68="Semi-an",VLOOKUP($O68,PM执行时间!$A:$E,4,0),Q68="Annual",VLOOKUP($O68,PM执行时间!$A:$E,5,0),Q68="","")} | T68: {=_xlfn.IFS(S68="Monthly",VLOOKUP($O68,PM执行时间!$A:$E,2,0),S68="Quarterly",VLOOKUP($O68,PM执行时间!$A:$E,3,0),S68="Semi-an",VLOOKUP($O68,PM执行时间!$A:$E,4,0),S68="Annual",VLOOKUP($O68,PM执行时间!$A:$E,5,0),S68="","")} | U68: Quarterly | V68: {=_xlfn.IFS(U68="Monthly",VLOOKUP($O68,PM执行时间!$A:$E,2,0),U68="Quarterly",VLOOKUP($O68,PM执行时间!$A:$E,3,0),U68="Semi-an",VLOOKUP($O68,PM执行时间!$A:$E,4,0),U68="Annual",VLOOKUP($O68,PM执行时间!$A:$E,5,0),U68="","")} -> 2 | X68: {=_xlfn.IFS(W68="Monthly",VLOOKUP($O68,PM执行时间!$A:$E,2,0),W68="Quarterly",VLOOKUP($O68,PM执行时间!$A:$E,3,0),W68="Semi-an",VLOOKUP($O68,PM执行时间!$A:$E,4,0),W68="Annual",VLOOKUP($O68,PM执行时间!$A:$E,5,0),W68="","")} | Z68: {=_xlfn.IFS(Y68="Monthly",VLOOKUP($O68,PM执行时间!$A:$E,2,0),Y68="Quarterly",VLOOKUP($O68,PM执行时间!$A:$E,3,0),Y68="Semi-an",VLOOKUP($O68,PM执行时间!$A:$E,4,0),Y68="Annual",VLOOKUP($O68,PM执行时间!$A:$E,5,0),Y68="","")} | AA68: Quarterly | AB68: {=_xlfn.IFS(AA68="Monthly",VLOOKUP($O68,PM执行时间!$A:$E,2,0),AA68="Quarterly",VLOOKUP($O68,PM执行时间!$A:$E,3,0),AA68="Semi-an",VLOOKUP($O68,PM执行时间!$A:$E,4,0),AA68="Annual",VLOOKUP($O68,PM执行时间!$A:$E,5,0),AA68="","")} -> 2 | AD68: {=_xlfn.IFS(AC68="Monthly",VLOOKUP($O68,PM执行时间!$A:$E,2,0),AC68="Quarterly",VLOOKUP($O68,PM执行时间!$A:$E,3,0),AC68="Semi-an",VLOOKUP($O68,PM执行时间!$A:$E,4,0),AC68="Annual",VLOOKUP($O68,PM执行时间!$A:$E,5,0),AC68="","")} | AF68: {=_xlfn.IFS(AE68="Monthly",VLOOKUP($O68,PM执行时间!$A:$E,2,0),AE68="Quarterly",VLOOKUP($O68,PM执行时间!$A:$E,3,0),AE68="Semi-an",VLOOKUP($O68,PM执行时间!$A:$E,4,0),AE68="Annual",VLOOKUP($O68,PM执行时间!$A:$E,5,0),AE68="","")} | AG68: Quarterly | AH68: {=_xlfn.IFS(AG68="Monthly",VLOOKUP($O68,PM执行时间!$A:$E,2,0),AG68="Quarterly",VLOOKUP($O68,PM执行时间!$A:$E,3,0),AG68="Semi-an",VLOOKUP($O68,PM执行时间!$A:$E,4,0),AG68="Annual",VLOOKUP($O68,PM执行时间!$A:$E,5,0),AG68="","")} -> 2 | AJ68: {=_xlfn.IFS(AI68="Monthly",VLOOKUP($O68,PM执行时间!$A:$E,2,0),AI68="Quarterly",VLOOKUP($O68,PM执行时间!$A:$E,3,0),AI68="Semi-an",VLOOKUP($O68,PM执行时间!$A:$E,4,0),AI68="Annual",VLOOKUP($O68,PM执行时间!$A:$E,5,0),AI68="","")} | AL68: {=_xlfn.IFS(AK68="Monthly",VLOOKUP($O68,PM执行时间!$A:$E,2,0),AK68="Quarterly",VLOOKUP($O68,PM执行时间!$A:$E,3,0),AK68="Semi-an",VLOOKUP($O68,PM执行时间!$A:$E,4,0),AK68="Annual",VLOOKUP($O68,PM执行时间!$A:$E,5,0),AK68="","")} | AM68: Quarterly | AN68: {=_xlfn.IFS(AM68="Monthly",VLOOKUP($O68,PM执行时间!$A:$E,2,0),AM68="Quarterly",VLOOKUP($O68,PM执行时间!$A:$E,3,0),AM68="Semi-an",VLOOKUP($O68,PM执行时间!$A:$E,4,0),AM68="Annual",VLOOKUP($O68,PM执行时间!$A:$E,5,0),AM68="","")} -> 2 | AO68: 44896
A69: 68 | B69: =SUBTOTAL(3,G$3:G69)+0 -> 11 | D69: 445 | E69: 加工中心 | F69: DMU60monoblock | G69: DMG | H69: 1158 001069 3 | I69: 40483 | J69: A类 | K69: 运行中 | L69: KH一楼中北 | M69: N/A | N69: KH创伤单元 | O69: WI-013-R37 | P69: 季度/半年/年 | Q69: Quarterly | R69: {=_xlfn.IFS(Q69="Monthly",VLOOKUP($O69,PM执行时间!$A:$E,2,0),Q69="Quarterly",VLOOKUP($O69,PM执行时间!$A:$E,3,0),Q69="Semi-an",VLOOKUP($O69,PM执行时间!$A:$E,4,0),Q69="Annual",VLOOKUP($O69,PM执行时间!$A:$E,5,0),Q69="","")} -> 0.83 | T69: {=_xlfn.IFS(S69="Monthly",VLOOKUP($O69,PM执行时间!$A:$E,2,0),S69="Quarterly",VLOOKUP($O69,PM执行时间!$A:$E,3,0),S69="Semi-an",VLOOKUP($O69,PM执行时间!$A:$E,4,0),S69="Annual",VLOOKUP($O69,PM执行时间!$A:$E,5,0),S69="","")} | V69: {=_xlfn.IFS(U69="Monthly",VLOOKUP($O69,PM执行时间!$A:$E,2,0),U69="Quarterly",VLOOKUP($O69,PM执行时间!$A:$E,3,0),U69="Semi-an",VLOOKUP($O69,PM执行时间!$A:$E,4,0),U69="Annual",VLOOKUP($O69,PM执行时间!$A:$E,5,0),U69="","")} | W69: Semi-an | X69: {=_xlfn.IFS(W69="Monthly",VLOOKUP($O69,PM执行时间!$A:$E,2,0),W69="Quarterly",VLOOKUP($O69,PM执行时间!$A:$E,3,0),W69="Semi-an",VLOOKUP($O69,PM执行时间!$A:$E,4,0),W69="Annual",VLOOKUP($O69,PM执行时间!$A:$E,5,0),W69="","")} -> 1.16 | Z69: {=_xlfn.IFS(Y69="Monthly",VLOOKUP($O69,PM执行时间!$A:$E,2,0),Y69="Quarterly",VLOOKUP($O69,PM执行时间!$A:$E,3,0),Y69="Semi-an",VLOOKUP($O69,PM执行时间!$A:$E,4,0),Y69="Annual",VLOOKUP($O69,PM执行时间!$A:$E,5,0),Y69="","")} | AB69: {=_xlfn.IFS(AA69="Monthly",VLOOKUP($O69,PM执行时间!$A:$E,2,0),AA69="Quarterly",VLOOKUP($O69,PM执行时间!$A:$E,3,0),AA69="Semi-an",VLOOKUP($O69,PM执行时间!$A:$E,4,0),AA69="Annual",VLOOKUP($O69,PM执行时间!$A:$E,5,0),AA69="","")} | AC69: Quarterly | AD69: {=_xlfn.IFS(AC69="Monthly",VLOOKUP($O69,PM执行时间!$A:$E,2,0),AC69="Quarterly",VLOOKUP($O69,PM执行时间!$A:$E,3,0),AC69="Semi-an",VLOOKUP($O69,PM执行时间!$A:$E,4,0),AC69="Annual",VLOOKUP($O69,PM执行时间!$A:$E,5,0),AC69="","")} -> 0.83 | AF69: {=_xlfn.IFS(AE69="Monthly",VLOOKUP($O69,PM执行时间!$A:$E,2,0),AE69="Quarterly",VLOOKUP($O69,PM执行时间!$A:$E,3,0),AE69="Semi-an",VLOOKUP($O69,PM执行时间!$A:$E,4,0),AE69="Annual",VLOOKUP($O69,PM执行时间!$A:$E,5,0),AE69="","")} | AH69: {=_xlfn.IFS(AG69="Monthly",VLOOKUP($O69,PM执行时间!$A:$E,2,0),AG69="Quarterly",VLOOKUP($O69,PM执行时间!$A:$E,3,0),AG69="Semi-an",VLOOKUP($O69,PM执行时间!$A:$E,4,0),AG69="Annual",VLOOKUP($O69,PM执行时间!$A:$E,5,0),AG69="","")} | AI69: Annual | AJ69: {=_xlfn.IFS(AI69="Monthly",VLOOKUP($O69,PM执行时间!$A:$E,2,0),AI69="Quarterly",VLOOKUP($O69,PM执行时间!$A:$E,3,0),AI69="Semi-an",VLOOKUP($O69,PM执行时间!$A:$E,4,0),AI69="Annual",VLOOKUP($O69,PM执行时间!$A:$E,5,0),AI69="","")} -> 2.49 | AL69: {=_xlfn.IFS(AK69="Monthly",VLOOKUP($O69,PM执行时间!$A:$E,2,0),AK69="Quarterly",VLOOKUP($O69,PM执行时间!$A:$E,3,0),AK69="Semi-an",VLOOKUP($O69,PM执行时间!$A:$E,4,0),AK69="Annual",VLOOKUP($O69,PM执行时间!$A:$E,5,0),AK69="","")} | AN69: {=_xlfn.IFS(AM69="Monthly",VLOOKUP($O69,PM执行时间!$A:$E,2,0),AM69="Quarterly",VLOOKUP($O69,PM执行时间!$A:$E,3,0),AM69="Semi-an",VLOOKUP($O69,PM执行时间!$A:$E,4,0),AM69="Annual",VLOOKUP($O69,PM执行时间!$A:$E,5,0),AM69="","")} | AO69: 44835
A70: 69 | B70: =SUBTOTAL(3,G$3:G70)+0 -> 11 | D70: 447 | E70: 油压机 | F70: Y41-10T | G70: 无锡市江益液压机械成套 | H70: 20101223 | I70: 40535 | J70: B类 | K70: 运行中 | L70: KH一楼北 | M70: N/A | N70: KH创伤单元 | O70: WI-017-R02 | P70: 年 | R70: {=_xlfn.IFS(Q70="Monthly",VLOOKUP($O70,PM执行时间!$A:$E,2,0),Q70="Quarterly",VLOOKUP($O70,PM执行时间!$A:$E,3,0),Q70="Semi-an",VLOOKUP($O70,PM执行时间!$A:$E,4,0),Q70="Annual",VLOOKUP($O70,PM执行时间!$A:$E,5,0),Q70="","")} | T70: {=_xlfn.IFS(S70="Monthly",VLOOKUP($O70,PM执行时间!$A:$E,2,0),S70="Quarterly",VLOOKUP($O70,PM执行时间!$A:$E,3,0),S70="Semi-an",VLOOKUP($O70,PM执行时间!$A:$E,4,0),S70="Annual",VLOOKUP($O70,PM执行时间!$A:$E,5,0),S70="","")} | V70: {=_xlfn.IFS(U70="Monthly",VLOOKUP($O70,PM执行时间!$A:$E,2,0),U70="Quarterly",VLOOKUP($O70,PM执行时间!$A:$E,3,0),U70="Semi-an",VLOOKUP($O70,PM执行时间!$A:$E,4,0),U70="Annual",VLOOKUP($O70,PM执行时间!$A:$E,5,0),U70="","")} | X70: {=_xlfn.IFS(W70="Monthly",VLOOKUP($O70,PM执行时间!$A:$E,2,0),W70="Quarterly",VLOOKUP($O70,PM执行时间!$A:$E,3,0),W70="Semi-an",VLOOKUP($O70,PM执行时间!$A:$E,4,0),W70="Annual",VLOOKUP($O70,PM执行时间!$A:$E,5,0),W70="","")} | Z70: {=_xlfn.IFS(Y70="Monthly",VLOOKUP($O70,PM执行时间!$A:$E,2,0),Y70="Quarterly",VLOOKUP($O70,PM执行时间!$A:$E,3,0),Y70="Semi-an",VLOOKUP($O70,PM执行时间!$A:$E,4,0),Y70="Annual",VLOOKUP($O70,PM执行时间!$A:$E,5,0),Y70="","")} | AB70: {=_xlfn.IFS(AA70="Monthly",VLOOKUP($O70,PM执行时间!$A:$E,2,0),AA70="Quarterly",VLOOKUP($O70,PM执行时间!$A:$E,3,0),AA70="Semi-an",VLOOKUP($O70,PM执行时间!$A:$E,4,0),AA70="Annual",VLOOKUP($O70,PM执行时间!$A:$E,5,0),AA70="","")} | AC70: Annual | AD70: {=_xlfn.IFS(AC70="Monthly",VLOOKUP($O70,PM执行时间!$A:$E,2,0),AC70="Quarterly",VLOOKUP($O70,PM执行时间!$A:$E,3,0),AC70="Semi-an",VLOOKUP($O70,PM执行时间!$A:$E,4,0),AC70="Annual",VLOOKUP($O70,PM执行时间!$A:$E,5,0),AC70="","")} -> 1 | AF70: {=_xlfn.IFS(AE70="Monthly",VLOOKUP($O70,PM执行时间!$A:$E,2,0),AE70="Quarterly",VLOOKUP($O70,PM执行时间!$A:$E,3,0),AE70="Semi-an",VLOOKUP($O70,PM执行时间!$A:$E,4,0),AE70="Annual",VLOOKUP($O70,PM执行时间!$A:$E,5,0),AE70="","")} | AH70: {=_xlfn.IFS(AG70="Monthly",VLOOKUP($O70,PM执行时间!$A:$E,2,0),AG70="Quarterly",VLOOKUP($O70,PM执行时间!$A:$E,3,0),AG70="Semi-an",VLOOKUP($O70,PM执行时间!$A:$E,4,0),AG70="Annual",VLOOKUP($O70,PM执行时间!$A:$E,5,0),AG70="","")} | AJ70: {=_xlfn.IFS(AI70="Monthly",VLOOKUP($O70,PM执行时间!$A:$E,2,0),AI70="Quarterly",VLOOKUP($O70,PM执行时间!$A:$E,3,0),AI70="Semi-an",VLOOKUP($O70,PM执行时间!$A:$E,4,0),AI70="Annual",VLOOKUP($O70,PM执行时间!$A:$E,5,0),AI70="","")} | AL70: {=_xlfn.IFS(AK70="Monthly",VLOOKUP($O70,PM执行时间!$A:$E,2,0),AK70="Quarterly",VLOOKUP($O70,PM执行时间!$A:$E,3,0),AK70="Semi-an",VLOOKUP($O70,PM执行时间!$A:$E,4,0),AK70="Annual",VLOOKUP($O70,PM执行时间!$A:$E,5,0),AK70="","")} | AN70: {=_xlfn.IFS(AM70="Monthly",VLOOKUP($O70,PM执行时间!$A:$E,2,0),AM70="Quarterly",VLOOKUP($O70,PM执行时间!$A:$E,3,0),AM70="Semi-an",VLOOKUP($O70,PM执行时间!$A:$E,4,0),AM70="Annual",VLOOKUP($O70,PM执行时间!$A:$E,5,0),AM70="","")} | AO70: 44743
