Workbook

Sheet 变更记录
A1: 版本号 | B1: 变更内容 | C1: 变更日期 | D1: 变更人
B2: 增加变更记录页 | C2: 2023.1.31 | D2: zhu wenqiang
B3: OEM:增加新设备1256 PM计划 | C3: 2023.1.31 | D3: zhu wenqiang
B4: OEM:增加新设备1258 PM计划 | C4: 2023.1.31 | D4: zhu wenqiang
B5: OEM:增加新设备1259 PM计划 | C5: 2023.1.31 | D5: zhu wenqiang
B6: OEM:增加新设备1260 PM计划 | C6: 2023.1.31 | D6: zhu wenqiang
B7: OEM:增加新设备1261 PM计划 | C7: 2023.1.31 | D7: zhu wenqiang
B8: OEM:增加新设备1262 PM计划 | C8: 2023.1.31 | D8: zhu wenqiang
B9: OEM:取消报废设备678 PM计划(删除线) | C9: 2023.1.31 | D9: zhu wenqiang
B10: OEM:取消报废设备329 PM计划(删除线) | C10: 2023.1.31 | D10: zhu wenqiang
B11: KH:取消报废设备556 PM计划(删除线) | C11: 2023.1.31 | D11: zhu wenqiang
B12: KH:取消报废设备561 PM计划(删除线) | C12: 2023.1.31 | D12: zhu wenqiang
B13: KH:取消报废设备634 PM计划(删除线) | C13: 2023.1.31 | D13: zhu wenqiang
... B26: OEM增加新设备1303-1321 PM计划(1316除外) | C26: 2023.6.30 | D26: zhu wenqiang

Sheet KH设备PM计划
A1: KH设备 23/8 月PM计划 | Q1: SUM:h | R1: =SUBTOTAL(9,R3:R994) -> 18 | S1: SUM:h | T1: =SUBTOTAL(9,T3:T994) -> 47.27 | U1: SUM:h | V1: =SUBTOTAL(9,V3:V994) -> 18 | W1: SUM:h | X1: =SUBTOTAL(9,X3:X994) -> 18 | Y1: SUM:h | Z1: =SUBTOTAL(9,Z3:Z994) -> 58.27 | AA1: SUM:h | AB1: =SUBTOTAL(9,AB3:AB994) -> 18 | AC1: SUM:h | AD1: =SUBTOTAL(9,AD3:AD994) -> 18 | AE1: SUM:h | AF1: =SUBTOTAL(9,AF3:AF994) -> 63.68 | AG1: SUM:h | AH1: =SUBTOTAL(9,AH3:AH994) -> 18 | AI1: SUM:h | AJ1: =SUBTOTAL(9,AJ3:AJ994) -> 18 | AK1: SUM:h | AL1: =SUBTOTAL(9,AL3:AL994) -> 80.14 | AM1: SUM:h | AN1: =SUBTOTAL(9,AN3:AN994) -> 18
A2: No. 序号 | B2: 本月编号 | C2: PM人员 | D2: 设备编号 | E2: Equipment Name 设备名称 | F2: Model & Specification 型号规格 | G2: Manufacturer 制造厂家 | H2: Serial Number 出厂编号 | I2: Using Date 投产年月 | J2: 设备类别 | K2: Equipment Status 设备状态 | L2: Installation Location 安装地点 | M2: 出厂日期 | N2: 所属单元 | O2: PM文件号 | P2: PM频次 | Q2: 23/1月 | R2: PM:h | S2: 23/2月 | T2: PM:h | U2: 23/3月 | V2: PM:h | W2: 23/4月 | X2: PM:h | Y2: 23/5月 | Z2: PM:h | AA2: 23/6月 | AB2: PM:h | AC2: 23/7月 | AD2: PM:h | AE2: 23/8月 | AF2: PM:h | AG2: 22/9月 | AH2: PM:h | AI2: 22/10月 | AJ2: PM:h | AK2: 22/11月 | AL2: PM:h | AM2: 22/12月 | AN2: PM:h | AO2: 新PM起始月份 | AP2: 备注
A3: 1 | B3: =SUBTOTAL(3,G$3:G3)+0 -> 0 | D3: 50 | E3: 台式钻床 | F3: Z4116B | G3: 常州台钻厂 | H3: 35759 | I3: 1998 | J3: B类 | K3: 运行中 | L3: KH一楼北 | M3: N/A | N3: KH创伤单元 | O3: #N/A | R3: {=_xlfn.IFS(Q3="Monthly",VLOOKUP($O3,PM执行时间!$A:$E,2,0),Q3="Quarterly",VLOOKUP($O3,PM执行时间!$A:$E,3,0),Q3="Semi-an",VLOOKUP($O3,PM执行时间!$A:$E,4,0),Q3="Annual",VLOOKUP($O3,PM执行时间!$A:$E,5,0),Q3="","")} | T3: {=_xlfn.IFS(S3="Monthly",VLOOKUP($O3,PM执行时间!$A:$E,2,0),S3="Quarterly",VLOOKUP($O3,PM执行时间!$A:$E,3,0),S3="Semi-an",VLOOKUP($O3,PM执行时间!$A:$E,4,0),S3="Annual",VLOOKUP($O3,PM执行时间!$A:$E,5,0),S3="","")} | V3: {=_xlfn.IFS(U3="Monthly",VLOOKUP($O3,PM执行时间!$A:$E,2,0),U3="Quarterly",VLOOKUP($O3,PM执行时间!$A:$E,3,0),U3="Semi-an",VLOOKUP($O3,PM执行时间!$A:$E,4,0),U3="Annual",VLOOKUP($O3,PM执行时间!$A:$E,5,0),U3="","")} | X3: {=_xlfn.IFS(W3="Monthly",VLOOKUP($O3,PM执行时间!$A:$E,2,0),W3="Quarterly",VLOOKUP($O3,PM执行时间!$A:$E,3,0),W3="Semi-an",VLOOKUP($O3,PM执行时间!$A:$E,4,0),W3="Annual",VLOOKUP($O3,PM执行时间!$A:$E,5,0),W3="","")} | Z3: {=_xlfn.IFS(Y3="Monthly",VLOOKUP($O3,PM执行时间!$A:$E,2,0),Y3="Quarterly",VLOOKUP($O3,PM执行时间!$A:$E,3,0),Y3="Semi-an",VLOOKUP($O3,PM执行时间!$A:$E,4,0),Y3="Annual",VLOOKUP($O3,PM执行时间!$A:$E,5,0),Y3="","")} | AB3: {=_xlfn.IFS(AA3="Monthly",VLOOKUP($O3,PM执行时间!$A:$E,2,0),AA3="Quarterly",VLOOKUP($O3,PM执行时间!$A:$E,3,0),AA3="Semi-an",VLOOKUP($O3,PM执行时间!$A:$E,4,0),AA3="Annual",VLOOKUP($O3,PM执行时间!$A:$E,5,0),AA3="","")} | AD3: {=_xlfn.IFS(AC3="Monthly",VLOOKUP($O3,PM执行时间!$A:$E,2,0),AC3="Quarterly",VLOOKUP($O3,PM执行时间!$A:$E,3,0),AC3="Semi-an",VLOOKUP($O3,PM执行时间!$A:$E,4,0),AC3="Annual",VLOOKUP($O3,PM执行时间!$A:$E,5,0),AC3="","")} | AF3: {=_xlfn.IFS(AE3="Monthly",VLOOKUP($O3,PM执行时间!$A:$E,2,0),AE3="Quarterly",VLOOKUP($O3,PM执行时间!$A:$E,3,0),AE3="Semi-an",VLOOKUP($O3,PM执行时间!$A:$E,4,0),AE3="Annual",VLOOKUP($O3,PM执行时间!$A:$E,5,0),AE3="","")} | AH3: {=_xlfn.IFS(AG3="Monthly",VLOOKUP($O3,PM执行时间!$A:$E,2,0),AG3="Quarterly",VLOOKUP($O3,PM执行时间!$A:$E,3,0),AG3="Semi-an",VLOOKUP($O3,PM执行时间!$A:$E,4,0),AG3="Annual",VLOOKUP($O3,PM执行时间!$A:$E,5,0),AG3="","")} | AJ3: {=_xlfn.IFS(AI3="Monthly",VLOOKUP($O3,PM执行时间!$A:$E,2,0),AI3="Quarterly",VLOOKUP($O3,PM执行时间!$A:$E,3,0),AI3="Semi-an",VLOOKUP($O3,PM执行时间!$A:$E,4,0),AI3="Annual",VLOOKUP($O3,PM执行时间!$A:$E,5,0),AI3="","")} | AL3: {=_xlfn.IFS(AK3="Monthly",VLOOKUP($O3,PM执行时间!$A:$E,2,0),AK3="Quarterly",VLOOKUP($O3,PM执行时间!$A:$E,3,0),AK3="Semi-an",VLOOKUP($O3,PM执行时间!$A:$E,4,0),AK3="Annual",VLOOKUP($O3,PM执行时间!$A:$E,5,0),AK3="","")} | AN3: {=_xlfn.IFS(AM3="Monthly",VLOOKUP($O3,PM执行时间!$A:$E,2,0),AM3="Quarterly",VLOOKUP($O3,PM执行时间!$A:$E,3,0),AM3="Semi-an",VLOOKUP($O3,PM执行时间!$A:$E,4,0),AM3="Annual",VLOOKUP($O3,PM执行时间!$A:$E,5,0),AM3="","")}
A4: 2 | B4: =SUBTOTAL(3,G$3:G4)+0 -> 0 | D4: 55 | E4: 干燥箱 | F4: SX2-10-12.400*250*160 | G4: 上海实验电炉厂 | H4: 58 | I4: 35400 | J4: B类 | K4: 运行中 | L4: KH一楼北 | M4: 2019 | N4: KH创伤单元 | O4: WI-326-R02 | P4: 年 | R4: {=_xlfn.IFS(Q4="Monthly",VLOOKUP($O4,PM执行时间!$A:$E,2,0),Q4="Quarterly",VLOOKUP($O4,PM执行时间!$A:$E,3,0),Q4="Semi-an",VLOOKUP($O4,PM执行时间!$A:$E,4,0),Q4="Annual",VLOOKUP($O4,PM执行时间!$A:$E,5,0),Q4="","")} | T4: {=_xlfn.IFS(S4="Monthly",VLOOKUP($O4,PM执行时间!$A:$E,2,0),S4="Quarterly",VLOOKUP($O4,PM执行时间!$A:$E,3,0),S4="Semi-an",VLOOKUP($O4,PM执行时间!$A:$E,4,0),S4="Annual",VLOOKUP($O4,PM执行时间!$A:$E,5,0),S4="","")} | V4: {=_xlfn.IFS(U4="Monthly",VLOOKUP($O4,PM执行时间!$A:$E,2,0),U4="Quarterly",VLOOKUP($O4,PM执行时间!$A:$E,3,0),U4="Semi-an",VLOOKUP($O4,PM执行时间!$A:$E,4,0),U4="Annual",VLOOKUP($O4,PM执行时间!$A:$E,5,0),U4="","")} | X4: {=_xlfn.IFS(W4="Monthly",VLOOKUP($O4,PM执行时间!$A:$E,2,0),W4="Quarterly",VLOOKUP($O4,PM执行时间!$A:$E,3,0),W4="Semi-an",VLOOKUP($O4,PM执行时间!$A:$E,4,0),W4="Annual",VLOOKUP($O4,PM执行时间!$A:$E,5,0),W4="","")} | Z4: {=_xlfn.IFS(Y4="Monthly",VLOOKUP($O4,PM执行时间!$A:$E,2,0),Y4="Quarterly",VLOOKUP($O4,PM执行时间!$A:$E,3,0),Y4="Semi-an",VLOOKUP($O4,PM执行时间!$A:$E,4,0),Y4="Annual",VLOOKUP($O4,PM执行时间!$A:$E,5,0),Y4="","")} | AA4: Annual | AB4: {=_xlfn.IFS(AA4="Monthly",VLOOKUP($O4,PM执行时间!$A:$E,2,0),AA4="Quarterly",VLOOKUP($O4,PM执行时间!$A:$E,3,0),AA4="Semi-an",VLOOKUP($O4,PM执行时间!$A:$E,4,0),AA4="Annual",VLOOKUP($O4,PM执行时间!$A:$E,5,0),AA4="","")} -> 1 | AD4: {=_xlfn.IFS(AC4="Monthly",VLOOKUP($O4,PM执行时间!$A:$E,2,0),AC4="Quarterly",VLOOKUP($O4,PM执行时间!$A:$E,3,0),AC4="Semi-an",VLOOKUP($O4,PM执行时间!$A:$E,4,0),AC4="Annual",VLOOKUP($O4,PM执行时间!$A:$E,5,0),AC4="","")} | AF4: {=_xlfn.IFS(AE4="Monthly",VLOOKUP($O4,PM执行时间!$A:$E,2,0),AE4="Quarterly",VLOOKUP($O4,PM执行时间!$A:$E,3,0),AE4="Semi-an",VLOOKUP($O4,PM执行时间!$A:$E,4,0),AE4="Annual",VLOOKUP($O4,PM执行时间!$A:$E,5,0),AE4="","")} | AH4: {=_xlfn.IFS(AG4="Monthly",VLOOKUP($O4,PM执行时间!$A:$E,2,0),AG4="Quarterly",VLOOKUP($O4,PM执行时间!$A:$E,3,0),AG4="Semi-an",VLOOKUP($O4,PM执行时间!$A:$E,4,0),AG4="Annual",VLOOKUP($O4,PM执行时间!$A:$E,5,0),AG4="","")} | AJ4: {=_xlfn.IFS(AI4="Monthly",VLOOKUP($O4,PM执行时间!$A:$E,2,0),AI4="Quarterly",VLOOKUP($O4,PM执行时间!$A:$E,3,0),AI4="Semi-an",VLOOKUP($O4,PM执行时间!$A:$E,4,0),AI4="Annual",VLOOKUP($O4,PM执行时间!$A:$E,5,0),AI4="","")} | AL4: {=_xlfn.IFS(AK4="Monthly",VLOOKUP($O4,PM执行时间!$A:$E,2,0),AK4="Quarterly",VLOOKUP($O4,PM执行时间!$A:$E,3,0),AK4="Semi-an",VLOOKUP($O4,PM执行时间!$A:$E,4,0),AK4="Annual",VLOOKUP($O4,PM执行时间!$A:$E,5,0),AK4="","")} | AN4: {=_xlfn.IFS(AM4="Monthly",VLOOKUP($O4,PM执行时间!$A:$E,2,0),AM4="Quarterly",VLOOKUP($O4,PM执行时间!$A:$E,3,0),AM4="Semi-an",VLOOKUP($O4,PM执行时间!$A:$E,4,0),AM4="Annual",VLOOKUP($O4,PM执行时间!$A:$E,5,0),AM4="","")} | AO4: 44713
A5: 3 | B5: =SUBTOTAL(3,G$3:G5)+0 -> 0 | D5: 86 | E5: 抛光机 | F5: 2M4150-500 | G5: 江苏如东机床厂 | H5: 无 | I5: 36861 | J5: B类 | K5: 运行中 | L5: KH一楼北 | M5: N/A | N5: KH创伤单元 | O5: WI-012-R02 | P5: 年 | R5: {=_xlfn.IFS(Q5="Monthly",VLOOKUP($O5,PM执行时间!$A:$E,2,0),Q5="Quarterly",VLOOKUP($O5,PM执行时间!$A:$E,3,0),Q5="Semi-an",VLOOKUP($O5,PM执行时间!$A:$E,4,0),Q5="Annual",VLOOKUP($O5,PM执行时间!$A:$E,5,0),Q5="","")} | T5: {=_xlfn.IFS(S5="Monthly",VLOOKUP($O5,PM执行时间!$A:$E,2,0),S5="Quarterly",VLOOKUP($O5,PM执行时间!$A:$E,3,0),S5="Semi-an",VLOOKUP($O5,PM执行时间!$A:$E,4,0),S5="Annual",VLOOKUP($O5,PM执行时间!$A:$E,5,0),S5="","")} | V5: {=_xlfn.IFS(U5="Monthly",VLOOKUP($O5,PM执行时间!$A:$E,2,0),U5="Quarterly",VLOOKUP($O5,PM执行时间!$A:$E,3,0),U5="Semi-an",VLOOKUP($O5,PM执行时间!$A:$E,4,0),U5="Annual",VLOOKUP($O5,PM执行时间!$A:$E,5,0),U5="","")} | X5: {=_xlfn.IFS(W5="Monthly",VLOOKUP($O5,PM执行时间!$A:$E,2,0),W5="Quarterly",VLOOKUP($O5,PM执行时间!$A:$E,3,0),W5="Semi-an",VLOOKUP($O5,PM执行时间!$A:$E,4,0),W5="Annual",VLOOKUP($O5,PM执行时间!$A:$E,5,0),W5="","")} | Z5: {=_xlfn.IFS(Y5="Monthly",VLOOKUP($O5,PM执行时间!$A:$E,2,0),Y5="Quarterly",VLOOKUP($O5,PM执行时间!$A:$E,3,0),Y5="Semi-an",VLOOKUP($O5,PM执行时间!$A:$E,4,0),Y5="Annual",VLOOKUP($O5,PM执行时间!$A:$E,5,0),Y5="","")} | AB5: {=_xlfn.IFS(AA5="Monthly",VLOOKUP($O5,PM执行时间!$A:$E,2,0),AA5="Quarterly",VLOOKUP($O5,PM执行时间!$A:$E,3,0),AA5="Semi-an",VLOOKUP($O5,PM执行时间!$A:$E,4,0),AA5="Annual",VLOOKUP($O5,PM执行时间!$A:$E,5,0),AA5="","")} | AC5: Annual | AD5: {=_xlfn.IFS(AC5="Monthly",VLOOKUP($O5,PM执行时间!$A:$E,2,0),AC5="Quarterly",VLOOKUP($O5,PM执行时间!$A:$E,3,0),AC5="Semi-an",VLOOKUP($O5,PM执行时间!$A:$E,4,0),AC5="Annual",VLOOKUP($O5,PM执行时间!$A:$E,5,0),AC5="","")} -> 1 | AF5: {=_xlfn.IFS(AE5="Monthly",VLOOKUP($O5,PM执行时间!$A:$E,2,0),AE5="Quarterly",VLOOKUP($O5,PM执行时间!$A:$E,3,0),AE5="Semi-an",VLOOKUP($O5,PM执行时间!$A:$E,4,0),AE5="Annual",VLOOKUP($O5,PM执行时间!$A:$E,5,0),AE5="","")} | AH5: {=_xlfn.IFS(AG5="Monthly",VLOOKUP($O5,PM执行时间!$A:$E,2,0),AG5="Quarterly",VLOOKUP($O5,PM执行时间!$A:$E,3,0),AG5="Semi-an",VLOOKUP($O5,PM执行时间!$A:$E,4,0),AG5="Annual",VLOOKUP($O5,PM执行时间!$A:$E,5,0),AG5="","")} | AJ5: {=_xlfn.IFS(AI5="Monthly",VLOOKUP($O5,PM执行时间!$A:$E,2,0),AI5="Quarterly",VLOOKUP($O5,PM执行时间!$A:$E,3,0),AI5="Semi-an",VLOOKUP($O5,PM执行时间!$A:$E,4,0),AI5="Annual",VLOOKUP($O5,PM执行时间!$A:$E,5,0),AI5="","")} | AL5: {=_xlfn.IFS(AK5="Monthly",VLOOKUP($O5,PM执行时间!$A:$E,2,0),AK5="Quarterly",VLOOKUP($O5,PM执行时间!$A:$E,3,0),AK5="Semi-an",VLOOKUP($O5,PM执行时间!$A:$E,4,0),AK5="Annual",VLOOKUP($O5,PM执行时间!$A:$E,5,0),AK5="","")} | AN5: {=_xlfn.IFS(AM5="Monthly",VLOOKUP($O5,PM执行时间!$A:$E,2,0),AM5="Quarterly",VLOOKUP($O5,PM执行时间!$A:$E,3,0),AM5="Semi-an",VLOOKUP($O5,PM执行时间!$A:$E,4,0),AM5="Annual",VLOOKUP($O5,PM执行时间!$A:$E,5,0),AM5="","")} | AO5: 44743
A6: 4 | B6: =SUBTOTAL(3,G$3:G6)+0 -> 0 | D6: 99 | E6: 方柱立式钻床 | F6: Z5125A-25 | G6: 常州机床厂 | H6: 1023 | I6: 37073 | J6: B类 | K6: 运行中 | L6: KH二楼器械单元 | M6: N/A | N6: KH器械单元 | O6: #N/A | R6: {=_xlfn.IFS(Q6="Monthly",VLOOKUP($O6,PM执行时间!$A:$E,2,0),Q6="Quarterly",VLOOKUP($O6,PM执行时间!$A:$E,3,0),Q6="Semi-an",VLOOKUP($O6,PM执行时间!$A:$E,4,0),Q6="Annual",VLOOKUP($O6,PM执行时间!$A:$E,5,0),Q6="","")} | T6: {=_xlfn.IFS(S6="Monthly",VLOOKUP($O6,PM执行时间!$A:$E,2,0),S6="Quarterly",VLOOKUP($O6,PM执行时间!$A:$E,3,0),S6="Semi-an",VLOOKUP($O6,PM执行时间!$A:$E,4,0),S6="Annual",VLOOKUP($O6,PM执行时间!$A:$E,5,0),S6="","")} | V6: {=_xlfn.IFS(U6="Monthly",VLOOKUP($O6,PM执行时间!$A:$E,2,0),U6="Quarterly",VLOOKUP($O6,PM执行时间!$A:$E,3,0),U6="Semi-an",VLOOKUP($O6,PM执行时间!$A:$E,4,0),U6="Annual",VLOOKUP($O6,PM执行时间!$A:$E,5,0),U6="","")} | X6: {=_xlfn.IFS(W6="Monthly",VLOOKUP($O6,PM执行时间!$A:$E,2,0),W6="Quarterly",VLOOKUP($O6,PM执行时间!$A:$E,3,0),W6="Semi-an",VLOOKUP($O6,PM执行时间!$A:$E,4,0),W6="Annual",VLOOKUP($O6,PM执行时间!$A:$E,5,0),W6="","")} | Z6: {=_xlfn.IFS(Y6="Monthly",VLOOKUP($O6,PM执行时间!$A:$E,2,0),Y6="Quarterly",VLOOKUP($O6,PM执行时间!$A:$E,3,0),Y6="Semi-an",VLOOKUP($O6,PM执行时间!$A:$E,4,0),Y6="Annual",VLOOKUP($O6,PM执行时间!$A:$E,5,0),Y6="","")} | AB6: {=_xlfn.IFS(AA6="Monthly",VLOOKUP($O6,PM执行时间!$A:$E,2,0),AA6="Quarterly",VLOOKUP($O6,PM执行时间!$A:$E,3,0),AA6="Semi-an",VLOOKUP($O6,PM执行时间!$A:$E,4,0),AA6="Annual",VLOOKUP($O6,PM执行时间!$A:$E,5,0),AA6="","")} | AD6: {=_xlfn.IFS(AC6="Monthly",VLOOKUP($O6,PM执行时间!$A:$E,2,0),AC6="Quarterly",VLOOKUP($O6,PM执行时间!$A:$E,3,0),AC6="Semi-an",VLOOKUP($O6,PM执行时间!$A:$E,4,0),AC6="Annual",VLOOKUP($O6,PM执行时间!$A:$E,5,0),AC6="","")} | AF6: {=_xlfn.IFS(AE6="Monthly",VLOOKUP($O6,PM执行时间!$A:$E,2,0),AE6="Quarterly",VLOOKUP($O6,PM执行时间!$A:$E,3,0),AE6="Semi-an",VLOOKUP($O6,PM执行时间!$A:$E,4,0),AE6="Annual",VLOOKUP($O6,PM执行时间!$A:$E,5,0),AE6="","")} | AH6: {=_xlfn.IFS(AG6="Monthly",VLOOKUP($O6,PM执行时间!$A:$E,2,0),AG6="Quarterly",VLOOKUP($O6,PM执行时间!$A:$E,3,0),AG6="Semi-an",VLOOKUP($O6,PM执行时间!$A:$E,4,0),AG6="Annual",VLOOKUP($O6,PM执行时间!$A:$E,5,0),AG6="","")} | AJ6: {=_xlfn.IFS(AI6="Monthly",VLOOKUP($O6,PM执行时间!$A:$E,2,0),AI6="Quarterly",VLOOKUP($O6,PM执行时间!$A:$E,3,0),AI6="Semi-an",VLOOKUP($O6,PM执行时间!$A:$E,4,0),AI6="Annual",VLOOKUP($O6,PM执行时间!$A:$E,5,0),AI6="","")} | AL6: {=_xlfn.IFS(AK6="Monthly",VLOOKUP($O6,PM执行时间!$A:$E,2,0),AK6="Quarterly",VLOOKUP($O6,PM执行时间!$A:$E,3,0),AK6="Semi-an",VLOOKUP($O6,PM执行时间!$A:$E,4,0),AK6="Annual",VLOOKUP($O6,PM执行时间!$A:$E,5,0),AK6="","")} | AN6: {=_xlfn.IFS(AM6="Monthly",VLOOKUP($O6,PM执行时间!$A:$E,2,0),AM6="Quarterly",VLOOKUP($O6,PM执行时间!$A:$E,3,0),AM6="Semi-an",VLOOKUP($O6,PM执行时间!$A:$E,4,0),AM6="Annual",VLOOKUP($O6,PM执行时间!$A:$E,5,0),AM6="","")}
A7: 5 | B7: =SUBTOTAL(3,G$3:G7)+0 -> 0 | D7: 119 | E7: 台式钻床 | F7: Z4116B | G7: 常州台钻厂 | H7: 33181 | I7: 37257 | J7: B类 | K7: 运行中 | L7: KH二楼器械单元 | M7: N/A | N7: KH器械单元 | O7: #N/A | R7: {=_xlfn.IFS(Q7="Monthly",VLOOKUP($O7,PM执行时间!$A:$E,2,0),Q7="Quarterly",VLOOKUP($O7,PM执行时间!$A:$E,3,0),Q7="Semi-an",VLOOKUP($O7,PM执行时间!$A:$E,4,0),Q7="Annual",VLOOKUP($O7,PM执行时间!$A:$E,5,0),Q7="","")} | T7: {=_xlfn.IFS(S7="Monthly",VLOOKUP($O7,PM执行时间!$A:$E,2,0),S7="Quarterly",VLOOKUP($O7,PM执行时间!$A:$E,3,0),S7="Semi-an",VLOOKUP($O7,PM执行时间!$A:$E,4,0),S7="Annual",VLOOKUP($O7,PM执行时间!$A:$E,5,0),S7="","")} | V7: {=_xlfn.IFS(U7="Monthly",VLOOKUP($O7,PM执行时间!$A:$E,2,0),U7="Quarterly",VLOOKUP($O7,PM执行时间!$A:$E,3,0),U7="Semi-an",VLOOKUP($O7,PM执行时间!$A:$E,4,0),U7="Annual",VLOOKUP($O7,PM执行时间!$A:$E,5,0),U7="","")} | X7: {=_xlfn.IFS(W7="Monthly",VLOOKUP($O7,PM执行时间!$A:$E,2,0),W7="Quarterly",VLOOKUP($O7,PM执行时间!$A:$E,3,0),W7="Semi-an",VLOOKUP($O7,PM执行时间!$A:$E,4,0),W7="Annual",VLOOKUP($O7,PM执行时间!$A:$E,5,0),W7="","")} | Z7: {=_xlfn.IFS(Y7="Monthly",VLOOKUP($O7,PM执行时间!$A:$E,2,0),Y7="Quarterly",VLOOKUP($O7,PM执行时间!$A:$E,3,0),Y7="Semi-an",VLOOKUP($O7,PM执行时间!$A:$E,4,0),Y7="Annual",VLOOKUP($O7,PM执行时间!$A:$E,5,0),Y7="","")} | AB7: {=_xlfn.IFS(AA7="Monthly",VLOOKUP($O7,PM执行时间!$A:$E,2,0),AA7="Quarterly",VLOOKUP($O7,PM执行时间!$A:$E,3,0),AA7="Semi-an",VLOOKUP($O7,PM执行时间!$A:$E,4,0),AA7="Annual",VLOOKUP($O7,PM执行时间!$A:$E,5,0),AA7="","")} | AD7: {=_xlfn.IFS(AC7="Monthly",VLOOKUP($O7,PM执行时间!$A:$E,2,0),AC7="Quarterly",VLOOKUP($O7,PM执行时间!$A:$E,3,0),AC7="Semi-an",VLOOKUP($O7,PM执行时间!$A:$E,4,0),AC7="Annual",VLOOKUP($O7,PM执行时间!$A:$E,5,0),AC7="","")} | AF7: {=_xlfn.IFS(AE7="Monthly",VLOOKUP($O7,PM执行时间!$A:$E,2,0),AE7="Quarterly",VLOOKUP($O7,PM执行时间!$A:$E,3,0),AE7="Semi-an",VLOOKUP($O7,PM执行时间!$A:$E,4,0),AE7="Annual",VLOOKUP($O7,PM执行时间!$A:$E,5,0),AE7="","")} | AH7: {=_xlfn.IFS(AG7="Monthly",VLOOKUP($O7,PM执行时间!$A:$E,2,0),AG7="Quarterly",VLOOKUP($O7,PM执行时间!$A:$E,3,0),AG7="Semi-an",VLOOKUP($O7,PM执行时间!$A:$E,4,0),AG7="Annual",VLOOKUP($O7,PM执行时间!$A:$E,5,0),AG7="","")} | AJ7: {=_xlfn.IFS(AI7="Monthly",VLOOKUP($O7,PM执行时间!$A:$E,2,0),AI7="Quarterly",VLOOKUP($O7,PM执行时间!$A:$E,3,0),AI7="Semi-an",VLOOKUP($O7,PM执行时间!$A:$E,4,0),AI7="Annual",VLOOKUP($O7,PM执行时间!$A:$E,5,0),AI7="","")} | AL7: {=_xlfn.IFS(AK7="Monthly",VLOOKUP($O7,PM执行时间!$A:$E,2,0),AK7="Quarterly",VLOOKUP($O7,PM执行时间!$A:$E,3,0),AK7="Semi-an",VLOOKUP($O7,PM执行时间!$A:$E,4,0),AK7="Annual",VLOOKUP($O7,PM执行时间!$A:$E,5,0),AK7="","")} | AN7: {=_xlfn.IFS(AM7="Monthly",VLOOKUP($O7,PM执行时间!$A:$E,2,0),AM7="Quarterly",VLOOKUP($O7,PM执行时间!$A:$E,3,0),AM7="Semi-an",VLOOKUP($O7,PM执行时间!$A:$E,4,0),AM7="Annual",VLOOKUP($O7,PM执行时间!$A:$E,5,0),AM7="","")}
A8: 6 | B8: =SUBTOTAL(3,G$3:G8)+0 -> 0 | D8: 121 | E8: 研磨机 | F8: XMW36 | G8: 无锡精工光饰材料厂 | H8: 415 | I8: 37438 | J8: B类 | K8: 运行中 | L8: KH一楼北 | M8: 37653 | N8: KH脊柱单元 | O8: WI-012-R02 | P8: 年 | R8: {=_xlfn.IFS(Q8="Monthly",VLOOKUP($O8,PM执行时间!$A:$E,2,0),Q8="Quarterly",VLOOKUP($O8,PM执行时间!$A:$E,3,0),Q8="Semi-an",VLOOKUP($O8,PM执行时间!$A:$E,4,0),Q8="Annual",VLOOKUP($O8,PM执行时间!$A:$E,5,0),Q8="","")} | T8: {=_xlfn.IFS(S8="Monthly",VLOOKUP($O8,PM执行时间!$A:$E,2,0),S8="Quarterly",VLOOKUP($O8,PM执行时间!$A:$E,3,0),S8="Semi-an",VLOOKUP($O8,PM执行时间!$A:$E,4,0),S8="Annual",VLOOKUP($O8,PM执行时间!$A:$E,5,0),S8="","")} | V8: {=_xlfn.IFS(U8="Monthly",VLOOKUP($O8,PM执行时间!$A:$E,2,0),U8="Quarterly",VLOOKUP($O8,PM执行时间!$A:$E,3,0),U8="Semi-an",VLOOKUP($O8,PM执行时间!$A:$E,4,0),U8="Annual",VLOOKUP($O8,PM执行时间!$A:$E,5,0),U8="","")} | X8: {=_xlfn.IFS(W8="Monthly",VLOOKUP($O8,PM执行时间!$A:$E,2,0),W8="Quarterly",VLOOKUP($O8,PM执行时间!$A:$E,3,0),W8="Semi-an",VLOOKUP($O8,PM执行时间!$A:$E,4,0),W8="Annual",VLOOKUP($O8,PM执行时间!$A:$E,5,0),W8="","")} | Z8: {=_xlfn.IFS(Y8="Monthly",VLOOKUP($O8,PM执行时间!$A:$E,2,0),Y8="Quarterly",VLOOKUP($O8,PM执行时间!$A:$E,3,0),Y8="Semi-an",VLOOKUP($O8,PM执行时间!$A:$E,4,0),Y8="Annual",VLOOKUP($O8,PM执行时间!$A:$E,5,0),Y8="","")} | AB8: {=_xlfn.IFS(AA8="Monthly",VLOOKUP($O8,PM执行时间!$A:$E,2,0),AA8="Quarterly",VLOOKUP($O8,PM执行时间!$A:$E,3,0),AA8="Semi-an",VLOOKUP($O8,PM执行时间!$A:$E,4,0),AA8="Annual",VLOOKUP($O8,PM执行时间!$A:$E,5,0),AA8="","")} | AD8: {=_xlfn.IFS(AC8="Monthly",VLOOKUP($O8,PM执行时间!$A:$E,2,0),AC8="Quarterly",VLOOKUP($O8,PM执行时间!$A:$E,3,0),AC8="Semi-an",VLOOKUP($O8,PM执行时间!$A:$E,4,0),AC8="Annual",VLOOKUP($O8,PM执行时间!$A:$E,5,0),AC8="","")} | AF8: {=_xlfn.IFS(AE8="Monthly",VLOOKUP($O8,PM执行时间!$A:$E,2,0),AE8="Quarterly",VLOOKUP($O8,PM执行时间!$A:$E,3,0),AE8="Semi-an",VLOOKUP($O8,PM执行时间!$A:$E,4,0),AE8="Annual",VLOOKUP($O8,PM执行时间!$A:$E,5,0),AE8="","")} | AH8: {=_xlfn.IFS(AG8="Monthly",VLOOKUP($O8,PM执行时间!$A:$E,2,0),AG8="Quarterly",VLOOKUP($O8,PM执行时间!$A:$E,3,0),AG8="Semi-an",VLOOKUP($O8,PM执行时间!$A:$E,4,0),AG8="Annual",VLOOKUP($O8,PM执行时间!$A:$E,5,0),AG8="","")} | AI8: Annual | AJ8: {=_xlfn.IFS(AI8="Monthly",VLOOKUP($O8,PM执行时间!$A:$E,2,0),AI8="Quarterly",VLOOKUP($O8,PM执行时间!$A:$E,3,0),AI8="Semi-an",VLOOKUP($O8,PM执行时间!$A:$E,4,0),AI8="Annual",VLOOKUP($O8,PM执行时间!$A:$E,5,0),AI8="","")} -> 1 | AL8: {=_xlfn.IFS(AK8="Monthly",VLOOKUP($O8,PM执行时间!$A:$E,2,0),AK8="Quarterly",VLOOKUP($O8,PM执行时间!$A:$E,3,0),AK8="Semi-an",VLOOKUP($O8,PM执行时间!$A:$E,4,0),AK8="Annual",VLOOKUP($O8,PM执行时间!$A:$E,5,0),AK8="","")} | AN8: {=_xlfn.IFS(AM8="Monthly",VLOOKUP($O8,PM执行时间!$A:$E,2,0),AM8="Quarterly",VLOOKUP($O8,PM执行时间!$A:$E,3,0),AM8="Semi-an",VLOOKUP($O8,PM执行时间!$A:$E,4,0),AM8="Annual",VLOOKUP($O8,PM执行时间!$A:$E,5,0),AM8="","")} | AO8: 44835
A9: 7 | B9: =SUBTOTAL(3,G$3:G9)+0 -> 0 | D9: 129 | E9: 普铣 | F9: X6325 | G9: 南通机床厂 | H9: 28551 | J9: B类 | K9: 运行中 | L9: 5206 | M9: N/A | N9: 5206 | O9: WI-019-R02 | R9: {=_xlfn.IFS(Q9="Monthly",VLOOKUP($O9,PM执行时间!$A:$E,2,0),Q9="Quarterly",VLOOKUP($O9,PM执行时间!$A:$E,3,0),Q9="Semi-an",VLOOKUP($O9,PM执行时间!$A:$E,4,0),Q9="Annual",VLOOKUP($O9,PM执行时间!$A:$E,5,0),Q9="","")} | T9: {=_xlfn.IFS(S9="Monthly",VLOOKUP($O9,PM执行时间!$A:$E,2,0),S9="Quarterly",VLOOKUP($O9,PM执行时间!$A:$E,3,0),S9="Semi-an",VLOOKUP($O9,PM执行时间!$A:$E,4,0),S9="Annual",VLOOKUP($O9,PM执行时间!$A:$E,5,0),S9="","")} | V9: {=_xlfn.IFS(U9="Monthly",VLOOKUP($O9,PM执行时间!$A:$E,2,0),U9="Quarterly",VLOOKUP($O9,PM执行时间!$A:$E,3,0),U9="Semi-an",VLOOKUP($O9,PM执行时间!$A:$E,4,0),U9="Annual",VLOOKUP($O9,PM执行时间!$A:$E,5,0),U9="","")} | X9: {=_xlfn.IFS(W9="Monthly",VLOOKUP($O9,PM执行时间!$A:$E,2,0),W9="Quarterly",VLOOKUP($O9,PM执行时间!$A:$E,3,0),W9="Semi-an",VLOOKUP($O9,PM执行时间!$A:$E,4,0),W9="Annual",VLOOKUP($O9,PM执行时间!$A:$E,5,0),W9="","")} | Z9: {=_xlfn.IFS(Y9="Monthly",VLOOKUP($O9,PM执行时间!$A:$E,2,0),Y9="Quarterly",VLOOKUP($O9,PM执行时间!$A:$E,3,0),Y9="Semi-an",VLOOKUP($O9,PM执行时间!$A:$E,4,0),Y9="Annual",VLOOKUP($O9,PM执行时间!$A:$E,5,0),Y9="","")} | AB9: {=_xlfn.IFS(AA9="Monthly",VLOOKUP($O9,PM执行时间!$A:$E,2,0),AA9="Quarterly",VLOOKUP($O9,PM执行时间!$A:$E,3,0),AA9="Semi-an",VLOOKUP($O9,PM执行时间!$A:$E,4,0),AA9="Annual",VLOOKUP($O9,PM执行时间!$A:$E,5,0),AA9="","")} | AD9: {=_xlfn.IFS(AC9="Monthly",VLOOKUP($O9,PM执行时间!$A:$E,2,0),AC9="Quarterly",VLOOKUP($O9,PM执行时间!$A:$E,3,0),AC9="Semi-an",VLOOKUP($O9,PM执行时间!$A:$E,4,0),AC9="Annual",VLOOKUP($O9,PM执行时间!$A:$E,5,0),AC9="","")} | AF9: {=_xlfn.IFS(AE9="Monthly",VLOOKUP($O9,PM执行时间!$A:$E,2,0),AE9="Quarterly",VLOOKUP($O9,PM执行时间!$A:$E,3,0),AE9="Semi-an",VLOOKUP($O9,PM执行时间!$A:$E,4,0),AE9="Annual",VLOOKUP($O9,PM执行时间!$A:$E,5,0),AE9="","")} | AH9: {=_xlfn.IFS(AG9="Monthly",VLOOKUP($O9,PM执行时间!$A:$E,2,0),AG9="Quarterly",VLOOKUP($O9,PM执行时间!$A:$E,3,0),AG9="Semi-an",VLOOKUP($O9,PM执行时间!$A:$E,4,0),AG9="Annual",VLOOKUP($O9,PM执行时间!$A:$E,5,0),AG9="","")} | AJ9: {=_xlfn.IFS(AI9="Monthly",VLOOKUP($O9,PM执行时间!$A:$E,2,0),AI9="Quarterly",VLOOKUP($O9,PM执行时间!$A:$E,3,0),AI9="Semi-an",VLOOKUP($O9,PM执行时间!$A:$E,4,0),AI9="Annual",VLOOKUP($O9,PM执行时间!$A:$E,5,0),AI9="","")} | AL9: {=_xlfn.IFS(AK9="Monthly",VLOOKUP($O9,PM执行时间!$A:$E,2,0),AK9="Quarterly",VLOOKUP($O9,PM执行时间!$A:$E,3,0),AK9="Semi-an",VLOOKUP($O9,PM执行时间!$A:$E,4,0),AK9="Annual",VLOOKUP($O9,PM执行时间!$A:$E,5,0),AK9="","")} | AN9: {=_xlfn.IFS(AM9="Monthly",VLOOKUP($O9,PM执行时间!$A:$E,2,0),AM9="Quarterly",VLOOKUP($O9,PM执行时间!$A:$E,3,0),AM9="Semi-an",VLOOKUP($O9,PM执行时间!$A:$E,4,0),AM9="Annual",VLOOKUP($O9,PM执行时间!$A:$E,5,0),AM9="","")}
A10: 8 | B10: =SUBTOTAL(3,G$3:G10)+0 -> 0 | D10: 171 | E10: 普车 | G10: /// | I10: 42736 | J10: B类 | K10: 运行中 | L10: 5206 | M10: N/A | N10: 5206 | O10: WI-011-R02 | R10: {=_xlfn.IFS(Q10="Monthly",VLOOKUP($O10,PM执行时间!$A:$E,2,0),Q10="Quarterly",VLOOKUP($O10,PM执行时间!$A:$E,3,0),Q10="Semi-an",VLOOKUP($O10,PM执行时间!$A:$E,4,0),Q10="Annual",VLOOKUP($O10,PM执行时间!$A:$E,5,0),Q10="","")} | T10: {=_xlfn.IFS(S10="Monthly",VLOOKUP($O10,PM执行时间!$A:$E,2,0),S10="Quarterly",VLOOKUP($O10,PM执行时间!$A:$E,3,0),S10="Semi-an",VLOOKUP($O10,PM执行时间!$A:$E,4,0),S10="Annual",VLOOKUP($O10,PM执行时间!$A:$E,5,0),S10="","")} | V10: {=_xlfn.IFS(U10="Monthly",VLOOKUP($O10,PM执行时间!$A:$E,2,0),U10="Quarterly",VLOOKUP($O10,PM执行时间!$A:$E,3,0),U10="Semi-an",VLOOKUP($O10,PM执行时间!$A:$E,4,0),U10="Annual",VLOOKUP($O10,PM执行时间!$A:$E,5,0),U10="","")} | X10: {=_xlfn.IFS(W10="Monthly",VLOOKUP($O10,PM执行时间!$A:$E,2,0),W10="Quarterly",VLOOKUP($O10,PM执行时间!$A:$E,3,0),W10="Semi-an",VLOOKUP($O10,PM执行时间!$A:$E,4,0),W10="Annual",VLOOKUP($O10,PM执行时间!$A:$E,5,0),W10="","")} | Z10: {=_xlfn.IFS(Y10="Monthly",VLOOKUP($O10,PM执行时间!$A:$E,2,0),Y10="Quarterly",VLOOKUP($O10,PM执行时间!$A:$E,3,0),Y10="Semi-an",VLOOKUP($O10,PM执行时间!$A:$E,4,0),Y10="Annual",VLOOKUP($O10,PM执行时间!$A:$E,5,0),Y10="","")} | AB10: {=_xlfn.IFS(AA10="Monthly",VLOOKUP($O10,PM执行时间!$A:$E,2,0),AA10="Quarterly",VLOOKUP($O10,PM执行时间!$A:$E,3,0),AA10="Semi-an",VLOOKUP($O10,PM执行时间!$A:$E,4,0),AA10="Annual",VLOOKUP($O10,PM执行时间!$A:$E,5,0),AA10="","")} | AD10: {=_xlfn.IFS(AC10="Monthly",VLOOKUP($O10,PM执行时间!$A:$E,2,0),AC10="Quarterly",VLOOKUP($O10,PM执行时间!$A:$E,3,0),AC10="Semi-an",VLOOKUP($O10,PM执行时间!$A:$E,4,0),AC10="Annual",VLOOKUP($O10,PM执行时间!$A:$E,5,0),AC10="","")} | AF10: {=_xlfn.IFS(AE10="Monthly",VLOOKUP($O10,PM执行时间!$A:$E,2,0),AE10="Quarterly",VLOOKUP($O10,PM执行时间!$A:$E,3,0),AE10="Semi-an",VLOOKUP($O10,PM执行时间!$A:$E,4,0),AE10="Annual",VLOOKUP($O10,PM执行时间!$A:$E,5,0),AE10="","")} | AH10: {=_xlfn.IFS(AG10="Monthly",VLOOKUP($O10,PM执行时间!$A:$E,2,0),AG10="Quarterly",VLOOKUP($O10,PM执行时间!$A:$E,3,0),AG10="Semi-an",VLOOKUP($O10,PM执行时间!$A:$E,4,0),AG10="Annual",VLOOKUP($O10,PM执行时间!$A:$E,5,0),AG10="","")} | AJ10: {=_xlfn.IFS(AI10="Monthly",VLOOKUP($O10,PM执行时间!$A:$E,2,0),AI10="Quarterly",VLOOKUP($O10,PM执行时间!$A:$E,3,0),AI10="Semi-an",VLOOKUP($O10,PM执行时间!$A:$E,4,0),AI10="Annual",VLOOKUP($O10,PM执行时间!$A:$E,5,0),AI10="","")} | AL10: {=_xlfn.IFS(AK10="Monthly",VLOOKUP($O10,PM执行时间!$A:$E,2,0),AK10="Quarterly",VLOOKUP($O10,PM执行时间!$A:$E,3,0),AK10="Semi-an",VLOOKUP($O10,PM执行时间!$A:$E,4,0),AK10="Annual",VLOOKUP($O10,PM执行时间!$A:$E,5,0),AK10="","")} | AN10: {=_xlfn.IFS(AM10="Monthly",VLOOKUP($O10,PM执行时间!$A:$E,2,0),AM10="Quarterly",VLOOKUP($O10,PM执行时间!$A:$E,3,0),AM10="Semi-an",VLOOKUP($O10,PM执行时间!$A:$E,4,0),AM10="Annual",VLOOKUP($O10,PM执行时间!$A:$E,5,0),AM10="","")}
A11: 9 | B11: =SUBTOTAL(3,G$3:G11)+0 -> 0 | D11: 173 | E11: 抛光机 | G11: 富伟 | I11: 44228 | J11: B类 | K11: 运行中 | L11: KH一楼北 | M11: N/A | N11: KH创伤单元 | O11: WI-012-R02 | P11: 年 | R11: {=_xlfn.IFS(Q11="Monthly",VLOOKUP($O11,PM执行时间!$A:$E,2,0),Q11="Quarterly",VLOOKUP($O11,PM执行时间!$A:$E,3,0),Q11="Semi-an",VLOOKUP($O11,PM执行时间!$A:$E,4,0),Q11="Annual",VLOOKUP($O11,PM执行时间!$A:$E,5,0),Q11="","")} | T11: {=_xlfn.IFS(S11="Monthly",VLOOKUP($O11,PM执行时间!$A:$E,2,0),S11="Quarterly",VLOOKUP($O11,PM执行时间!$A:$E,3,0),S11="Semi-an",VLOOKUP($O11,PM执行时间!$A:$E,4,0),S11="Annual",VLOOKUP($O11,PM执行时间!$A:$E,5,0),S11="","")} | V11: {=_xlfn.IFS(U11="Monthly",VLOOKUP($O11,PM执行时间!$A:$E,2,0),U11="Quarterly",VLOOKUP($O11,PM执行时间!$A:$E,3,0),U11="Semi-an",VLOOKUP($O11,PM执行时间!$A:$E,4,0),U11="Annual",VLOOKUP($O11,PM执行时间!$A:$E,5,0),U11="","")} | X11: {=_xlfn.IFS(W11="Monthly",VLOOKUP($O11,PM执行时间!$A:$E,2,0),W11="Quarterly",VLOOKUP($O11,PM执行时间!$A:$E,3,0),W11="Semi-an",VLOOKUP($O11,PM执行时间!$A:$E,4,0),W11="Annual",VLOOKUP($O11,PM执行时间!$A:$E,5,0),W11="","")} | Z11: {=_xlfn.IFS(Y11="Monthly",VLOOKUP($O11,PM执行时间!$A:$E,2,0),Y11="Quarterly",VLOOKUP($O11,PM执行时间!$A:$E,3,0),Y11="Semi-an",VLOOKUP($O11,PM执行时间!$A:$E,4,0),Y11="Annual",VLOOKUP($O11,PM执行时间!$A:$E,5,0),Y11="","")} | AB11: {=_xlfn.IFS(AA11="Monthly",VLOOKUP($O11,PM执行时间!$A:$E,2,0),AA11="Quarterly",VLOOKUP($O11,PM执行时间!$A:$E,3,0),AA11="Semi-an",VLOOKUP($O11,PM执行时间!$A:$E,4,0),AA11="Annual",VLOOKUP($O11,PM执行时间!$A:$E,5,0),AA11="","")} | AC11: Annual | AD11: {=_xlfn.IFS(AC11="Monthly",VLOOKUP($O11,PM执行时间!$A:$E,2,0),AC11="Quarterly",VLOOKUP($O11,PM执行时间!$A:$E,3,0),AC11="Semi-an",VLOOKUP($O11,PM执行时间!$A:$E,4,0),AC11="Annual",VLOOKUP($O11,PM执行时间!$A:$E,5,0),AC11="","")} -> 1 | AF11: {=_xlfn.IFS(AE11="Monthly",VLOOKUP($O11,PM执行时间!$A:$E,2,0),AE11="Quarterly",VLOOKUP($O11,PM执行时间!$A:$E,3,0),AE11="Semi-an",VLOOKUP($O11,PM执行时间!$A:$E,4,0),AE11="Annual",VLOOKUP($O11,PM执行时间!$A:$E,5,0),AE11="","")} | AH11: {=_xlfn.IFS(AG11="Monthly",VLOOKUP($O11,PM执行时间!$A:$E,2,0),AG11="Quarterly",VLOOKUP($O11,PM执行时间!$A:$E,3,0),AG11="Semi-an",VLOOKUP($O11,PM执行时间!$A:$E,4,0),AG11="Annual",VLOOKUP($O11,PM执行时间!$A:$E,5,0),AG11="","")} | AJ11: {=_xlfn.IFS(AI11="Monthly",VLOOKUP($O11,PM执行时间!$A:$E,2,0),AI11="Quarterly",VLOOKUP($O11,PM执行时间!$A:$E,3,0),AI11="Semi-an",VLOOKUP($O11,PM执行时间!$A:$E,4,0),AI11="Annual",VLOOKUP($O11,PM执行时间!$A:$E,5,0),AI11="","")} | AL11: {=_xlfn.IFS(AK11="Monthly",VLOOKUP($O11,PM执行时间!$A:$E,2,0),AK11="Quarterly",VLOOKUP($O11,PM执行时间!$A:$E,3,0),AK11="Semi-an",VLOOKUP($O11,PM执行时间!$A:$E,4,0),AK11="Annual",VLOOKUP($O11,PM执行时间!$A:$E,5,0),AK11="","")} | AN11: {=_xlfn.IFS(AM11="Monthly",VLOOKUP($O11,PM执行时间!$A:$E,2,0),AM11="Quarterly",VLOOKUP($O11,PM执行时间!$A:$E,3,0),AM11="Semi-an",VLOOKUP($O11,PM执行时间!$A:$E,4,0),AM11="Annual",VLOOKUP($O11,PM执行时间!$A:$E,5,0),AM11="","")}
A12: 10 | B12: =SUBTOTAL(3,G$3:G12)+0 -> 0 | D12: 174 | E12: 抛光机 | F12: 2MX4150-500 | G12: 江苏如东富康机床厂 | H12: 04--'065 | I12: 38231 | J12: B类 | K12: 运行中 | L12: KH一楼北 | M12: N/A | N12: KH脊柱单元 | O12: WI-012-R02 | P12: 年 | R12: {=_xlfn.IFS(Q12="Monthly",VLOOKUP($O12,PM执行时间!$A:$E,2,0),Q12="Quarterly",VLOOKUP($O12,PM执行时间!$A:$E,3,0),Q12="Semi-an",VLOOKUP($O12,PM执行时间!$A:$E,4,0),Q12="Annual",VLOOKUP($O12,PM执行时间!$A:$E,5,0),Q12="","")} | T12: {=_xlfn.IFS(S12="Monthly",VLOOKUP($O12,PM执行时间!$A:$E,2,0),S12="Quarterly",VLOOKUP($O12,PM执行时间!$A:$E,3,0),S12="Semi-an",VLOOKUP($O12,PM执行时间!$A:$E,4,0),S12="Annual",VLOOKUP($O12,PM执行时间!$A:$E,5,0),S12="","")} | V12: {=_xlfn.IFS(U12="Monthly",VLOOKUP($O12,PM执行时间!$A:$E,2,0),U12="Quarterly",VLOOKUP($O12,PM执行时间!$A:$E,3,0),U12="Semi-an",VLOOKUP($O12,PM执行时间!$A:$E,4,0),U12="Annual",VLOOKUP($O12,PM执行时间!$A:$E,5,0),U12="","")} | X12: {=_xlfn.IFS(W12="Monthly",VLOOKUP($O12,PM执行时间!$A:$E,2,0),W12="Quarterly",VLOOKUP($O12,PM执行时间!$A:$E,3,0),W12="Semi-an",VLOOKUP($O12,PM执行时间!$A:$E,4,0),W12="Annual",VLOOKUP($O12,PM执行时间!$A:$E,5,0),W12="","")} | Z12: {=_xlfn.IFS(Y12="Monthly",VLOOKUP($O12,PM执行时间!$A:$E,2,0),Y12="Quarterly",VLOOKUP($O12,PM执行时间!$A:$E,3,0),Y12="Semi-an",VLOOKUP($O12,PM执行时间!$A:$E,4,0),Y12="Annual",VLOOKUP($O12,PM执行时间!$A:$E,5,0),Y12="","")} | AB12: {=_xlfn.IFS(AA12="Monthly",VLOOKUP($O12,PM执行时间!$A:$E,2,0),AA12="Quarterly",VLOOKUP($O12,PM执行时间!$A:$E,3,0),AA12="Semi-an",VLOOKUP($O12,PM执行时间!$A:$E,4,0),AA12="Annual",VLOOKUP($O12,PM执行时间!$A:$E,5,0),AA12="","")} | AC12: Annual | AD12: {=_xlfn.IFS(AC12="Monthly",VLOOKUP($O12,PM执行时间!$A:$E,2,0),AC12="Quarterly",VLOOKUP($O12,PM执行时间!$A:$E,3,0),AC12="Semi-an",VLOOKUP($O12,PM执行时间!$A:$E,4,0),AC12="Annual",VLOOKUP($O12,PM执行时间!$A:$E,5,0),AC12="","")} -> 1 | AF12: {=_xlfn.IFS(AE12="Monthly",VLOOKUP($O12,PM执行时间!$A:$E,2,0),AE12="Quarterly",VLOOKUP($O12,PM执行时间!$A:$E,3,0),AE12="Semi-an",VLOOKUP($O12,PM执行时间!$A:$E,4,0),AE12="Annual",VLOOKUP($O12,PM执行时间!$A:$E,5,0),AE12="","")} | AH12: {=_xlfn.IFS(AG12="Monthly",VLOOKUP($O12,PM执行时间!$A:$E,2,0),AG12="Quarterly",VLOOKUP($O12,PM执行时间!$A:$E,3,0),AG12="Semi-an",VLOOKUP($O12,PM执行时间!$A:$E,4,0),AG12="Annual",VLOOKUP($O12,PM执行时间!$A:$E,5,0),AG12="","")} | AJ12: {=_xlfn.IFS(AI12="Monthly",VLOOKUP($O12,PM执行时间!$A:$E,2,0),AI12="Quarterly",VLOOKUP($O12,PM执行时间!$A:$E,3,0),AI12="Semi-an",VLOOKUP($O12,PM执行时间!$A:$E,4,0),AI12="Annual",VLOOKUP($O12,PM执行时间!$A:$E,5,0),AI12="","")} | AL12: {=_xlfn.IFS(AK12="Monthly",VLOOKUP($O12,PM执行时间!$A:$E,2,0),AK12="Quarterly",VLOOKUP($O12,PM执行时间!$A:$E,3,0),AK12="Semi-an",VLOOKUP($O12,PM执行时间!$A:$E,4,0),AK12="Annual",VLOOKUP($O12,PM执行时间!$A:$E,5,0),AK12="","")} | AN12: {=_xlfn.IFS(AM12="Monthly",VLOOKUP($O12,PM执行时间!$A:$E,2,0),AM12="Quarterly",VLOOKUP($O12,PM执行时间!$A:$E,3,0),AM12="Semi-an",VLOOKUP($O12,PM执行时间!$A:$E,4,0),AM12="Annual",VLOOKUP($O12,PM执行时间!$A:$E,5,0),AM12="","")} | AO12: 44743
A13: 11 | B13: =SUBTOTAL(3,G$3:G13)+0 -> 0 | D13: 182 | E13: 压力机 | F13: J23-10B | G13: 徐州锻压设备厂 | H13: 740059 | I13: 38292 | J13: B类 | K13: 运行中 | L13: KH一楼东南 | M13: 38231 | N13: KH器械单元 | O13: WI-328-R02 | P13: 年 | R13: {=_xlfn.IFS(Q13="Monthly",VLOOKUP($O13,PM执行时间!$A:$E,2,0),Q13="Quarterly",VLOOKUP($O13,PM执行时间!$A:$E,3,0),Q13="Semi-an",VLOOKUP($O13,PM执行时间!$A:$E,4,0),Q13="Annual",VLOOKUP($O13,PM执行时间!$A:$E,5,0),Q13="","")} | T13: {=_xlfn.IFS(S13="Monthly",VLOOKUP($O13,PM执行时间!$A:$E,2,0),S13="Quarterly",VLOOKUP($O13,PM执行时间!$A:$E,3,0),S13="Semi-an",VLOOKUP($O13,PM执行时间!$A:$E,4,0),S13="Annual",VLOOKUP($O13,PM执行时间!$A:$E,5,0),S13="","")} | V13: {=_xlfn.IFS(U13="Monthly",VLOOKUP($O13,PM执行时间!$A:$E,2,0),U13="Quarterly",VLOOKUP($O13,PM执行时间!$A:$E,3,0),U13="Semi-an",VLOOKUP($O13,PM执行时间!$A:$E,4,0),U13="Annual",VLOOKUP($O13,PM执行时间!$A:$E,5,0),U13="","")} | X13: {=_xlfn.IFS(W13="Monthly",VLOOKUP($O13,PM执行时间!$A:$E,2,0),W13="Quarterly",VLOOKUP($O13,PM执行时间!$A:$E,3,0),W13="Semi-an",VLOOKUP($O13,PM执行时间!$A:$E,4,0),W13="Annual",VLOOKUP($O13,PM执行时间!$A:$E,5,0),W13="","")} | Y13: Annual | Z13: {=_xlfn.IFS(Y13="Monthly",VLOOKUP($O13,PM执行时间!$A:$E,2,0),Y13="Quarterly",VLOOKUP($O13,PM执行时间!$A:$E,3,0),Y13="Semi-an",VLOOKUP($O13,PM执行时间!$A:$E,4,0),Y13="Annual",VLOOKUP($O13,PM执行时间!$A:$E,5,0),Y13="","")} -> 1 | AB13: {=_xlfn.IFS(AA13="Monthly",VLOOKUP($O13,PM执行时间!$A:$E,2,0),AA13="Quarterly",VLOOKUP($O13,PM执行时间!$A:$E,3,0),AA13="Semi-an",VLOOKUP($O13,PM执行时间!$A:$E,4,0),AA13="Annual",VLOOKUP($O13,PM执行时间!$A:$E,5,0),AA13="","")} | AD13: {=_xlfn.IFS(AC13="Monthly",VLOOKUP($O13,PM执行时间!$A:$E,2,0),AC13="Quarterly",VLOOKUP($O13,PM执行时间!$A:$E,3,0),AC13="Semi-an",VLOOKUP($O13,PM执行时间!$A:$E,4,0),AC13="Annual",VLOOKUP($O13,PM执行时间!$A:$E,5,0),AC13="","")} | AF13: {=_xlfn.IFS(AE13="Monthly",VLOOKUP($O13,PM执行时间!$A:$E,2,0),AE13="Quarterly",VLOOKUP($O13,PM执行时间!$A:$E,3,0),AE13="Semi-an",VLOOKUP($O13,PM执行时间!$A:$E,4,0),AE13="Annual",VLOOKUP($O13,PM执行时间!$A:$E,5,0),AE13="","")} | AH13: {=_xlfn.IFS(AG13="Monthly",VLOOKUP($O13,PM执行时间!$A:$E,2,0),AG13="Quarterly",VLOOKUP($O13,PM执行时间!$A:$E,3,0),AG13="Semi-an",VLOOKUP($O13,PM执行时间!$A:$E,4,0),AG13="Annual",VLOOKUP($O13,PM执行时间!$A:$E,5,0),AG13="","")} | AJ13: {=_xlfn.IFS(AI13="Monthly",VLOOKUP($O13,PM执行时间!$A:$E,2,0),AI13="Quarterly",VLOOKUP($O13,PM执行时间!$A:$E,3,0),AI13="Semi-an",VLOOKUP($O13,PM执行时间!$A:$E,4,0),AI13="Annual",VLOOKUP($O13,PM执行时间!$A:$E,5,0),AI13="","")} | AL13: {=_xlfn.IFS(AK13="Monthly",VLOOKUP($O13,PM执行时间!$A:$E,2,0),AK13="Quarterly",VLOOKUP($O13,PM执行时间!$A:$E,3,0),AK13="Semi-an",VLOOKUP($O13,PM执行时间!$A:$E,4,0),AK13="Annual",VLOOKUP($O13,PM执行时间!$A:$E,5,0),AK13="","")} | AN13: {=_xlfn.IFS(AM13="Monthly",VLOOKUP($O13,PM执行时间!$A:$E,2,0),AM13="Quarterly",VLOOKUP($O13,PM执行时间!$A:$E,3,0),AM13="Semi-an",VLOOKUP($O13,PM执行时间!$A:$E,4,0),AM13="Annual",VLOOKUP($O13,PM执行时间!$A:$E,5,0),AM13="","")} | AO13: 44682
A14: 12 | B14: =SUBTOTAL(3,G$3:G14)+0 -> 0 | D14: 189 | E14: 干燥箱 | F14: HN1013As-750*600*500 | G14: 南通沪南科学仪器公司 | H14: 4888 | I14: 38443 | J14: B类 | K14: 运行中 | L14: KH一楼北 | M14: N/A | N14: KH创伤单元 | O14: WI-326-R02 | P14: 年 | R14: {=_xlfn.IFS(Q14="Monthly",VLOOKUP($O14,PM执行时间!$A:$E,2,0),Q14="Quarterly",VLOOKUP($O14,PM执行时间!$A:$E,3,0),Q14="Semi-an",VLOOKUP($O14,PM执行时间!$A:$E,4,0),Q14="Annual",VLOOKUP($O14,PM执行时间!$A:$E,5,0),Q14="","")} | T14: {=_xlfn.IFS(S14="Monthly",VLOOKUP($O14,PM执行时间!$A:$E,2,0),S14="Quarterly",VLOOKUP($O14,PM执行时间!$A:$E,3,0),S14="Semi-an",VLOOKUP($O14,PM执行时间!$A:$E,4,0),S14="Annual",VLOOKUP($O14,PM执行时间!$A:$E,5,0),S14="","")} | V14: {=_xlfn.IFS(U14="Monthly",VLOOKUP($O14,PM执行时间!$A:$E,2,0),U14="Quarterly",VLOOKUP($O14,PM执行时间!$A:$E,3,0),U14="Semi-an",VLOOKUP($O14,PM执行时间!$A:$E,4,0),U14="Annual",VLOOKUP($O14,PM执行时间!$A:$E,5,0),U14="","")} | X14: {=_xlfn.IFS(W14="Monthly",VLOOKUP($O14,PM执行时间!$A:$E,2,0),W14="Quarterly",VLOOKUP($O14,PM执行时间!$A:$E,3,0),W14="Semi-an",VLOOKUP($O14,PM执行时间!$A:$E,4,0),W14="Annual",VLOOKUP($O14,PM执行时间!$A:$E,5,0),W14="","")} | Z14: {=_xlfn.IFS(Y14="Monthly",VLOOKUP($O14,PM执行时间!$A:$E,2,0),Y14="Quarterly",VLOOKUP($O14,PM执行时间!$A:$E,3,0),Y14="Semi-an",VLOOKUP($O14,PM执行时间!$A:$E,4,0),Y14="Annual",VLOOKUP($O14,PM执行时间!$A:$E,5,0),Y14="","")} | AA14: Annual | AB14: {=_xlfn.IFS(AA14="Monthly",VLOOKUP($O14,PM执行时间!$A:$E,2,0),AA14="Quarterly",VLOOKUP($O14,PM执行时间!$A:$E,3,0),AA14="Semi-an",VLOOKUP($O14,PM执行时间!$A:$E,4,0),AA14="Annual",VLOOKUP($O14,PM执行时间!$A:$E,5,0),AA14="","")} -> 1 | AD14: {=_xlfn.IFS(AC14="Monthly",VLOOKUP($O14,PM执行时间!$A:$E,2,0),AC14="Quarterly",VLOOKUP($O14,PM执行时间!$A:$E,3,0),AC14="Semi-an",VLOOKUP($O14,PM执行时间!$A:$E,4,0),AC14="Annual",VLOOKUP($O14,PM执行时间!$A:$E,5,0),AC14="","")} | AF14: {=_xlfn.IFS(AE14="Monthly",VLOOKUP($O14,PM执行时间!$A:$E,2,0),AE14="Quarterly",VLOOKUP($O14,PM执行时间!$A:$E,3,0),AE14="Semi-an",VLOOKUP($O14,PM执行时间!$A:$E,4,0),AE14="Annual",VLOOKUP($O14,PM执行时间!$A:$E,5,0),AE14="","")} | AH14: {=_xlfn.IFS(AG14="Monthly",VLOOKUP($O14,PM执行时间!$A:$E,2,0),AG14="Quarterly",VLOOKUP($O14,PM执行时间!$A:$E,3,0),AG14="Semi-an",VLOOKUP($O14,PM执行时间!$A:$E,4,0),AG14="Annual",VLOOKUP($O14,PM执行时间!$A:$E,5,0),AG14="","")} | AJ14: {=_xlfn.IFS(AI14="Monthly",VLOOKUP($O14,PM执行时间!$A:$E,2,0),AI14="Quarterly",VLOOKUP($O14,PM执行时间!$A:$E,3,0),AI14="Semi-an",VLOOKUP($O14,PM执行时间!$A:$E,4,0),AI14="Annual",VLOOKUP($O14,PM执行时间!$A:$E,5,0),AI14="","")} | AL14: {=_xlfn.IFS(AK14="Monthly",VLOOKUP($O14,PM执行时间!$A:$E,2,0),AK14="Quarterly",VLOOKUP($O14,PM执行时间!$A:$E,3,0),AK14="Semi-an",VLOOKUP($O14,PM执行时间!$A:$E,4,0),AK14="Annual",VLOOKUP($O14,PM执行时间!$A:$E,5,0),AK14="","")} | AN14: {=_xlfn.IFS(AM14="Monthly",VLOOKUP($O14,PM执行时间!$A:$E,2,0),AM14="Quarterly",VLOOKUP($O14,PM执行时间!$A:$E,3,0),AM14="Semi-an",VLOOKUP($O14,PM执行时间!$A:$E,4,0),AM14="Annual",VLOOKUP($O14,PM执行时间!$A:$E,5,0),AM14="","")} | AO14: 44713
A15: 13 | B15: =SUBTOTAL(3,G$3:G15)+0 -> 0 | D15: 198 | E15: 数控铣床 | F15: JSK--30-300*1370 | G15: 南通精晟机床厂 | H15: 25026 | I15: 38534 | J15: B类 | K15: 运行中 | L15: KH一楼北 | M15: N/A | N15: KH创伤单元 | O15: WI-332-R02 | P15: 年 | R15: {=_xlfn.IFS(Q15="Monthly",VLOOKUP($O15,PM执行时间!$A:$E,2,0),Q15="Quarterly",VLOOKUP($O15,PM执行时间!$A:$E,3,0),Q15="Semi-an",VLOOKUP($O15,PM执行时间!$A:$E,4,0),Q15="Annual",VLOOKUP($O15,PM执行时间!$A:$E,5,0),Q15="","")} | T15: {=_xlfn.IFS(S15="Monthly",VLOOKUP($O15,PM执行时间!$A:$E,2,0),S15="Quarterly",VLOOKUP($O15,PM执行时间!$A:$E,3,0),S15="Semi-an",VLOOKUP($O15,PM执行时间!$A:$E,4,0),S15="Annual",VLOOKUP($O15,PM执行时间!$A:$E,5,0),S15="","")} | V15: {=_xlfn.IFS(U15="Monthly",VLOOKUP($O15,PM执行时间!$A:$E,2,0),U15="Quarterly",VLOOKUP($O15,PM执行时间!$A:$E,3,0),U15="Semi-an",VLOOKUP($O15,PM执行时间!$A:$E,4,0),U15="Annual",VLOOKUP($O15,PM执行时间!$A:$E,5,0),U15="","")} | X15: {=_xlfn.IFS(W15="Monthly",VLOOKUP($O15,PM执行时间!$A:$E,2,0),W15="Quarterly",VLOOKUP($O15,PM执行时间!$A:$E,3,0),W15="Semi-an",VLOOKUP($O15,PM执行时间!$A:$E,4,0),W15="Annual",VLOOKUP($O15,PM执行时间!$A:$E,5,0),W15="","")} | Z15: {=_xlfn.IFS(Y15="Monthly",VLOOKUP($O15,PM执行时间!$A:$E,2,0),Y15="Quarterly",VLOOKUP($O15,PM执行时间!$A:$E,3,0),Y15="Semi-an",VLOOKUP($O15,PM执行时间!$A:$E,4,0),Y15="Annual",VLOOKUP($O15,PM执行时间!$A:$E,5,0),Y15="","")} | AB15: {=_xlfn.IFS(AA15="Monthly",VLOOKUP($O15,PM执行时间!$A:$E,2,0),AA15="Quarterly",VLOOKUP($O15,PM执行时间!$A:$E,3,0),AA15="Semi-an",VLOOKUP($O15,PM执行时间!$A:$E,4,0),AA15="Annual",VLOOKUP($O15,PM执行时间!$A:$E,5,0),AA15="","")} | AD15: {=_xlfn.IFS(AC15="Monthly",VLOOKUP($O15,PM执行时间!$A:$E,2,0),AC15="Quarterly",VLOOKUP($O15,PM执行时间!$A:$E,3,0),AC15="Semi-an",VLOOKUP($O15,PM执行时间!$A:$E,4,0),AC15="Annual",VLOOKUP($O15,PM执行时间!$A:$E,5,0),AC15="","")} | AF15: {=_xlfn.IFS(AE15="Monthly",VLOOKUP($O15,PM执行时间!$A:$E,2,0),AE15="Quarterly",VLOOKUP($O15,PM执行时间!$A:$E,3,0),AE15="Semi-an",VLOOKUP($O15,PM执行时间!$A:$E,4,0),AE15="Annual",VLOOKUP($O15,PM执行时间!$A:$E,5,0),AE15="","")} | AG15: Annual | AH15: {=_xlfn.IFS(AG15="Monthly",VLOOKUP($O15,PM执行时间!$A:$E,2,0),AG15="Quarterly",VLOOKUP($O15,PM执行时间!$A:$E,3,0),AG15="Semi-an",VLOOKUP($O15,PM执行时间!$A:$E,4,0),AG15="Annual",VLOOKUP($O15,PM执行时间!$A:$E,5,0),AG15="","")} -> 1 | AJ15: {=_xlfn.IFS(AI15="Monthly",VLOOKUP($O15,PM执行时间!$A:$E,2,0),AI15="Quarterly",VLOOKUP($O15,PM执行时间!$A:$E,3,0),AI15="Semi-an",VLOOKUP($O15,PM执行时间!$A:$E,4,0),AI15="Annual",VLOOKUP($O15,PM执行时间!$A:$E,5,0),AI15="","")} | AL15: {=_xlfn.IFS(AK15="Monthly",VLOOKUP($O15,PM执行时间!$A:$E,2,0),AK15="Quarterly",VLOOKUP($O15,PM执行时间!$A:$E,3,0),AK15="Semi-an",VLOOKUP($O15,PM执行时间!$A:$E,4,0),AK15="Annual",VLOOKUP($O15,PM执行时间!$A:$E,5,0),AK15="","")} | AN15: {=_xlfn.IFS(AM15="Monthly",VLOOKUP($O15,PM执行时间!$A:$E,2,0),AM15="Quarterly",VLOOKUP($O15,PM执行时间!$A:$E,3,0),AM15="Semi-an",VLOOKUP($O15,PM执行时间!$A:$E,4,0),AM15="Annual",VLOOKUP($O15,PM执行时间!$A:$E,5,0),AM15="","")} | AO15: 44805
A16: 14 | B16: =SUBTOTAL(3,G$3:G16)+0 -> 0 | D16: 199 | E16: 数控铣床 | F16: JSK--30-300*1370 | G16: 南通精晟机床厂 | H16: 35008 | I16: 38534 | J16: B类 | K16: 运行中 | L16: KH一楼北 | M16: N/A | N16: KH创伤单元 | O16: WI-332-R02 | P16: 年 | R16: {=_xlfn.IFS(Q16="Monthly",VLOOKUP($O16,PM执行时间!$A:$E,2,0),Q16="Quarterly",VLOOKUP($O16,PM执行时间!$A:$E,3,0),Q16="Semi-an",VLOOKUP($O16,PM执行时间!$A:$E,4,0),Q16="Annual",VLOOKUP($O16,PM执行时间!$A:$E,5,0),Q16="","")} | T16: {=_xlfn.IFS(S16="Monthly",VLOOKUP($O16,PM执行时间!$A:$E,2,0),S16="Quarterly",VLOOKUP($O16,PM执行时间!$A:$E,3,0),S16="Semi-an",VLOOKUP($O16,PM执行时间!$A:$E,4,0),S16="Annual",VLOOKUP($O16,PM执行时间!$A:$E,5,0),S16="","")} | V16: {=_xlfn.IFS(U16="Monthly",VLOOKUP($O16,PM执行时间!$A:$E,2,0),U16="Quarterly",VLOOKUP($O16,PM执行时间!$A:$E,3,0),U16="Semi-an",VLOOKUP($O16,PM执行时间!$A:$E,4,0),U16="Annual",VLOOKUP($O16,PM执行时间!$A:$E,5,0),U16="","")} | X16: {=_xlfn.IFS(W16="Monthly",VLOOKUP($O16,PM执行时间!$A:$E,2,0),W16="Quarterly",VLOOKUP($O16,PM执行时间!$A:$E,3,0),W16="Semi-an",VLOOKUP($O16,PM执行时间!$A:$E,4,0),W16="Annual",VLOOKUP($O16,PM执行时间!$A:$E,5,0),W16="","")} | Z16: {=_xlfn.IFS(Y16="Monthly",VLOOKUP($O16,PM执行时间!$A:$E,2,0),Y16="Quarterly",VLOOKUP($O16,PM执行时间!$A:$E,3,0),Y16="Semi-an",VLOOKUP($O16,PM执行时间!$A:$E,4,0),Y16="Annual",VLOOKUP($O16,PM执行时间!$A:$E,5,0),Y16="","")} | AB16: {=_xlfn.IFS(AA16="Monthly",VLOOKUP($O16,PM执行时间!$A:$E,2,0),AA16="Quarterly",VLOOKUP($O16,PM执行时间!$A:$E,3,0),AA16="Semi-an",VLOOKUP($O16,PM执行时间!$A:$E,4,0),AA16="Annual",VLOOKUP($O16,PM执行时间!$A:$E,5,0),AA16="","")} | AD16: {=_xlfn.IFS(AC16="Monthly",VLOOKUP($O16,PM执行时间!$A:$E,2,0),AC16="Quarterly",VLOOKUP($O16,PM执行时间!$A:$E,3,0),AC16="Semi-an",VLOOKUP($O16,PM执行时间!$A:$E,4,0),AC16="Annual",VLOOKUP($O16,PM执行时间!$A:$E,5,0),AC16="","")} | AF16: {=_xlfn.IFS(AE16="Monthly",VLOOKUP($O16,PM执行时间!$A:$E,2,0),AE16="Quarterly",VLOOKUP($O16,PM执行时间!$A:$E,3,0),AE16="Semi-an",VLOOKUP($O16,PM执行时间!$A:$E,4,0),AE16="Annual",VLOOKUP($O16,PM执行时间!$A:$E,5,0),AE16="","")} | AG16: Annual | AH16: {=_xlfn.IFS(AG16="Monthly",VLOOKUP($O16,PM执行时间!$A:$E,2,0),AG16="Quarterly",VLOOKUP($O16,PM执行时间!$A:$E,3,0),AG16="Semi-an",VLOOKUP($O16,PM执行时间!$A:$E,4,0),AG16="Annual",VLOOKUP($O16,PM执行时间!$A:$E,5,0),AG16="","")} -> 1 | AJ16: {=_xlfn.IFS(AI16="Monthly",VLOOKUP($O16,PM执行时间!$A:$E,2,0),AI16="Quarterly",VLOOKUP($O16,PM执行时间!$A:$E,3,0),AI16="Semi-an",VLOOKUP($O16,PM执行时间!$A:$E,4,0),AI16="Annual",VLOOKUP($O16,PM执行时间!$A:$E,5,0),AI16="","")} | AL16: {=_xlfn.IFS(AK16="Monthly",VLOOKUP($O16,PM执行时间!$A:$E,2,0),AK16="Quarterly",VLOOKUP($O16,PM执行时间!$A:$E,3,0),AK16="Semi-an",VLOOKUP($O16,PM执行时间!$A:$E,4,0),AK16="Annual",VLOOKUP($O16,PM执行时间!$A:$E,5,0),AK16="","")} | AN16: {=_xlfn.IFS(AM16="Monthly",VLOOKUP($O16,PM执行时间!$A:$E,2,0),AM16="Quarterly",VLOOKUP($O16,PM执行时间!$A:$E,3,0),AM16="Semi-an",VLOOKUP($O16,PM执行时间!$A:$E,4,0),AM16="Annual",VLOOKUP($O16,PM执行时间!$A:$E,5,0),AM16="","")} | AO16: 44805
A17: 15 | B17: =SUBTOTAL(3,G$3:G17)+0 -> 0 | D17: 200 | E17: 台式铣钻床 | F17: ZX7045 | G17: 杭州西湖台钻 | H17: 505003 | I17: 38534 | J17: B类 | K17: 运行中 | L17: KH二楼器械单元 | M17: N/A | N17: KH器械单元 | O17: #N/A | R17: {=_xlfn.IFS(Q17="Monthly",VLOOKUP($O17,PM执行时间!$A:$E,2,0),Q17="Quarterly",VLOOKUP($O17,PM执行时间!$A:$E,3,0),Q17="Semi-an",VLOOKUP($O17,PM执行时间!$A:$E,4,0),Q17="Annual",VLOOKUP($O17,PM执行时间!$A:$E,5,0),Q17="","")} | T17: {=_xlfn.IFS(S17="Monthly",VLOOKUP($O17,PM执行时间!$A:$E,2,0),S17="Quarterly",VLOOKUP($O17,PM执行时间!$A:$E,3,0),S17="Semi-an",VLOOKUP($O17,PM执行时间!$A:$E,4,0),S17="Annual",VLOOKUP($O17,PM执行时间!$A:$E,5,0),S17="","")} | V17: {=_xlfn.IFS(U17="Monthly",VLOOKUP($O17,PM执行时间!$A:$E,2,0),U17="Quarterly",VLOOKUP($O17,PM执行时间!$A:$E,3,0),U17="Semi-an",VLOOKUP($O17,PM执行时间!$A:$E,4,0),U17="Annual",VLOOKUP($O17,PM执行时间!$A:$E,5,0),U17="","")} | X17: {=_xlfn.IFS(W17="Monthly",VLOOKUP($O17,PM执行时间!$A:$E,2,0),W17="Quarterly",VLOOKUP($O17,PM执行时间!$A:$E,3,0),W17="Semi-an",VLOOKUP($O17,PM执行时间!$A:$E,4,0),W17="Annual",VLOOKUP($O17,PM执行时间!$A:$E,5,0),W17="","")} | Z17: {=_xlfn.IFS(Y17="Monthly",VLOOKUP($O17,PM执行时间!$A:$E,2,0),Y17="Quarterly",VLOOKUP($O17,PM执行时间!$A:$E,3,0),Y17="Semi-an",VLOOKUP($O17,PM执行时间!$A:$E,4,0),Y17="Annual",VLOOKUP($O17,PM执行时间!$A:$E,5,0),Y17="","")} | AB17: {=_xlfn.IFS(AA17="Monthly",VLOOKUP($O17,PM执行时间!$A:$E,2,0),AA17="Quarterly",VLOOKUP($O17,PM执行时间!$A:$E,3,0),AA17="Semi-an",VLOOKUP($O17,PM执行时间!$A:$E,4,0),AA17="Annual",VLOOKUP($O17,PM执行时间!$A:$E,5,0),AA17="","")} | AD17: {=_xlfn.IFS(AC17="Monthly",VLOOKUP($O17,PM执行时间!$A:$E,2,0),AC17="Quarterly",VLOOKUP($O17,PM执行时间!$A:$E,3,0),AC17="Semi-an",VLOOKUP($O17,PM执行时间!$A:$E,4,0),AC17="Annual",VLOOKUP($O17,PM执行时间!$A:$E,5,0),AC17="","")} | AF17: {=_xlfn.IFS(AE17="Monthly",VLOOKUP($O17,PM执行时间!$A:$E,2,0),AE17="Quarterly",VLOOKUP($O17,PM执行时间!$A:$E,3,0),AE17="Semi-an",VLOOKUP($O17,PM执行时间!$A:$E,4,0),AE17="Annual",VLOOKUP($O17,PM执行时间!$A:$E,5,0),AE17="","")} | AH17: {=_xlfn.IFS(AG17="Monthly",VLOOKUP($O17,PM执行时间!$A:$E,2,0),AG17="Quarterly",VLOOKUP($O17,PM执行时间!$A:$E,3,0),AG17="Semi-an",VLOOKUP($O17,PM执行时间!$A:$E,4,0),AG17="Annual",VLOOKUP($O17,PM执行时间!$A:$E,5,0),AG17="","")} | AJ17: {=_xlfn.IFS(AI17="Monthly",VLOOKUP($O17,PM执行时间!$A:$E,2,0),AI17="Quarterly",VLOOKUP($O17,PM执行时间!$A:$E,3,0),AI17="Semi-an",VLOOKUP($O17,PM执行时间!$A:$E,4,0),AI17="Annual",VLOOKUP($O17,PM执行时间!$A:$E,5,0),AI17="","")} | AL17: {=_xlfn.IFS(AK17="Monthly",VLOOKUP($O17,PM执行时间!$A:$E,2,0),AK17="Quarterly",VLOOKUP($O17,PM执行时间!$A:$E,3,0),AK17="Semi-an",VLOOKUP($O17,PM执行时间!$A:$E,4,0),AK17="Annual",VLOOKUP($O17,PM执行时间!$A:$E,5,0),AK17="","")} | AN17: {=_xlfn.IFS(AM17="Monthly",VLOOKUP($O17,PM执行时间!$A:$E,2,0),AM17="Quarterly",VLOOKUP($O17,PM执行时间!$A:$E,3,0),AM17="Semi-an",VLOOKUP($O17,PM执行时间!$A:$E,4,0),AM17="Annual",VLOOKUP($O17,PM执行时间!$A:$E,5,0),AM17="","")}
A18: 16 | B18: =SUBTOTAL(3,G$3:G18)+0 -> 0 | D18: 205 | E18: 研磨机 | F18: FAW120T | G18: 无锡富岛精工 | H18: 55 | I18: 38534 | J18: B类 | K18: 报废 | L18: KH一楼北 | M18: 38534 | N18: KH创伤单元 | O18: WI-012-R02 | P18: 年 | R18: {=_xlfn.IFS(Q18="Monthly",VLOOKUP($O18,PM执行时间!$A:$E,2,0),Q18="Quarterly",VLOOKUP($O18,PM执行时间!$A:$E,3,0),Q18="Semi-an",VLOOKUP($O18,PM执行时间!$A:$E,4,0),Q18="Annual",VLOOKUP($O18,PM执行时间!$A:$E,5,0),Q18="","")} | T18: {=_xlfn.IFS(S18="Monthly",VLOOKUP($O18,PM执行时间!$A:$E,2,0),S18="Quarterly",VLOOKUP($O18,PM执行时间!$A:$E,3,0),S18="Semi-an",VLOOKUP($O18,PM执行时间!$A:$E,4,0),S18="Annual",VLOOKUP($O18,PM执行时间!$A:$E,5,0),S18="","")} | V18: {=_xlfn.IFS(U18="Monthly",VLOOKUP($O18,PM执行时间!$A:$E,2,0),U18="Quarterly",VLOOKUP($O18,PM执行时间!$A:$E,3,0),U18="Semi-an",VLOOKUP($O18,PM执行时间!$A:$E,4,0),U18="Annual",VLOOKUP($O18,PM执行时间!$A:$E,5,0),U18="","")} | X18: {=_xlfn.IFS(W18="Monthly",VLOOKUP($O18,PM执行时间!$A:$E,2,0),W18="Quarterly",VLOOKUP($O18,PM执行时间!$A:$E,3,0),W18="Semi-an",VLOOKUP($O18,PM执行时间!$A:$E,4,0),W18="Annual",VLOOKUP($O18,PM执行时间!$A:$E,5,0),W18="","")} | Z18: {=_xlfn.IFS(Y18="Monthly",VLOOKUP($O18,PM执行时间!$A:$E,2,0),Y18="Quarterly",VLOOKUP($O18,PM执行时间!$A:$E,3,0),Y18="Semi-an",VLOOKUP($O18,PM执行时间!$A:$E,4,0),Y18="Annual",VLOOKUP($O18,PM执行时间!$A:$E,5,0),Y18="","")} | AB18: {=_xlfn.IFS(AA18="Monthly",VLOOKUP($O18,PM执行时间!$A:$E,2,0),AA18="Quarterly",VLOOKUP($O18,PM执行时间!$A:$E,3,0),AA18="Semi-an",VLOOKUP($O18,PM执行时间!$A:$E,4,0),AA18="Annual",VLOOKUP($O18,PM执行时间!$A:$E,5,0),AA18="","")} | AD18: {=_xlfn.IFS(AC18="Monthly",VLOOKUP($O18,PM执行时间!$A:$E,2,0),AC18="Quarterly",VLOOKUP($O18,PM执行时间!$A:$E,3,0),AC18="Semi-an",VLOOKUP($O18,PM执行时间!$A:$E,4,0),AC18="Annual",VLOOKUP($O18,PM执行时间!$A:$E,5,0),AC18="","")} | AF18: {=_xlfn.IFS(AE18="Monthly",VLOOKUP($O18,PM执行时间!$A:$E,2,0),AE18="Quarterly",VLOOKUP($O18,PM执行时间!$A:$E,3,0),AE18="Semi-an",VLOOKUP($O18,PM执行时间!$A:$E,4,0),AE18="Annual",VLOOKUP($O18,PM执行时间!$A:$E,5,0),AE18="","")} | AH18: {=_xlfn.IFS(AG18="Monthly",VLOOKUP($O18,PM执行时间!$A:$E,2,0),AG18="Quarterly",VLOOKUP($O18,PM执行时间!$A:$E,3,0),AG18="Semi-an",VLOOKUP($O18,PM执行时间!$A:$E,4,0),AG18="Annual",VLOOKUP($O18,PM执行时间!$A:$E,5,0),AG18="","")} | AI18: Annual | AJ18: {=_xlfn.IFS(AI18="Monthly",VLOOKUP($O18,PM执行时间!$A:$E,2,0),AI18="Quarterly",VLOOKUP($O18,PM执行时间!$A:$E,3,0),AI18="Semi-an",VLOOKUP($O18,PM执行时间!$A:$E,4,0),AI18="Annual",VLOOKUP($O18,PM执行时间!$A:$E,5,0),AI18="","")} -> 1 | AL18: {=_xlfn.IFS(AK18="Monthly",VLOOKUP($O18,PM执行时间!$A:$E,2,0),AK18="Quarterly",VLOOKUP($O18,PM执行时间!$A:$E,3,0),AK18="Semi-an",VLOOKUP($O18,PM执行时间!$A:$E,4,0),AK18="Annual",VLOOKUP($O18,PM执行时间!$A:$E,5,0),AK18="","")} | AN18: {=_xlfn.IFS(AM18="Monthly",VLOOKUP($O18,PM执行时间!$A:$E,2,0),AM18="Quarterly",VLOOKUP($O18,PM执行时间!$A:$E,3,0),AM18="Semi-an",VLOOKUP($O18,PM执行时间!$A:$E,4,0),AM18="Annual",VLOOKUP($O18,PM执行时间!$A:$E,5,0),AM18="","")} | AO18: 44835
A19: 17 | B19: =SUBTOTAL(3,G$3:G19)+0 -> 0 | D19: 218 | E19: 焊机 | F19: YE-300WP | G19: 唐山松下产业机器公司 | H19: 无 | I19: 38596 | J19: B类 | K19: 运行中 | L19: KH二楼器械单元 | M19: N/A | N19: KH器械单元 | O19: WI-106-R02 | P19: 年 | R19: {=_xlfn.IFS(Q19="Monthly",VLOOKUP($O19,PM执行时间!$A:$E,2,0),Q19="Quarterly",VLOOKUP($O19,PM执行时间!$A:$E,3,0),Q19="Semi-an",VLOOKUP($O19,PM执行时间!$A:$E,4,0),Q19="Annual",VLOOKUP($O19,PM执行时间!$A:$E,5,0),Q19="","")} | T19: {=_xlfn.IFS(S19="Monthly",VLOOKUP($O19,PM执行时间!$A:$E,2,0),S19="Quarterly",VLOOKUP($O19,PM执行时间!$A:$E,3,0),S19="Semi-an",VLOOKUP($O19,PM执行时间!$A:$E,4,0),S19="Annual",VLOOKUP($O19,PM执行时间!$A:$E,5,0),S19="","")} | V19: {=_xlfn.IFS(U19="Monthly",VLOOKUP($O19,PM执行时间!$A:$E,2,0),U19="Quarterly",VLOOKUP($O19,PM执行时间!$A:$E,3,0),U19="Semi-an",VLOOKUP($O19,PM执行时间!$A:$E,4,0),U19="Annual",VLOOKUP($O19,PM执行时间!$A:$E,5,0),U19="","")} | X19: {=_xlfn.IFS(W19="Monthly",VLOOKUP($O19,PM执行时间!$A:$E,2,0),W19="Quarterly",VLOOKUP($O19,PM执行时间!$A:$E,3,0),W19="Semi-an",VLOOKUP($O19,PM执行时间!$A:$E,4,0),W19="Annual",VLOOKUP($O19,PM执行时间!$A:$E,5,0),W19="","")} | Z19: {=_xlfn.IFS(Y19="Monthly",VLOOKUP($O19,PM执行时间!$A:$E,2,0),Y19="Quarterly",VLOOKUP($O19,PM执行时间!$A:$E,3,0),Y19="Semi-an",VLOOKUP($O19,PM执行时间!$A:$E,4,0),Y19="Annual",VLOOKUP($O19,PM执行时间!$A:$E,5,0),Y19="","")} | AA19: Annual | AB19: {=_xlfn.IFS(AA19="Monthly",VLOOKUP($O19,PM执行时间!$A:$E,2,0),AA19="Quarterly",VLOOKUP($O19,PM执行时间!$A:$E,3,0),AA19="Semi-an",VLOOKUP($O19,PM执行时间!$A:$E,4,0),AA19="Annual",VLOOKUP($O19,PM执行时间!$A:$E,5,0),AA19="","")} -> 1 | AD19: {=_xlfn.IFS(AC19="Monthly",VLOOKUP($O19,PM执行时间!$A:$E,2,0),AC19="Quarterly",VLOOKUP($O19,PM执行时间!$A:$E,3,0),AC19="Semi-an",VLOOKUP($O19,PM执行时间!$A:$E,4,0),AC19="Annual",VLOOKUP($O19,PM执行时间!$A:$E,5,0),AC19="","")} | AF19: {=_xlfn.IFS(AE19="Monthly",VLOOKUP($O19,PM执行时间!$A:$E,2,0),AE19="Quarterly",VLOOKUP($O19,PM执行时间!$A:$E,3,0),AE19="Semi-an",VLOOKUP($O19,PM执行时间!$A:$E,4,0),AE19="Annual",VLOOKUP($O19,PM执行时间!$A:$E,5,0),AE19="","")} | AH19: {=_xlfn.IFS(AG19="Monthly",VLOOKUP($O19,PM执行时间!$A:$E,2,0),AG19="Quarterly",VLOOKUP($O19,PM执行时间!$A:$E,3,0),AG19="Semi-an",VLOOKUP($O19,PM执行时间!$A:$E,4,0),AG19="Annual",VLOOKUP($O19,PM执行时间!$A:$E,5,0),AG19="","")} | AJ19: {=_xlfn.IFS(AI19="Monthly",VLOOKUP($O19,PM执行时间!$A:$E,2,0),AI19="Quarterly",VLOOKUP($O19,PM执行时间!$A:$E,3,0),AI19="Semi-an",VLOOKUP($O19,PM执行时间!$A:$E,4,0),AI19="Annual",VLOOKUP($O19,PM执行时间!$A:$E,5,0),AI19="","")} | AL19: {=_xlfn.IFS(AK19="Monthly",VLOOKUP($O19,PM执行时间!$A:$E,2,0),AK19="Quarterly",VLOOKUP($O19,PM执行时间!$A:$E,3,0),AK19="Semi-an",VLOOKUP($O19,PM执行时间!$A:$E,4,0),AK19="Annual",VLOOKUP($O19,PM执行时间!$A:$E,5,0),AK19="","")} | AN19: {=_xlfn.IFS(AM19="Monthly",VLOOKUP($O19,PM执行时间!$A:$E,2,0),AM19="Quarterly",VLOOKUP($O19,PM执行时间!$A:$E,3,0),AM19="Semi-an",VLOOKUP($O19,PM执行时间!$A:$E,4,0),AM19="Annual",VLOOKUP($O19,PM执行时间!$A:$E,5,0),AM19="","")} | AO19: 44713
A20: 39 | B20: =SUBTOTAL(3,G$3:G20)+0 -> 1 | D20: 311 | E20: 清洗线 | F20: QZ-5048-25B/02 | G20: 众强超声科技 | H20: 70301 | I20: 39203 | J20: B类 | K20: 运行中 | L20: KH一楼北 | M20: 39142 | N20: KH创伤单元 | O20: FM-P0024.02 | P20: 月 | Q20: Monthly | R20: {=_xlfn.IFS(Q20="Monthly",VLOOKUP($O20,PM执行时间!$A:$E,2,0),Q20="Quarterly",VLOOKUP($O20,PM执行时间!$A:$E,3,0),Q20="Semi-an",VLOOKUP($O20,PM执行时间!$A:$E,4,0),Q20="Annual",VLOOKUP($O20,PM执行时间!$A:$E,5,0),Q20="","")} -> 1 | S20: Monthly | T20: {=_xlfn.IFS(S20="Monthly",VLOOKUP($O20,PM执行时间!$A:$E,2,0),S20="Quarterly",VLOOKUP($O20,PM执行时间!$A:$E,3,0),S20="Semi-an",VLOOKUP($O20,PM执行时间!$A:$E,4,0),S20="Annual",VLOOKUP($O20,PM执行时间!$A:$E,5,0),S20="","")} -> 1 | U20: Monthly | V20: {=_xlfn.IFS(U20="Monthly",VLOOKUP($O20,PM执行时间!$A:$E,2,0),U20="Quarterly",VLOOKUP($O20,PM执行时间!$A:$E,3,0),U20="Semi-an",VLOOKUP($O20,PM执行时间!$A:$E,4,0),U20="Annual",VLOOKUP($O20,PM执行时间!$A:$E,5,0),U20="","")} -> 1 | W20: Monthly | X20: {=_xlfn.IFS(W20="Monthly",VLOOKUP($O20,PM执行时间!$A:$E,2,0),W20="Quarterly",VLOOKUP($O20,PM执行时间!$A:$E,3,0),W20="Semi-an",VLOOKUP($O20,PM执行时间!$A:$E,4,0),W20="Annual",VLOOKUP($O20,PM执行时间!$A:$E,5,0),W20="","")} -> 1 | Y20: Monthly | Z20: {=_xlfn.IFS(Y20="Monthly",VLOOKUP($O20,PM执行时间!$A:$E,2,0),Y20="Quarterly",VLOOKUP($O20,PM执行时间!$A:$E,3,0),Y20="Semi-an",VLOOKUP($O20,PM执行时间!$A:$E,4,0),Y20="Annual",VLOOKUP($O20,PM执行时间!$A:$E,5,0),Y20="","")} -> 1 | AA20: Monthly | AB20: {=_xlfn.IFS(AA20="Monthly",VLOOKUP($O20,PM执行时间!$A:$E,2,0),AA20="Quarterly",VLOOKUP($O20,PM执行时间!$A:$E,3,0),AA20="Semi-an",VLOOKUP($O20,PM执行时间!$A:$E,4,0),AA20="Annual",VLOOKUP($O20,PM执行时间!$A:$E,5,0),AA20="","")} -> 1 | AC20: Monthly | AD20: {=_xlfn.IFS(AC20="Monthly",VLOOKUP($O20,PM执行时间!$A:$E,2,0),AC20="Quarterly",VLOOKUP($O20,PM执行时间!$A:$E,3,0),AC20="Semi-an",VLOOKUP($O20,PM执行时间!$A:$E,4,0),AC20="Annual",VLOOKUP($O20,PM执行时间!$A:$E,5,0),AC20="","")} -> 1 | AE20: Monthly | AF20: {=_xlfn.IFS(AE20="Monthly",VLOOKUP($O20,PM执行时间!$A:$E,2,0),AE20="Quarterly",VLOOKUP($O20,PM执行时间!$A:$E,3,0),AE20="Semi-an",VLOOKUP($O20,PM执行时间!$A:$E,4,0),AE20="Annual",VLOOKUP($O20,PM执行时间!$A:$E,5,0),AE20="","")} -> 1 | AG20: Monthly | AH20: {=_xlfn.IFS(AG20="Monthly",VLOOKUP($O20,PM执行时间!$A:$E,2,0),AG20="Quarterly",VLOOKUP($O20,PM执行时间!$A:$E,3,0),AG20="Semi-an",VLOOKUP($O20,PM执行时间!$A:$E,4,0),AG20="Annual",VLOOKUP($O20,PM执行时间!$A:$E,5,0),AG20="","")} -> 1 | AI20: Monthly | AJ20: {=_xlfn.IFS(AI20="Monthly",VLOOKUP($O20,PM执行时间!$A:$E,2,0),AI20="Quarterly",VLOOKUP($O20,PM执行时间!$A:$E,3,0),AI20="Semi-an",VLOOKUP($O20,PM执行时间!$A:$E,4,0),AI20="Annual",VLOOKUP($O20,PM执行时间!$A:$E,5,0),AI20="","")} -> 1 | AK20: Monthly | AL20: {=_xlfn.IFS(AK20="Monthly",VLOOKUP($O20,PM执行时间!$A:$E,2,0),AK20="Quarterly",VLOOKUP($O20,PM执行时间!$A:$E,3,0),AK20="Semi-an",VLOOKUP($O20,PM执行时间!$A:$E,4,0),AK20="Annual",VLOOKUP($O20,PM执行时间!$A:$E,5,0),AK20="","")} -> 1 | AM20: Monthly | AN20: {=_xlfn.IFS(AM20="Monthly",VLOOKUP($O20,PM执行时间!$A:$E,2,0),AM20="Quarterly",VLOOKUP($O20,PM执行时间!$A:$E,3,0),AM20="Semi-an",VLOOKUP($O20,PM执行时间!$A:$E,4,0),AM20="Annual",VLOOKUP($O20,PM执行时间!$A:$E,5,0),AM20="","")} -> 1 | AO20: 44805 | AP20: 3/16-3/20
A21: 19 | B21: =SUBTOTAL(3,G$3:G21)+0 -> 1 | D21: 234 | E21: 线切割机床 | F21: FW2 | G21: 北京阿奇夏米尔 | H21: 035-005 | I21: 38657 | J21: B类 | K21: 运行中 | L21: KH一楼东南 | M21: 2005 | N21: KH脊柱单元 | O21: FM-P0028.02 | P21: 年 | Q21: Annual | R21: {=_xlfn.IFS(Q21="Monthly",VLOOKUP($O21,PM执行时间!$A:$E,2,0),Q21="Quarterly",VLOOKUP($O21,PM执行时间!$A:$E,3,0),Q21="Semi-an",VLOOKUP($O21,PM执行时间!$A:$E,4,0),Q21="Annual",VLOOKUP($O21,PM执行时间!$A:$E,5,0),Q21="","")} -> 1 | T21: {=_xlfn.IFS(S21="Monthly",VLOOKUP($O21,PM执行时间!$A:$E,2,0),S21="Quarterly",VLOOKUP($O21,PM执行时间!$A:$E,3,0),S21="Semi-an",VLOOKUP($O21,PM执行时间!$A:$E,4,0),S21="Annual",VLOOKUP($O21,PM执行时间!$A:$E,5,0),S21="","")} | V21: {=_xlfn.IFS(U21="Monthly",VLOOKUP($O21,PM执行时间!$A:$E,2,0),U21="Quarterly",VLOOKUP($O21,PM执行时间!$A:$E,3,0),U21="Semi-an",VLOOKUP($O21,PM执行时间!$A:$E,4,0),U21="Annual",VLOOKUP($O21,PM执行时间!$A:$E,5,0),U21="","")} | X21: {=_xlfn.IFS(W21="Monthly",VLOOKUP($O21,PM执行时间!$A:$E,2,0),W21="Quarterly",VLOOKUP($O21,PM执行时间!$A:$E,3,0),W21="Semi-an",VLOOKUP($O21,PM执行时间!$A:$E,4,0),W21="Annual",VLOOKUP($O21,PM执行时间!$A:$E,5,0),W21="","")} | Z21: {=_xlfn.IFS(Y21="Monthly",VLOOKUP($O21,PM执行时间!$A:$E,2,0),Y21="Quarterly",VLOOKUP($O21,PM执行时间!$A:$E,3,0),Y21="Semi-an",VLOOKUP($O21,PM执行时间!$A:$E,4,0),Y21="Annual",VLOOKUP($O21,PM执行时间!$A:$E,5,0),Y21="","")} | AB21: {=_xlfn.IFS(AA21="Monthly",VLOOKUP($O21,PM执行时间!$A:$E,2,0),AA21="Quarterly",VLOOKUP($O21,PM执行时间!$A:$E,3,0),AA21="Semi-an",VLOOKUP($O21,PM执行时间!$A:$E,4,0),AA21="Annual",VLOOKUP($O21,PM执行时间!$A:$E,5,0),AA21="","")} | AD21: {=_xlfn.IFS(AC21="Monthly",VLOOKUP($O21,PM执行时间!$A:$E,2,0),AC21="Quarterly",VLOOKUP($O21,PM执行时间!$A:$E,3,0),AC21="Semi-an",VLOOKUP($O21,PM执行时间!$A:$E,4,0),AC21="Annual",VLOOKUP($O21,PM执行时间!$A:$E,5,0),AC21="","")} | AF21: {=_xlfn.IFS(AE21="Monthly",VLOOKUP($O21,PM执行时间!$A:$E,2,0),AE21="Quarterly",VLOOKUP($O21,PM执行时间!$A:$E,3,0),AE21="Semi-an",VLOOKUP($O21,PM执行时间!$A:$E,4,0),AE21="Annual",VLOOKUP($O21,PM执行时间!$A:$E,5,0),AE21="","")} | AH21: {=_xlfn.IFS(AG21="Monthly",VLOOKUP($O21,PM执行时间!$A:$E,2,0),AG21="Quarterly",VLOOKUP($O21,PM执行时间!$A:$E,3,0),AG21="Semi-an",VLOOKUP($O21,PM执行时间!$A:$E,4,0),AG21="Annual",VLOOKUP($O21,PM执行时间!$A:$E,5,0),AG21="","")} | AJ21: {=_xlfn.IFS(AI21="Monthly",VLOOKUP($O21,PM执行时间!$A:$E,2,0),AI21="Quarterly",VLOOKUP($O21,PM执行时间!$A:$E,3,0),AI21="Semi-an",VLOOKUP($O21,PM执行时间!$A:$E,4,0),AI21="Annual",VLOOKUP($O21,PM执行时间!$A:$E,5,0),AI21="","")} | AL21: {=_xlfn.IFS(AK21="Monthly",VLOOKUP($O21,PM执行时间!$A:$E,2,0),AK21="Quarterly",VLOOKUP($O21,PM执行时间!$A:$E,3,0),AK21="Semi-an",VLOOKUP($O21,PM执行时间!$A:$E,4,0),AK21="Annual",VLOOKUP($O21,PM执行时间!$A:$E,5,0),AK21="","")} | AN21: {=_xlfn.IFS(AM21="Monthly",VLOOKUP($O21,PM执行时间!$A:$E,2,0),AM21="Quarterly",VLOOKUP($O21,PM执行时间!$A:$E,3,0),AM21="Semi-an",VLOOKUP($O21,PM执行时间!$A:$E,4,0),AM21="Annual",VLOOKUP($O21,PM执行时间!$A:$E,5,0),AM21="","")} | AO21: 44562
A22: 20 | B22: =SUBTOTAL(3,G$3:G22)+0 -> 1 | D22: 235 | E22: 纵切机床 | F22: SR-20RII | G22: STAR精密株式会社 | H22: 1075 | I22: 38687 | J22: A类 | K22: 运行中 | L22: KH一楼正西 | M22: 38626 | N22: KH脊柱单元 | O22: WI-021-R03 | P22: 季度/半年/年 | Q22: Semi-an | R22: {=_xlfn.IFS(Q22="Monthly",VLOOKUP($O22,PM执行时间!$A:$E,2,0),Q22="Quarterly",VLOOKUP($O22,PM执行时间!$A:$E,3,0),Q22="Semi-an",VLOOKUP($O22,PM执行时间!$A:$E,4,0),Q22="Annual",VLOOKUP($O22,PM执行时间!$A:$E,5,0),Q22="","")} -> 1.42 | T22: {=_xlfn.IFS(S22="Monthly",VLOOKUP($O22,PM执行时间!$A:$E,2,0),S22="Quarterly",VLOOKUP($O22,PM执行时间!$A:$E,3,0),S22="Semi-an",VLOOKUP($O22,PM执行时间!$A:$E,4,0),S22="Annual",VLOOKUP($O22,PM执行时间!$A:$E,5,0),S22="","")} | V22: {=_xlfn.IFS(U22="Monthly",VLOOKUP($O22,PM执行时间!$A:$E,2,0),U22="Quarterly",VLOOKUP($O22,PM执行时间!$A:$E,3,0),U22="Semi-an",VLOOKUP($O22,PM执行时间!$A:$E,4,0),U22="Annual",VLOOKUP($O22,PM执行时间!$A:$E,5,0),U22="","")} | W22: Quarterly | X22: {=_xlfn.IFS(W22="Monthly",VLOOKUP($O22,PM执行时间!$A:$E,2,0),W22="Quarterly",VLOOKUP($O22,PM执行时间!$A:$E,3,0),W22="Semi-an",VLOOKUP($O22,PM执行时间!$A:$E,4,0),W22="Annual",VLOOKUP($O22,PM执行时间!$A:$E,5,0),W22="","")} -> 1 | Z22: {=_xlfn.IFS(Y22="Monthly",VLOOKUP($O22,PM执行时间!$A:$E,2,0),Y22="Quarterly",VLOOKUP($O22,PM执行时间!$A:$E,3,0),Y22="Semi-an",VLOOKUP($O22,PM执行时间!$A:$E,4,0),Y22="Annual",VLOOKUP($O22,PM执行时间!$A:$E,5,0),Y22="","")} | AB22: {=_xlfn.IFS(AA22="Monthly",VLOOKUP($O22,PM执行时间!$A:$E,2,0),AA22="Quarterly",VLOOKUP($O22,PM执行时间!$A:$E,3,0),AA22="Semi-an",VLOOKUP($O22,PM执行时间!$A:$E,4,0),AA22="Annual",VLOOKUP($O22,PM执行时间!$A:$E,5,0),AA22="","")} | AC22: Annual | AD22: {=_xlfn.IFS(AC22="Monthly",VLOOKUP($O22,PM执行时间!$A:$E,2,0),AC22="Quarterly",VLOOKUP($O22,PM执行时间!$A:$E,3,0),AC22="Semi-an",VLOOKUP($O22,PM执行时间!$A:$E,4,0),AC22="Annual",VLOOKUP($O22,PM执行时间!$A:$E,5,0),AC22="","")} -> 1.67 | AF22: {=_xlfn.IFS(AE22="Monthly",VLOOKUP($O22,PM执行时间!$A:$E,2,0),AE22="Quarterly",VLOOKUP($O22,PM执行时间!$A:$E,3,0),AE22="Semi-an",VLOOKUP($O22,PM执行时间!$A:$E,4,0),AE22="Annual",VLOOKUP($O22,PM执行时间!$A:$E,5,0),AE22="","")} | AH22: {=_xlfn.IFS(AG22="Monthly",VLOOKUP($O22,PM执行时间!$A:$E,2,0),AG22="Quarterly",VLOOKUP($O22,PM执行时间!$A:$E,3,0),AG22="Semi-an",VLOOKUP($O22,PM执行时间!$A:$E,4,0),AG22="Annual",VLOOKUP($O22,PM执行时间!$A:$E,5,0),AG22="","")} | AI22: Quarterly | AJ22: {=_xlfn.IFS(AI22="Monthly",VLOOKUP($O22,PM执行时间!$A:$E,2,0),AI22="Quarterly",VLOOKUP($O22,PM执行时间!$A:$E,3,0),AI22="Semi-an",VLOOKUP($O22,PM执行时间!$A:$E,4,0),AI22="Annual",VLOOKUP($O22,PM执行时间!$A:$E,5,0),AI22="","")} -> 1 | AL22: {=_xlfn.IFS(AK22="Monthly",VLOOKUP($O22,PM执行时间!$A:$E,2,0),AK22="Quarterly",VLOOKUP($O22,PM执行时间!$A:$E,3,0),AK22="Semi-an",VLOOKUP($O22,PM执行时间!$A:$E,4,0),AK22="Annual",VLOOKUP($O22,PM执行时间!$A:$E,5,0),AK22="","")} | AN22: {=_xlfn.IFS(AM22="Monthly",VLOOKUP($O22,PM执行时间!$A:$E,2,0),AM22="Quarterly",VLOOKUP($O22,PM执行时间!$A:$E,3,0),AM22="Semi-an",VLOOKUP($O22,PM执行时间!$A:$E,4,0),AM22="Annual",VLOOKUP($O22,PM执行时间!$A:$E,5,0),AM22="","")} | AO22: 44743
