Workbook

Sheet Tabelle1
A1: No. 序号 | B1: Start Time Day/hour/minute 报修时间 日/时/分 | C1: Equipment ID 设备编号 | D1: Equipment Name 设备名称 | E1: Equipment Type 设备类型 | F1: Repair Unit 报修单元 | G1: Unit Leader 单元长 | H1: Fault Description 故障描述 | I1: Repair/personnel/ 维修人员 | J1: 有无产品评估信息
A2: 1 | B2: 44837 | C2: 971 | D2: =IFERROR(VLOOKUP(C2,[1]所有历史设备类别新旧数据!B:H,2,0),"") -> 纵切机床 | E2: =IFERROR(VLOOKUP(C2,[1]所有历史设备类别新旧数据!B:H,3,0),"") -> A类 | F2: =IFERROR(VLOOKUP(C2,[1]所有历史设备类别新旧数据!B:H,5,0),"") -> OEM植入物 | G2: =IFERROR(VLOOKUP(C2,[1]所有历史设备类别新旧数据!B:H,6,0),"") -> 王成 | H2: 背轴顶料杆异常报警 | I2: 钟敏 | J2: 有
A3: 2 | B3: 44837 | C3: 997 | D3: =IFERROR(VLOOKUP(C3,[1]所有历史设备类别新旧数据!B:H,2,0),"") -> 4轴加工中心 | E3: =IFERROR(VLOOKUP(C3,[1]所有历史设备类别新旧数据!B:H,3,0),"") -> A类 | F3: =IFERROR(VLOOKUP(C3,[1]所有历史设备类别新旧数据!B:H,5,0),"") -> OEM器械(裴雪峰) | G3: =IFERROR(VLOOKUP(C3,[1]所有历史设备类别新旧数据!B:H,6,0),"") -> 裴雪峰 | H3: 机床开机无电，开不了机 | I3: 钟敏 | J3: 有
A4: 3 | B4: 44837 | C4: 562 | D4: =IFERROR(VLOOKUP(C4,[1]所有历史设备类别新旧数据!B:H,2,0),"") -> 五轴磨床 | E4: =IFERROR(VLOOKUP(C4,[1]所有历史设备类别新旧数据!B:H,3,0),"") -> A类 | F4: =IFERROR(VLOOKUP(C4,[1]所有历史设备类别新旧数据!B:H,5,0),"") -> OEM器械(刘忠甜) | G4: =IFERROR(VLOOKUP(C4,[1]所有历史设备类别新旧数据!B:H,6,0),"") -> 刘忠甜 | H4: 机床报警 | I4: 王杨杨 | J4: 有
A5: 4 | B5: 44837 | C5: 1074 | D5: =IFERROR(VLOOKUP(C5,[1]所有历史设备类别新旧数据!B:H,2,0),"") -> 纵切机床 | E5: =IFERROR(VLOOKUP(C5,[1]所有历史设备类别新旧数据!B:H,3,0),"") -> A类 | F5: =IFERROR(VLOOKUP(C5,[1]所有历史设备类别新旧数据!B:H,5,0),"") -> OEM植入物 | G5: =IFERROR(VLOOKUP(C5,[1]所有历史设备类别新旧数据!B:H,6,0),"") -> 王成 | H5: 机床漏油 | I5: 王杨杨 | J5: 有
A6: 5 | B6: 44837.333 | C6: 982 | D6: =IFERROR(VLOOKUP(C6,[1]所有历史设备类别新旧数据!B:H,2,0),"") -> 加工中心 | E6: =IFERROR(VLOOKUP(C6,[1]所有历史设备类别新旧数据!B:H,3,0),"") -> A类 | F6: =IFERROR(VLOOKUP(C6,[1]所有历史设备类别新旧数据!B:H,5,0),"") -> OEM器械(裴雪峰) | G6: =IFERROR(VLOOKUP(C6,[1]所有历史设备类别新旧数据!B:H,6,0),"") -> 裴雪峰 | H6: 4145 ALARM—DMCS驱动单元外部冷却风扇停止1 | I6: 钟敏 | J6: 有
A7: 6 | B7: 44837.333 | C7: 726 | D7: =IFERROR(VLOOKUP(C7,[1]所有历史设备类别新旧数据!B:H,2,0),"") -> 加工中心 | E7: =IFERROR(VLOOKUP(C7,[1]所有历史设备类别新旧数据!B:H,3,0),"") -> A类 | F7: =IFERROR(VLOOKUP(C7,[1]所有历史设备类别新旧数据!B:H,5,0),"") -> OEM器械(裴雪峰) | G7: =IFERROR(VLOOKUP(C7,[1]所有历史设备类别新旧数据!B:H,6,0),"") -> 裴雪峰 | H7: 4148-14 ALARM-D MCS供电单元外部冷却风扇停止 | I7: 钟敏 | J7: 有
A8: 7 | B8: 44837.34 | C8: 718 | D8: =IFERROR(VLOOKUP(C8,[1]所有历史设备类别新旧数据!B:H,2,0),"") -> 抛光机 | E8: =IFERROR(VLOOKUP(C8,[1]所有历史设备类别新旧数据!B:H,3,0),"") -> B类 | F8: =IFERROR(VLOOKUP(C8,[1]所有历史设备类别新旧数据!B:H,5,0),"") -> OEM后处理 | G8: =IFERROR(VLOOKUP(C8,[1]所有历史设备类别新旧数据!B:H,6,0),"") -> 徐华伟 | H8: 设备不能启动 | I8: 钟敏/泽高 | J8: 有
A9: 8 | B9: 44837.354 | C9: 797 | D9: =IFERROR(VLOOKUP(C9,[1]所有历史设备类别新旧数据!B:H,2,0),"") -> 线切割机床 | E9: =IFERROR(VLOOKUP(C9,[1]所有历史设备类别新旧数据!B:H,3,0),"") -> B类 | F9: =IFERROR(VLOOKUP(C9,[1]所有历史设备类别新旧数据!B:H,5,0),"") -> OEM器械(裴雪峰) | G9: =IFERROR(VLOOKUP(C9,[1]所有历史设备类别新旧数据!B:H,6,0),"") -> 裴雪峰 | H9: 黑屏 | I9: 钟敏 | J9: 有
A10: 9 | B10: 44837.354 | C10: 698 | D10: =IFERROR(VLOOKUP(C10,[1]所有历史设备类别新旧数据!B:H,2,0),"") -> 深孔钻 | E10: =IFERROR(VLOOKUP(C10,[1]所有历史设备类别新旧数据!B:H,3,0),"") -> A类 | F10: =IFERROR(VLOOKUP(C10,[1]所有历史设备类别新旧数据!B:H,5,0),"") -> OEM器械(刘忠甜) | G10: =IFERROR(VLOOKUP(C10,[1]所有历史设备类别新旧数据!B:H,6,0),"") -> 刘忠甜 | H10: 1轴Z到达极限开关，导致机器报警，手动机器无反应 | I10: 王杨杨 | J10: 有
A11: 10 | B11: 44837.375 | C11: 816 | D11: =IFERROR(VLOOKUP(C11,[1]所有历史设备类别新旧数据!B:H,2,0),"") -> 加工中心 | E11: =IFERROR(VLOOKUP(C11,[1]所有历史设备类别新旧数据!B:H,3,0),"") -> A类 | F11: =IFERROR(VLOOKUP(C11,[1]所有历史设备类别新旧数据!B:H,5,0),"") -> OEM器械(裴雪峰) | G11: =IFERROR(VLOOKUP(C11,[1]所有历史设备类别新旧数据!B:H,6,0),"") -> 裴雪峰 | H11: 供电单元外部冷却风扇停止 | I11: 钟敏 | J11: 有
A12: 11 | B12: 44837.375 | C12: 806 | D12: =IFERROR(VLOOKUP(C12,[1]所有历史设备类别新旧数据!B:H,2,0),"") -> 加工中心 | E12: =IFERROR(VLOOKUP(C12,[1]所有历史设备类别新旧数据!B:H,3,0),"") -> A类 | F12: =IFERROR(VLOOKUP(C12,[1]所有历史设备类别新旧数据!B:H,5,0),"") -> OEM器械(裴雪峰) | G12: =IFERROR(VLOOKUP(C12,[1]所有历史设备类别新旧数据!B:H,6,0),"") -> 裴雪峰 | H12: 1719 ALARM-A控制电路断路器1报警 | I12: 钟敏 | J12: 有
A13: 12 | B13: 44837.389 | C13: 828 | D13: =IFERROR(VLOOKUP(C13,[1]所有历史设备类别新旧数据!B:H,2,0),"") -> 加工中心 | E13: =IFERROR(VLOOKUP(C13,[1]所有历史设备类别新旧数据!B:H,3,0),"") -> A类 | F13: =IFERROR(VLOOKUP(C13,[1]所有历史设备类别新旧数据!B:H,5,0),"") -> OEM器械(裴雪峰) | G13: =IFERROR(VLOOKUP(C13,[1]所有历史设备类别新旧数据!B:H,6,0),"") -> 裴雪峰 | H13: 4145-14 ALARM-D MCS驱动单元外部冷却风扇停止 | I13: 钟敏 | J13: 有
... A132: 131 | B132: 44858.333 | C132: 964 | D132: =IFERROR(VLOOKUP(C132,[1]所有历史设备类别新旧数据!B:H,2,0),"") -> 纵切机床 | E132: =IFERROR(VLOOKUP(C132,[1]所有历史设备类别新旧数据!B:H,3,0),"") -> A类 | F132: =IFERROR(VLOOKUP(C132,[1]所有历史设备类别新旧数据!B:H,5,0),"") -> OEM植入物 | G132: =IFERROR(VLOOKUP(C132,[1]所有历史设备类别新旧数据!B:H,6,0),"") -> 王成 | H132: 手轮故障 | I132: 钟敏 | J132: 有
A133: 132 | B133: 44858.333 | C133: 1064 | D133: =IFERROR(VLOOKUP(C133,[1]所有历史设备类别新旧数据!B:H,2,0),"") -> 纵切机床 | E133: =IFERROR(VLOOKUP(C133,[1]所有历史设备类别新旧数据!B:H,3,0),"") -> A类 | F133: OEM植入物 | G133: =IFERROR(VLOOKUP(C133,[1]所有历史设备类别新旧数据!B:H,6,0),"") -> 王成 | H133: 外部无法消除 | I133: 邹明轩/宗敏/刘长宏 | J133: 有
A134: 133 | B134: 44858.354 | C134: 503 | D134: =IFERROR(VLOOKUP(C134,[1]所有历史设备类别新旧数据!B:H,2,0),"") -> 车削中心 | E134: =IFERROR(VLOOKUP(C134,[1]所有历史设备类别新旧数据!B:H,3,0),"") -> A类 | F134: =IFERROR(VLOOKUP(C134,[1]所有历史设备类别新旧数据!B:H,5,0),"") -> OEM器械(刘忠甜) | G134: =IFERROR(VLOOKUP(C134,[1]所有历史设备类别新旧数据!B:H,6,0),"") -> 刘忠甜 | H134: 排屑器卡死 | I134: 邹明轩 | J134: 有
A135: 134 | B135: 44858.646 | C135: 1032 | D135: =IFERROR(VLOOKUP(C135,[1]所有历史设备类别新旧数据!B:H,2,0),"") -> 纵切机床 | E135: =IFERROR(VLOOKUP(C135,[1]所有历史设备类别新旧数据!B:H,3,0),"") -> A类 | F135: =IFERROR(VLOOKUP(C135,[1]所有历史设备类别新旧数据!B:H,5,0),"") -> OEM器械(刘忠甜) | G135: =IFERROR(VLOOKUP(C135,[1]所有历史设备类别新旧数据!B:H,6,0),"") -> 刘忠甜 | H135: 灭火器防护罩脱落，丢失 | I135: 邹明轩/宗敏 | J135: 有
A136: 135 | B136: 44859 | C136: 1241 | D136: =IFERROR(VLOOKUP(C136,[1]所有历史设备类别新旧数据!B:H,2,0),"") -> 纵切机床 | E136: =IFERROR(VLOOKUP(C136,[1]所有历史设备类别新旧数据!B:H,3,0),"") -> A类 | F136: =IFERROR(VLOOKUP(C136,[1]所有历史设备类别新旧数据!B:H,5,0),"") -> OEM植入物 | G136: =IFERROR(VLOOKUP(C136,[1]所有历史设备类别新旧数据!B:H,6,0),"") -> 王成 | H136: 背夹松不开 | I136: 钟敏/津特 | J136: 有
A137: 136 | B137: 44859.368 | C137: 737 | D137: =IFERROR(VLOOKUP(C137,[1]所有历史设备类别新旧数据!B:H,2,0),"") -> 车削中心 | E137: =IFERROR(VLOOKUP(C137,[1]所有历史设备类别新旧数据!B:H,3,0),"") -> A类 | F137: =IFERROR(VLOOKUP(C137,[1]所有历史设备类别新旧数据!B:H,5,0),"") -> OEM器械(刘忠甜) | G137: =IFERROR(VLOOKUP(C137,[1]所有历史设备类别新旧数据!B:H,6,0),"") -> 刘忠甜 | H137: 漏水漏油 | I137: 邹明轩 | J137: 有
A138: 137 | B138: 44859.427 | C138: 1241 | D138: 纵切 | E138: A类 | F138: OEM植入物 | G138: 王成 | H138: 螺丝滑牙拆不了 | I138: 邹明轩 | J138: 有
A139: 138 | B139: 44859.507 | C139: 880 | D139: =IFERROR(VLOOKUP(C139,[1]所有历史设备类别新旧数据!B:H,2,0),"") -> 车削中心 | E139: =IFERROR(VLOOKUP(C139,[1]所有历史设备类别新旧数据!B:H,3,0),"") -> A类 | F139: =IFERROR(VLOOKUP(C139,[1]所有历史设备类别新旧数据!B:H,5,0),"") -> OEM器械(刘忠甜) | G139: =IFERROR(VLOOKUP(C139,[1]所有历史设备类别新旧数据!B:H,6,0),"") -> 刘忠甜 | H139: 系统故障 | I139: 钟敏/厂家 | J139: 有
A140: 139 | B140: 44860 | C140: 800 | D140: =IFERROR(VLOOKUP(C140,[1]所有历史设备类别新旧数据!B:H,2,0),"") -> 线切割机床 | E140: =IFERROR(VLOOKUP(C140,[1]所有历史设备类别新旧数据!B:H,3,0),"") -> B类 | F140: =IFERROR(VLOOKUP(C140,[1]所有历史设备类别新旧数据!B:H,5,0),"") -> OEM器械(裴雪峰) | G140: =IFERROR(VLOOKUP(C140,[1]所有历史设备类别新旧数据!B:H,6,0),"") -> 裴雪峰 | H140: 水箱电机水泵不运转 | I140: 钟敏 | J140: 有
A141: 140 | B141: 44860 | C141: 1159 | D141: =IFERROR(VLOOKUP(C141,[1]所有历史设备类别新旧数据!B:H,2,0),"") -> 纵切机床 | E141: =IFERROR(VLOOKUP(C141,[1]所有历史设备类别新旧数据!B:H,3,0),"") -> A类 | F141: =IFERROR(VLOOKUP(C141,[1]所有历史设备类别新旧数据!B:H,5,0),"") -> OEM器械(刘忠甜) | G141: =IFERROR(VLOOKUP(C141,[1]所有历史设备类别新旧数据!B:H,6,0),"") -> 刘忠甜 | H141: 外部3报警，上限液位报警 | I141: 刘长宏/邹明轩 | J141: 有
A142: 141 | B142: 44860.333 | C142: 1103 | D142: =IFERROR(VLOOKUP(C142,[1]所有历史设备类别新旧数据!B:H,2,0),"") -> 纵切机床 | E142: =IFERROR(VLOOKUP(C142,[1]所有历史设备类别新旧数据!B:H,3,0),"") -> A类 | F142: =IFERROR(VLOOKUP(C142,[1]所有历史设备类别新旧数据!B:H,5,0),"") -> OEM植入物 | G142: =IFERROR(VLOOKUP(C142,[1]所有历史设备类别新旧数据!B:H,6,0),"") -> 王成 | H142: 传送带卡死 | I142: 邹明轩 | J142: 有
A143: 142 | B143: 44860.333 | C143: 503 | D143: =IFERROR(VLOOKUP(C143,[1]所有历史设备类别新旧数据!B:H,2,0),"") -> 车削中心 | E143: =IFERROR(VLOOKUP(C143,[1]所有历史设备类别新旧数据!B:H,3,0),"") -> A类 | F143: =IFERROR(VLOOKUP(C143,[1]所有历史设备类别新旧数据!B:H,5,0),"") -> OEM器械(刘忠甜) | G143: =IFERROR(VLOOKUP(C143,[1]所有历史设备类别新旧数据!B:H,6,0),"") -> 刘忠甜 | H143: 漏气 | I143: 邹明轩 | J143: 有
A144: 143 | B144: 44860.431 | C144: 991 | D144: =IFERROR(VLOOKUP(C144,[1]所有历史设备类别新旧数据!B:H,2,0),"") -> 电解线 | E144: =IFERROR(VLOOKUP(C144,[1]所有历史设备类别新旧数据!B:H,3,0),"") -> B类 | F144: =IFERROR(VLOOKUP(C144,[1]所有历史设备类别新旧数据!B:H,5,0),"") -> OEM后处理 | G144: =IFERROR(VLOOKUP(C144,[1]所有历史设备类别新旧数据!B:H,6,0),"") -> 徐华伟 | H144: 点动开关坏，1号槽加热管坏 | I144: 钟敏 | J144: 有
A145: 144 | B145: 44860.75 | C145: 416 | D145: =IFERROR(VLOOKUP(C145,[1]所有历史设备类别新旧数据!B:H,2,0),"") -> 加工中心 | E145: =IFERROR(VLOOKUP(C145,[1]所有历史设备类别新旧数据!B:H,3,0),"") -> A类 | F145: =IFERROR(VLOOKUP(C145,[1]所有历史设备类别新旧数据!B:H,5,0),"") -> OEM器械(裴雪峰) | G145: =IFERROR(VLOOKUP(C145,[1]所有历史设备类别新旧数据!B:H,6,0),"") -> 裴雪峰 | H145: 机床不换刀 | I145: 钟敏 | J145: 有
A146: 145 | B146: 44860.774 | C146: 702 | D146: =IFERROR(VLOOKUP(C146,[1]所有历史设备类别新旧数据!B:H,2,0),"") -> 注塑机 | E146: =IFERROR(VLOOKUP(C146,[1]所有历史设备类别新旧数据!B:H,3,0),"") -> B类 | F146: =IFERROR(VLOOKUP(C146,[1]所有历史设备类别新旧数据!B:H,5,0),"") -> OEM后处理 | G146: =IFERROR(VLOOKUP(C146,[1]所有历史设备类别新旧数据!B:H,6,0),"") -> 徐华伟 | H146: 模具超温 | I146: 钟敏 | J146: 有
A147: 146 | B147: 44861 | C147: 1067 | D147: =IFERROR(VLOOKUP(C147,[1]所有历史设备类别新旧数据!B:H,2,0),"") -> 纵切机床 | E147: =IFERROR(VLOOKUP(C147,[1]所有历史设备类别新旧数据!B:H,3,0),"") -> A类 | F147: =IFERROR(VLOOKUP(C147,[1]所有历史设备类别新旧数据!B:H,5,0),"") -> OEM植入物 | G147: =IFERROR(VLOOKUP(C147,[1]所有历史设备类别新旧数据!B:H,6,0),"") -> 王成 | H147: 高压油管开裂喷油 | I147: 邹明轩 | J147: 有
A148: 147 | B148: 44861.354 | C148: 998 | D148: =IFERROR(VLOOKUP(C148,[1]所有历史设备类别新旧数据!B:H,2,0),"") -> 4轴加工中心 | E148: =IFERROR(VLOOKUP(C148,[1]所有历史设备类别新旧数据!B:H,3,0),"") -> A类 | F148: =IFERROR(VLOOKUP(C148,[1]所有历史设备类别新旧数据!B:H,5,0),"") -> OEM器械(裴雪峰) | G148: =IFERROR(VLOOKUP(C148,[1]所有历史设备类别新旧数据!B:H,6,0),"") -> 裴雪峰 | H148: 切削液无法喷出 | I148: 邹明轩 | J148: 有
A149: 148 | B149: 44862 | C149: 1087 | D149: =IFERROR(VLOOKUP(C149,[1]所有历史设备类别新旧数据!B:H,2,0),"") -> 纵切机床 | E149: =IFERROR(VLOOKUP(C149,[1]所有历史设备类别新旧数据!B:H,3,0),"") -> A类 | F149: =IFERROR(VLOOKUP(C149,[1]所有历史设备类别新旧数据!B:H,5,0),"") -> OEM植入物 | G149: =IFERROR(VLOOKUP(C149,[1]所有历史设备类别新旧数据!B:H,6,0),"") -> 王成 | H149: 短料机下陷导致机床运行异响 | I149: 邹明轩 | J149: 有
A150: 149 | B150: 44862 | C150: 1073 | D150: =IFERROR(VLOOKUP(C150,[1]所有历史设备类别新旧数据!B:H,2,0),"") -> 纵切机床 | E150: =IFERROR(VLOOKUP(C150,[1]所有历史设备类别新旧数据!B:H,3,0),"") -> A类 | F150: =IFERROR(VLOOKUP(C150,[1]所有历史设备类别新旧数据!B:H,5,0),"") -> OEM植入物 | G150: =IFERROR(VLOOKUP(C150,[1]所有历史设备类别新旧数据!B:H,6,0),"") -> 王成 | H150: 机床内部灯管不亮 | I150: 宗斌 | J150: 有
... A196: 195 | B196: 44868.854 | C196: 883 | D196: =IFERROR(VLOOKUP(C196,[1]所有历史设备类别新旧数据!B:H,2,0),"") -> 纵切机床 | E196: =IFERROR(VLOOKUP(C196,[1]所有历史设备类别新旧数据!B:H,3,0),"") -> A类 | F196: =IFERROR(VLOOKUP(C196,[1]所有历史设备类别新旧数据!B:H,5,0),"") -> OEM植入物 | G196: =IFERROR(VLOOKUP(C196,[1]所有历史设备类别新旧数据!B:H,6,0),"") -> 王成 | H196: 背轴动力刀座无动力，刀具不转 | I196: 邹明轩/宗斌 | J196: 有
A197: 196 | B197: 44869 | C197: 1240 | D197: 纵切机床 | E197: A类 | F197: OEM植入物 | G197: 王成 | H197: 高压泵异常不供油 | I197: 邹明轩/王杨杨 | J197: 有
A198: 197 | B198: 44869.354 | C198: 769 | D198: =IFERROR(VLOOKUP(C198,[1]所有历史设备类别新旧数据!B:H,2,0),"") -> 线切割机床 | E198: =IFERROR(VLOOKUP(C198,[1]所有历史设备类别新旧数据!B:H,3,0),"") -> B类 | F198: =IFERROR(VLOOKUP(C198,[1]所有历史设备类别新旧数据!B:H,5,0),"") -> OEM器械(裴雪峰) | G198: =IFERROR(VLOOKUP(C198,[1]所有历史设备类别新旧数据!B:H,6,0),"") -> 裴雪峰 | H198: Y轴卡死 | I198: 泽高 | J198: 有
A199: 198 | B199: 44869.382 | C199: 562 | D199: =IFERROR(VLOOKUP(C199,[1]所有历史设备类别新旧数据!B:H,2,0),"") -> 五轴磨床 | E199: =IFERROR(VLOOKUP(C199,[1]所有历史设备类别新旧数据!B:H,3,0),"") -> A类 | F199: =IFERROR(VLOOKUP(C199,[1]所有历史设备类别新旧数据!B:H,5,0),"") -> OEM器械(刘忠甜) | G199: =IFERROR(VLOOKUP(C199,[1]所有历史设备类别新旧数据!B:H,6,0),"") -> 刘忠甜 | H199: 主轴刀柄锁紧报警 | I199: 刘长宏/姜元俊 | J199: 有
A200: 199 | B200: 44869.528 | C200: 741 | D200: =IFERROR(VLOOKUP(C200,[1]所有历史设备类别新旧数据!B:H,2,0),"") -> 线切割机床 | E200: =IFERROR(VLOOKUP(C200,[1]所有历史设备类别新旧数据!B:H,3,0),"") -> B类 | F200: =IFERROR(VLOOKUP(C200,[1]所有历史设备类别新旧数据!B:H,5,0),"") -> OEM器械(裴雪峰) | G200: =IFERROR(VLOOKUP(C200,[1]所有历史设备类别新旧数据!B:H,6,0),"") -> 裴雪峰 | H200: Y轴手控盒失灵 | I200: 宗斌/泽高/刘长宏 | J200: 有
A201: 200 | B201: 44869.562 | C201: 1023 | D201: =IFERROR(VLOOKUP(C201,[1]所有历史设备类别新旧数据!B:H,2,0),"") -> 4轴加工中心 | E201: =IFERROR(VLOOKUP(C201,[1]所有历史设备类别新旧数据!B:H,3,0),"") -> A类 | F201: =IFERROR(VLOOKUP(C201,[1]所有历史设备类别新旧数据!B:H,5,0),"") -> OEM器械(裴雪峰) | G201: =IFERROR(VLOOKUP(C201,[1]所有历史设备类别新旧数据!B:H,6,0),"") -> 裴雪峰 | H201: 机床报警 | I201: 朱文强 | J201: 有
A202: 201 | B202: 44870.494 | C202: 678 | D202: =IFERROR(VLOOKUP(C202,[1]所有历史设备类别新旧数据!B:H,2,0),"") -> 加工中心 | E202: =IFERROR(VLOOKUP(C202,[1]所有历史设备类别新旧数据!B:H,3,0),"") -> A类 | F202: =IFERROR(VLOOKUP(C202,[1]所有历史设备类别新旧数据!B:H,5,0),"") -> OEM器械(裴雪峰) | G202: =IFERROR(VLOOKUP(C202,[1]所有历史设备类别新旧数据!B:H,6,0),"") -> 裴雪峰 | H202: 电机锁住或检测器断线 | I202: 刘长宏 | J202: 有
A203: 202 | B203: 44872 | C203: 448 | D203: =IFERROR(VLOOKUP(C203,[1]所有历史设备类别新旧数据!B:H,2,0),"") -> 喷砂机 | E203: =IFERROR(VLOOKUP(C203,[1]所有历史设备类别新旧数据!B:H,3,0),"") -> B类 | F203: =IFERROR(VLOOKUP(C203,[1]所有历史设备类别新旧数据!B:H,5,0),"") -> OEM后处理 | G203: =IFERROR(VLOOKUP(C203,[1]所有历史设备类别新旧数据!B:H,6,0),"") -> 徐华伟 | H203: 喷砂机枪漏气 | I203: 王杨杨 | J203: 有
A204: 203 | B204: 44872.229 | C204: 1084 | D204: =IFERROR(VLOOKUP(C204,[1]所有历史设备类别新旧数据!B:H,2,0),"") -> 纵切机床 | E204: =IFERROR(VLOOKUP(C204,[1]所有历史设备类别新旧数据!B:H,3,0),"") -> A类 | F204: =IFERROR(VLOOKUP(C204,[1]所有历史设备类别新旧数据!B:H,5,0),"") -> OEM器械(刘忠甜) | G204: =IFERROR(VLOOKUP(C204,[1]所有历史设备类别新旧数据!B:H,6,0),"") -> 刘忠甜 | H204: 背轴卡工件 | I204: 王杨杨/尤宇杰 | J204: 有
A205: 204 | B205: 44872.292 | C205: 1238 | D205: 纵切机床 | E205: A类 | F205: OEM植入物 | G205: 王成 | H205: 外部报警取消不了 | I205: 宗斌/钟敏 | J205: 有
A206: 205 | B206: 44872.382 | C206: 897 | D206: =IFERROR(VLOOKUP(C206,[1]所有历史设备类别新旧数据!B:H,2,0),"") -> 钝化线 | E206: =IFERROR(VLOOKUP(C206,[1]所有历史设备类别新旧数据!B:H,3,0),"") -> B类 | F206: =IFERROR(VLOOKUP(C206,[1]所有历史设备类别新旧数据!B:H,5,0),"") -> OEM后处理 | G206: =IFERROR(VLOOKUP(C206,[1]所有历史设备类别新旧数据!B:H,6,0),"") -> 徐华伟 | H206: 钝化设备内部照明灯不亮 | I206: 钟敏 | J206: 有
A207: 206 | B207: 44872.448 | C207: 952 | D207: =IFERROR(VLOOKUP(C207,[1]所有历史设备类别新旧数据!B:H,2,0),"") -> 清洗机 | E207: =IFERROR(VLOOKUP(C207,[1]所有历史设备类别新旧数据!B:H,3,0),"") -> B类 | F207: =IFERROR(VLOOKUP(C207,[1]所有历史设备类别新旧数据!B:H,5,0),"") -> OEM后处理 | G207: =IFERROR(VLOOKUP(C207,[1]所有历史设备类别新旧数据!B:H,6,0),"") -> 徐华伟 | H207: 烘干机排风口故障 | I207: 王杨杨 | J207: 有
A208: 207 | B208: 44872.861 | C208: 319 | D208: =IFERROR(VLOOKUP(C208,[1]所有历史设备类别新旧数据!B:H,2,0),"") -> 车削中心 | E208: =IFERROR(VLOOKUP(C208,[1]所有历史设备类别新旧数据!B:H,3,0),"") -> A类 | F208: =IFERROR(VLOOKUP(C208,[1]所有历史设备类别新旧数据!B:H,5,0),"") -> OEM器械(刘忠甜) | G208: =IFERROR(VLOOKUP(C208,[1]所有历史设备类别新旧数据!B:H,6,0),"") -> 刘忠甜 | H208: 低电压，主轴驱动器故障 | I208: 宗斌、泽高 | J208: 有
A209: 208 | B209: 44873 | C209: 977 | D209: =IFERROR(VLOOKUP(C209,[1]所有历史设备类别新旧数据!B:H,2,0),"") -> 清洗机 | E209: =IFERROR(VLOOKUP(C209,[1]所有历史设备类别新旧数据!B:H,3,0),"") -> B类 | F209: =IFERROR(VLOOKUP(C209,[1]所有历史设备类别新旧数据!B:H,5,0),"") -> OEM后处理 | G209: =IFERROR(VLOOKUP(C209,[1]所有历史设备类别新旧数据!B:H,6,0),"") -> 徐华伟 | H209: 烘干机排风口故障 | I209: 王杨杨 | J209: 有
A210: 209 | B210: 44873 | C210: 1074 | D210: =IFERROR(VLOOKUP(C210,[1]所有历史设备类别新旧数据!B:H,2,0),"") -> 纵切机床 | E210: =IFERROR(VLOOKUP(C210,[1]所有历史设备类别新旧数据!B:H,3,0),"") -> A类 | F210: =IFERROR(VLOOKUP(C210,[1]所有历史设备类别新旧数据!B:H,5,0),"") -> OEM植入物 | G210: =IFERROR(VLOOKUP(C210,[1]所有历史设备类别新旧数据!B:H,6,0),"") -> 王成 | H210: 机床油管漏油 | I210: 王杨杨 | J210: 有
A211: 210 | B211: 44873 | C211: 897 | D211: =IFERROR(VLOOKUP(C211,[1]所有历史设备类别新旧数据!B:H,2,0),"") -> 钝化线 | E211: =IFERROR(VLOOKUP(C211,[1]所有历史设备类别新旧数据!B:H,3,0),"") -> B类 | F211: =IFERROR(VLOOKUP(C211,[1]所有历史设备类别新旧数据!B:H,5,0),"") -> OEM后处理 | G211: =IFERROR(VLOOKUP(C211,[1]所有历史设备类别新旧数据!B:H,6,0),"") -> 徐华伟 | H211: 13#槽机械臂无法精确停到位置取不出活，自动报警 | I211: 刘飞/宗斌/钟敏/刘长宏 | J211: 有
A212: 211 | B212: 44873.333 | C212: 361 | D212: =IFERROR(VLOOKUP(C212,[1]所有历史设备类别新旧数据!B:H,2,0),"") -> 纵切机床 | E212: =IFERROR(VLOOKUP(C212,[1]所有历史设备类别新旧数据!B:H,3,0),"") -> A类 | F212: =IFERROR(VLOOKUP(C212,[1]所有历史设备类别新旧数据!B:H,5,0),"") -> OEM器械(刘忠甜) | G212: =IFERROR(VLOOKUP(C212,[1]所有历史设备类别新旧数据!B:H,6,0),"") -> 刘忠甜 | H212: 机床漏油 | I212: 王杨杨 | J212: 有
A213: 212 | B213: 44874.41 | C213: 1033 | D213: =IFERROR(VLOOKUP(C213,[1]所有历史设备类别新旧数据!B:H,2,0),"") -> 纵切机床 | E213: =IFERROR(VLOOKUP(C213,[1]所有历史设备类别新旧数据!B:H,3,0),"") -> A类 | F213: =IFERROR(VLOOKUP(C213,[1]所有历史设备类别新旧数据!B:H,5,0),"") -> OEM器械(刘忠甜) | G213: =IFERROR(VLOOKUP(C213,[1]所有历史设备类别新旧数据!B:H,6,0),"") -> 刘忠甜 | H213: 排刀架x方向无法过零位，会非常停止 | I213: 刘长宏 | J213: 有
A214: 213 | B214: 44874.427 | C214: 702 | D214: =IFERROR(VLOOKUP(C214,[1]所有历史设备类别新旧数据!B:H,2,0),"") -> 注塑机 | E214: =IFERROR(VLOOKUP(C214,[1]所有历史设备类别新旧数据!B:H,3,0),"") -> B类 | F214: =IFERROR(VLOOKUP(C214,[1]所有历史设备类别新旧数据!B:H,5,0),"") -> OEM后处理 | G214: =IFERROR(VLOOKUP(C214,[1]所有历史设备类别新旧数据!B:H,6,0),"") -> 徐华伟 | H214: 冷却水管进胶 | I214: 王杨杨 | J214: 有
A215: 214 | B215: 44874.625 | C215: 851 | D215: =IFERROR(VLOOKUP(C215,[1]所有历史设备类别新旧数据!B:H,2,0),"") -> 加工中心 | E215: =IFERROR(VLOOKUP(C215,[1]所有历史设备类别新旧数据!B:H,3,0),"") -> A类 | F215: =IFERROR(VLOOKUP(C215,[1]所有历史设备类别新旧数据!B:H,5,0),"") -> OEM器械(裴雪峰) | G215: =IFERROR(VLOOKUP(C215,[1]所有历史设备类别新旧数据!B:H,6,0),"") -> 裴雪峰 | H215: 中心出水报警 | I215: 宗斌/钟敏 | J215: 有
A216: 215 | B216: 44874.701 | C216: 880 | D216: =IFERROR(VLOOKUP(C216,[1]所有历史设备类别新旧数据!B:H,2,0),"") -> 车削中心 | E216: =IFERROR(VLOOKUP(C216,[1]所有历史设备类别新旧数据!B:H,3,0),"") -> A类 | F216: =IFERROR(VLOOKUP(C216,[1]所有历史设备类别新旧数据!B:H,5,0),"") -> OEM器械(刘忠甜) | G216: =IFERROR(VLOOKUP(C216,[1]所有历史设备类别新旧数据!B:H,6,0),"") -> 刘忠甜 | H216: 卡盘夹紧故障 | I216: 宗斌/钟敏 | J216: 有
A217: 216 | B217: 44875 | C217: 341 | D217: =IFERROR(VLOOKUP(C217,[1]所有历史设备类别新旧数据!B:H,2,0),"") -> 加工中心 | E217: =IFERROR(VLOOKUP(C217,[1]所有历史设备类别新旧数据!B:H,3,0),"") -> A类 | F217: =IFERROR(VLOOKUP(C217,[1]所有历史设备类别新旧数据!B:H,5,0),"") -> OEM器械(裴雪峰) | G217: =IFERROR(VLOOKUP(C217,[1]所有历史设备类别新旧数据!B:H,6,0),"") -> 裴雪峰 | H217: 漏液 | I217: 王杨杨 | J217: 有
... A533: 532 | B533: 44957.361 | C533: 882 | D533: =IFERROR(VLOOKUP(C533,[1]所有历史设备类别新旧数据!B:H,2,0),"") -> 纵切机床 | E533: =IFERROR(VLOOKUP(C533,[1]所有历史设备类别新旧数据!B:H,3,0),"") -> A类 | F533: =IFERROR(VLOOKUP(C533,[1]所有历史设备类别新旧数据!B:H,5,0),"") -> OEM植入物 | G533: =IFERROR(VLOOKUP(C533,[1]所有历史设备类别新旧数据!B:H,6,0),"") -> 王成 | H533: 高压无力，频繁断刀 | I533: 邹明轩 | J533: 有
